Workbook

Sheet Tabulka
B2: Páteční tréninkové turnaje - sezóna 2025/2026
D3: 1 | E3: 2 | F3: 3 | G3: 4 | H3: 5 | I3: 6 | J3: 7 | K3: 8 | L3: 9 | M3: 10 | N3: 11 | P3: 12 | Q3: 13 | R3: 14 | S3: 15 | T3: 16 | U3: 17 | V3: 18 | W3: 18 | X3: 19 | Y3: 20 | Z3: 21 | AA3: 22 | AB3: 23 | AC3: 24 | AD3: 25 | AE3: 26 | AF3: 27
D4: 2.10. | E4: 9.10. | F4: 16.10. | G4: 23.10. | H4: 30.10. | I4: 6.11. | J4: 13.11. | K4: 20.11. | L4: 27.11. | M4: 4.12. | N4: 11.12. | O4: 20.12. | P4: 18.12. | Q4: 9.1. | R4: 16.1. | S4: 23.1. | T4: 30.1. | U4: 6.2. | V4: 3.3. | W4: 13.2. | X4: 20.2. | Y4: 6.3. | Z4: 13.3. | AA4: 20.3. | AB4: 27.3. | AC4: 3.4. | AD4: 10.4. | AE4: 17.4. | AF4: 24.4.
D5: =List1!B3 -> 11 | E5: =List1!E3 -> 0 | F5: =List1!H3 -> 0 | G5: =List1!K3 -> 0 | H5: =List1!N3 -> 0 | I5: =List1!Q3 -> 0 | J5: =List1!T3 -> 0 | K5: =List1!W3 -> 0 | L5: =List1!Z3 -> 0 | M5: =List1!AC3 -> 0 | N5: =List1!AF3 -> 0 | O5: =List1!AE3 -> 0 | P5: =List1!AI3 -> 8 | Q5: =List1!AO3 -> 0 | R5: =List1!AR3 -> 0 | S5: =List1!AU3 -> 0 | T5: =List1!AX3 -> 0 | U5: =List1!BA3 -> 0 | V5: =List1!AO3 -> 0 | W5: =List1!BG3 -> 0 | X5: =List1!BJ3 -> 0 | Y5: =List1!BM3 -> 0 | Z5: =List1!BP3 -> 0 | AA5: =List1!BS3 -> 0 | AB5: =List1!BV3 -> 0 | AC5: =List1!BY3 -> 0 | AD5: =List1!CB3 -> 0 | AE5: =List1!CE3 -> 0 | AF5: =List1!CH3 -> 0 | AG5: Best 15 | AH5: Celkem | AI5: Úspěšnost
B6: 1. | C6: Rastočný Josef ml. | D6: =IFERROR(VLOOKUP($C6,List1!$B$4:$C$23,2,FALSE),"") -> 11 | E6: =IFERROR(VLOOKUP($C6,List1!$E$4:$F$23,2,FALSE),"") | F6: =IFERROR(VLOOKUP($C6,List1!$H$4:$I$23,2,FALSE),"") | G6: =IFERROR(VLOOKUP($C6,List1!$K$4:$L$23,2,FALSE),"") | H6: =IFERROR(VLOOKUP($C6,List1!$N$4:$O$23,2,FALSE),"") | I6: =IFERROR(VLOOKUP($C6,List1!$Q$4:$R$23,2,FALSE),"") | J6: =IFERROR(VLOOKUP($C6,List1!$T$4:$U$23,2,FALSE),"") | K6: =IFERROR(VLOOKUP($C6,List1!$W$4:$X$23,2,FALSE),"") | L6: =IFERROR(VLOOKUP($C6,List1!$Z$4:$AA$23,2,FALSE),"") | M6: =IFERROR(VLOOKUP($C6,List1!$AC$4:$AD$23,2,FALSE),"") | N6: =IFERROR(VLOOKUP($C6,List1!$AF$4:$AG$23,2,FALSE),"") | P6: =IFERROR(VLOOKUP($C6,List1!$AL$4:$AM$23,2,FALSE),"") | Q6: =IFERROR(VLOOKUP($C6,List1!$AO$4:$AP$23,2,FALSE),"") | R6: =IFERROR(VLOOKUP($C6,List1!$AR$4:$AS$23,2,FALSE),"") | S6: =IFERROR(VLOOKUP($C6,List1!$AU$4:$AV$23,2,FALSE),"") | T6: =IFERROR(VLOOKUP($C6,List1!$AX$4:$AY$23,2,FALSE),"") | U6: =IFERROR(VLOOKUP($C6,List1!$BA$4:$BB$23,2,FALSE),"") | V6: =IFERROR(VLOOKUP($C6,List1!$BD$4:$BE$23,2,FALSE),"") | W6: =IFERROR(VLOOKUP($C6,List1!$BG$4:$BH$23,2,FALSE),"") | X6: =IFERROR(VLOOKUP($C6,List1!$BJ$4:$BK$23,2,FALSE),"") | Y6: =IFERROR(VLOOKUP($C6,List1!$BM$4:$BN$23,2,FALSE),"") | Z6: =IFERROR(VLOOKUP($C6,List1!$BP$4:$BQ$23,2,FALSE),"") | AA6: =IFERROR(VLOOKUP($C6,List1!$BS$4:$BT$23,2,FALSE),"") | AB6: =IFERROR(VLOOKUP($C6,List1!$BV$4:$BW$23,2,FALSE),"") | AC6: =IFERROR(VLOOKUP($C6,List1!$BY$4:$BZ$23,2,FALSE),"") | AD6: =IFERROR(VLOOKUP($C6,List1!$CB$4:$CC$23,2,FALSE),"") | AE6: =IFERROR(VLOOKUP($C6,List1!$CE$4:$CF$23,2,FALSE),"") | AF6: =IFERROR(VLOOKUP($C6,List1!$CH$4:$CI$23,2,FALSE),"") | AG6: =VLOOKUP(C6,'Pomocná data'!AE:BF,28,FALSE) -> 11 | AH6: =SUM(D6:AF6) -> 11 | AI6: =IF(AH6=0,"",SUM(D6:AF6)/(SUMIF(D6:AF6,">0",$D$5:$AF$5))) -> 1
B7: 2. | C7: Hašuĺ Martin | D7: =IFERROR(VLOOKUP($C7,List1!$B$4:$C$23,2,FALSE),"") -> 10 | E7: =IFERROR(VLOOKUP($C7,List1!$E$4:$F$23,2,FALSE),"") | F7: =IFERROR(VLOOKUP($C7,List1!$H$4:$I$23,2,FALSE),"") | G7: =IFERROR(VLOOKUP($C7,List1!$K$4:$L$23,2,FALSE),"") | H7: =IFERROR(VLOOKUP($C7,List1!$N$4:$O$23,2,FALSE),"") | I7: =IFERROR(VLOOKUP($C7,List1!$Q$4:$R$23,2,FALSE),"") | J7: =IFERROR(VLOOKUP($C7,List1!$T$4:$U$23,2,FALSE),"") | K7: =IFERROR(VLOOKUP($C7,List1!$W$4:$X$23,2,FALSE),"") | L7: =IFERROR(VLOOKUP($C7,List1!$Z$4:$AA$23,2,FALSE),"") | M7: =IFERROR(VLOOKUP($C7,List1!$AC$4:$AD$23,2,FALSE),"") | N7: =IFERROR(VLOOKUP($C7,List1!$AF$4:$AG$23,2,FALSE),"") | P7: =IFERROR(VLOOKUP($C7,List1!$AL$4:$AM$23,2,FALSE),"") | Q7: =IFERROR(VLOOKUP($C7,List1!$AO$4:$AP$23,2,FALSE),"") | R7: =IFERROR(VLOOKUP($C7,List1!$AR$4:$AS$23,2,FALSE),"") | S7: =IFERROR(VLOOKUP($C7,List1!$AU$4:$AV$23,2,FALSE),"") | T7: =IFERROR(VLOOKUP($C7,List1!$AX$4:$AY$23,2,FALSE),"") | U7: =IFERROR(VLOOKUP($C7,List1!$BA$4:$BB$23,2,FALSE),"") | V7: =IFERROR(VLOOKUP($C7,List1!$BD$4:$BE$23,2,FALSE),"") | W7: =IFERROR(VLOOKUP($C7,List1!$BG$4:$BH$23,2,FALSE),"") | X7: =IFERROR(VLOOKUP($C7,List1!$BJ$4:$BK$23,2,FALSE),"") | Y7: =IFERROR(VLOOKUP($C7,List1!$BM$4:$BN$23,2,FALSE),"") | Z7: =IFERROR(VLOOKUP($C7,List1!$BP$4:$BQ$23,2,FALSE),"") | AA7: =IFERROR(VLOOKUP($C7,List1!$BS$4:$BT$23,2,FALSE),"") | AB7: =IFERROR(VLOOKUP($C7,List1!$BV$4:$BW$23,2,FALSE),"") | AC7: =IFERROR(VLOOKUP($C7,List1!$BY$4:$BZ$23,2,FALSE),"") | AD7: =IFERROR(VLOOKUP($C7,List1!$CB$4:$CC$23,2,FALSE),"") | AE7: =IFERROR(VLOOKUP($C7,List1!$CE$4:$CF$23,2,FALSE),"") | AF7: =IFERROR(VLOOKUP($C7,List1!$CH$4:$CI$23,2,FALSE),"") | AG7: =VLOOKUP(C7,'Pomocná data'!AE:BF,28,FALSE) -> 10 | AH7: =SUM(D7:AF7) -> 10 | AI7: =IF(AH7=0,"",SUM(D7:AF7)/(SUMIF(D7:AF7,">0",$D$5:$AF$5))) -> 0.90909091
B8: 3. | C8: Rastočný Josef st. | D8: =IFERROR(VLOOKUP($C8,List1!$B$4:$C$23,2,FALSE),"") -> 9 | E8: =IFERROR(VLOOKUP($C8,List1!$E$4:$F$23,2,FALSE),"") | F8: =IFERROR(VLOOKUP($C8,List1!$H$4:$I$23,2,FALSE),"") | G8: =IFERROR(VLOOKUP($C8,List1!$K$4:$L$23,2,FALSE),"") | H8: =IFERROR(VLOOKUP($C8,List1!$N$4:$O$23,2,FALSE),"") | I8: =IFERROR(VLOOKUP($C8,List1!$Q$4:$R$23,2,FALSE),"") | J8: =IFERROR(VLOOKUP($C8,List1!$T$4:$U$23,2,FALSE),"") | K8: =IFERROR(VLOOKUP($C8,List1!$W$4:$X$23,2,FALSE),"") | L8: =IFERROR(VLOOKUP($C8,List1!$Z$4:$AA$23,2,FALSE),"") | M8: =IFERROR(VLOOKUP($C8,List1!$AC$4:$AD$23,2,FALSE),"") | N8: =IFERROR(VLOOKUP($C8,List1!$AF$4:$AG$23,2,FALSE),"") | P8: =IFERROR(VLOOKUP($C8,List1!$AL$4:$AM$23,2,FALSE),"") | Q8: =IFERROR(VLOOKUP($C8,List1!$AO$4:$AP$23,2,FALSE),"") | R8: =IFERROR(VLOOKUP($C8,List1!$AR$4:$AS$23,2,FALSE),"") | S8: =IFERROR(VLOOKUP($C8,List1!$AU$4:$AV$23,2,FALSE),"") | T8: =IFERROR(VLOOKUP($C8,List1!$AX$4:$AY$23,2,FALSE),"") | U8: =IFERROR(VLOOKUP($C8,List1!$BA$4:$BB$23,2,FALSE),"") | V8: =IFERROR(VLOOKUP($C8,List1!$BD$4:$BE$23,2,FALSE),"") | W8: =IFERROR(VLOOKUP($C8,List1!$BG$4:$BH$23,2,FALSE),"") | X8: =IFERROR(VLOOKUP($C8,List1!$BJ$4:$BK$23,2,FALSE),"") | Y8: =IFERROR(VLOOKUP($C8,List1!$BM$4:$BN$23,2,FALSE),"") | Z8: =IFERROR(VLOOKUP($C8,List1!$BP$4:$BQ$23,2,FALSE),"") | AA8: =IFERROR(VLOOKUP($C8,List1!$BS$4:$BT$23,2,FALSE),"") | AB8: =IFERROR(VLOOKUP($C8,List1!$BV$4:$BW$23,2,FALSE),"") | AC8: =IFERROR(VLOOKUP($C8,List1!$BY$4:$BZ$23,2,FALSE),"") | AD8: =IFERROR(VLOOKUP($C8,List1!$CB$4:$CC$23,2,FALSE),"") | AE8: =IFERROR(VLOOKUP($C8,List1!$CE$4:$CF$23,2,FALSE),"") | AF8: =IFERROR(VLOOKUP($C8,List1!$CH$4:$CI$23,2,FALSE),"") | AG8: =VLOOKUP(C8,'Pomocná data'!AE:BF,28,FALSE) -> 9 | AH8: =SUM(D8:AF8) -> 9 | AI8: =IF(AH8=0,"",SUM(D8:AF8)/(SUMIF(D8:AF8,">0",$D$5:$AF$5))) -> 0.81818182
B9: 4. | C9: Boldy Adrian | D9: =IFERROR(VLOOKUP($C9,List1!$B$4:$C$23,2,FALSE),"") -> 8 | E9: =IFERROR(VLOOKUP($C9,List1!$E$4:$F$23,2,FALSE),"") | F9: =IFERROR(VLOOKUP($C9,List1!$H$4:$I$23,2,FALSE),"") | G9: =IFERROR(VLOOKUP($C9,List1!$K$4:$L$23,2,FALSE),"") | H9: =IFERROR(VLOOKUP($C9,List1!$N$4:$O$23,2,FALSE),"") | I9: =IFERROR(VLOOKUP($C9,List1!$Q$4:$R$23,2,FALSE),"") | J9: =IFERROR(VLOOKUP($C9,List1!$T$4:$U$23,2,FALSE),"") | K9: =IFERROR(VLOOKUP($C9,List1!$W$4:$X$23,2,FALSE),"") | L9: =IFERROR(VLOOKUP($C9,List1!$Z$4:$AA$23,2,FALSE),"") | M9: =IFERROR(VLOOKUP($C9,List1!$AC$4:$AD$23,2,FALSE),"") | N9: =IFERROR(VLOOKUP($C9,List1!$AF$4:$AG$23,2,FALSE),"") | P9: =IFERROR(VLOOKUP($C9,List1!$AL$4:$AM$23,2,FALSE),"") | Q9: =IFERROR(VLOOKUP($C9,List1!$AO$4:$AP$23,2,FALSE),"") | R9: =IFERROR(VLOOKUP($C9,List1!$AR$4:$AS$23,2,FALSE),"") | S9: =IFERROR(VLOOKUP($C9,List1!$AU$4:$AV$23,2,FALSE),"") | T9: =IFERROR(VLOOKUP($C9,List1!$AX$4:$AY$23,2,FALSE),"") | U9: =IFERROR(VLOOKUP($C9,List1!$BA$4:$BB$23,2,FALSE),"") | V9: =IFERROR(VLOOKUP($C9,List1!$BD$4:$BE$23,2,FALSE),"") | W9: =IFERROR(VLOOKUP($C9,List1!$BG$4:$BH$23,2,FALSE),"") | X9: =IFERROR(VLOOKUP($C9,List1!$BJ$4:$BK$23,2,FALSE),"") | Y9: =IFERROR(VLOOKUP($C9,List1!$BM$4:$BN$23,2,FALSE),"") | Z9: =IFERROR(VLOOKUP($C9,List1!$BP$4:$BQ$23,2,FALSE),"") | AA9: =IFERROR(VLOOKUP($C9,List1!$BS$4:$BT$23,2,FALSE),"") | AB9: =IFERROR(VLOOKUP($C9,List1!$BV$4:$BW$23,2,FALSE),"") | AC9: =IFERROR(VLOOKUP($C9,List1!$BY$4:$BZ$23,2,FALSE),"") | AD9: =IFERROR(VLOOKUP($C9,List1!$CB$4:$CC$23,2,FALSE),"") | AE9: =IFERROR(VLOOKUP($C9,List1!$CE$4:$CF$23,2,FALSE),"") | AF9: =IFERROR(VLOOKUP($C9,List1!$CH$4:$CI$23,2,FALSE),"") | AG9: =VLOOKUP(C9,'Pomocná data'!AE:BF,28,FALSE) -> 8 | AH9: =SUM(D9:AF9) -> 8 | AI9: =IF(AH9=0,"",SUM(D9:AF9)/(SUMIF(D9:AF9,">0",$D$5:$AF$5))) -> 0.72727273
B10: 5. | C10: Koudelka Jiří | D10: =IFERROR(VLOOKUP($C10,List1!$B$4:$C$23,2,FALSE),"") -> 7 | E10: =IFERROR(VLOOKUP($C10,List1!$E$4:$F$23,2,FALSE),"") | F10: =IFERROR(VLOOKUP($C10,List1!$H$4:$I$23,2,FALSE),"") | G10: =IFERROR(VLOOKUP($C10,List1!$K$4:$L$23,2,FALSE),"") | H10: =IFERROR(VLOOKUP($C10,List1!$N$4:$O$23,2,FALSE),"") | I10: =IFERROR(VLOOKUP($C10,List1!$Q$4:$R$23,2,FALSE),"") | J10: =IFERROR(VLOOKUP($C10,List1!$T$4:$U$23,2,FALSE),"") | K10: =IFERROR(VLOOKUP($C10,List1!$W$4:$X$23,2,FALSE),"") | L10: =IFERROR(VLOOKUP($C10,List1!$Z$4:$AA$23,2,FALSE),"") | M10: =IFERROR(VLOOKUP($C10,List1!$AC$4:$AD$23,2,FALSE),"") | N10: =IFERROR(VLOOKUP($C10,List1!$AF$4:$AG$23,2,FALSE),"") | P10: =IFERROR(VLOOKUP($C10,List1!$AL$4:$AM$23,2,FALSE),"") | Q10: =IFERROR(VLOOKUP($C10,List1!$AO$4:$AP$23,2,FALSE),"") | R10: =IFERROR(VLOOKUP($C10,List1!$AR$4:$AS$23,2,FALSE),"") | S10: =IFERROR(VLOOKUP($C10,List1!$AU$4:$AV$23,2,FALSE),"") | T10: =IFERROR(VLOOKUP($C10,List1!$AX$4:$AY$23,2,FALSE),"") | U10: =IFERROR(VLOOKUP($C10,List1!$BA$4:$BB$23,2,FALSE),"") | V10: =IFERROR(VLOOKUP($C10,List1!$BD$4:$BE$23,2,FALSE),"") | W10: =IFERROR(VLOOKUP($C10,List1!$BG$4:$BH$23,2,FALSE),"") | X10: =IFERROR(VLOOKUP($C10,List1!$BJ$4:$BK$23,2,FALSE),"") | Y10: =IFERROR(VLOOKUP($C10,List1!$BM$4:$BN$23,2,FALSE),"") | Z10: =IFERROR(VLOOKUP($C10,List1!$BP$4:$BQ$23,2,FALSE),"") | AA10: =IFERROR(VLOOKUP($C10,List1!$BS$4:$BT$23,2,FALSE),"") | AB10: =IFERROR(VLOOKUP($C10,List1!$BV$4:$BW$23,2,FALSE),"") | AC10: =IFERROR(VLOOKUP($C10,List1!$BY$4:$BZ$23,2,FALSE),"") | AD10: =IFERROR(VLOOKUP($C10,List1!$CB$4:$CC$23,2,FALSE),"") | AE10: =IFERROR(VLOOKUP($C10,List1!$CE$4:$CF$23,2,FALSE),"") | AF10: =IFERROR(VLOOKUP($C10,List1!$CH$4:$CI$23,2,FALSE),"") | AG10: =VLOOKUP(C10,'Pomocná data'!AE:BF,28,FALSE) -> 7 | AH10: =SUM(D10:AF10) -> 7 | AI10: =IF(AH10=0,"",SUM(D10:AF10)/(SUMIF(D10:AF10,">0",$D$5:$AF$5))) -> 0.63636364
B11: 6. | C11: Holub Antonín | D11: =IFERROR(VLOOKUP($C11,List1!$B$4:$C$23,2,FALSE),"") -> 6 | E11: =IFERROR(VLOOKUP($C11,List1!$E$4:$F$23,2,FALSE),"") | F11: =IFERROR(VLOOKUP($C11,List1!$H$4:$I$23,2,FALSE),"") | G11: =IFERROR(VLOOKUP($C11,List1!$K$4:$L$23,2,FALSE),"") | H11: =IFERROR(VLOOKUP($C11,List1!$N$4:$O$23,2,FALSE),"") | I11: =IFERROR(VLOOKUP($C11,List1!$Q$4:$R$23,2,FALSE),"") | J11: =IFERROR(VLOOKUP($C11,List1!$T$4:$U$23,2,FALSE),"") | K11: =IFERROR(VLOOKUP($C11,List1!$W$4:$X$23,2,FALSE),"") | L11: =IFERROR(VLOOKUP($C11,List1!$Z$4:$AA$23,2,FALSE),"") | M11: =IFERROR(VLOOKUP($C11,List1!$AC$4:$AD$23,2,FALSE),"") | N11: =IFERROR(VLOOKUP($C11,List1!$AF$4:$AG$23,2,FALSE),"") | P11: =IFERROR(VLOOKUP($C11,List1!$AL$4:$AM$23,2,FALSE),"") | Q11: =IFERROR(VLOOKUP($C11,List1!$AO$4:$AP$23,2,FALSE),"") | R11: =IFERROR(VLOOKUP($C11,List1!$AR$4:$AS$23,2,FALSE),"") | S11: =IFERROR(VLOOKUP($C11,List1!$AU$4:$AV$23,2,FALSE),"") | T11: =IFERROR(VLOOKUP($C11,List1!$AX$4:$AY$23,2,FALSE),"") | U11: =IFERROR(VLOOKUP($C11,List1!$BA$4:$BB$23,2,FALSE),"") | V11: =IFERROR(VLOOKUP($C11,List1!$BD$4:$BE$23,2,FALSE),"") | W11: =IFERROR(VLOOKUP($C11,List1!$BG$4:$BH$23,2,FALSE),"") | X11: =IFERROR(VLOOKUP($C11,List1!$BJ$4:$BK$23,2,FALSE),"") | Y11: =IFERROR(VLOOKUP($C11,List1!$BM$4:$BN$23,2,FALSE),"") | Z11: =IFERROR(VLOOKUP($C11,List1!$BP$4:$BQ$23,2,FALSE),"") | AA11: =IFERROR(VLOOKUP($C11,List1!$BS$4:$BT$23,2,FALSE),"") | AB11: =IFERROR(VLOOKUP($C11,List1!$BV$4:$BW$23,2,FALSE),"") | AC11: =IFERROR(VLOOKUP($C11,List1!$BY$4:$BZ$23,2,FALSE),"") | AD11: =IFERROR(VLOOKUP($C11,List1!$CB$4:$CC$23,2,FALSE),"") | AE11: =IFERROR(VLOOKUP($C11,List1!$CE$4:$CF$23,2,FALSE),"") | AF11: =IFERROR(VLOOKUP($C11,List1!$CH$4:$CI$23,2,FALSE),"") | AG11: =VLOOKUP(C11,'Pomocná data'!AE:BF,28,FALSE) -> 6 | AH11: =SUM(D11:AF11) -> 6 | AI11: =IF(AH11=0,"",SUM(D11:AF11)/(SUMIF(D11:AF11,">0",$D$5:$AF$5))) -> 0.54545455
B12: 7. | C12: Hnát Miroslav | D12: =IFERROR(VLOOKUP($C12,List1!$B$4:$C$23,2,FALSE),"") -> 5 | E12: =IFERROR(VLOOKUP($C12,List1!$E$4:$F$23,2,FALSE),"") | F12: =IFERROR(VLOOKUP($C12,List1!$H$4:$I$23,2,FALSE),"") | G12: =IFERROR(VLOOKUP($C12,List1!$K$4:$L$23,2,FALSE),"") | H12: =IFERROR(VLOOKUP($C12,List1!$N$4:$O$23,2,FALSE),"") | I12: =IFERROR(VLOOKUP($C12,List1!$Q$4:$R$23,2,FALSE),"") | J12: =IFERROR(VLOOKUP($C12,List1!$T$4:$U$23,2,FALSE),"") | K12: =IFERROR(VLOOKUP($C12,List1!$W$4:$X$23,2,FALSE),"") | L12: =IFERROR(VLOOKUP($C12,List1!$Z$4:$AA$23,2,FALSE),"") | M12: =IFERROR(VLOOKUP($C12,List1!$AC$4:$AD$23,2,FALSE),"") | N12: =IFERROR(VLOOKUP($C12,List1!$AF$4:$AG$23,2,FALSE),"") | P12: =IFERROR(VLOOKUP($C12,List1!$AL$4:$AM$23,2,FALSE),"") | Q12: =IFERROR(VLOOKUP($C12,List1!$AO$4:$AP$23,2,FALSE),"") | R12: =IFERROR(VLOOKUP($C12,List1!$AR$4:$AS$23,2,FALSE),"") | S12: =IFERROR(VLOOKUP($C12,List1!$AU$4:$AV$23,2,FALSE),"") | T12: =IFERROR(VLOOKUP($C12,List1!$AX$4:$AY$23,2,FALSE),"") | U12: =IFERROR(VLOOKUP($C12,List1!$BA$4:$BB$23,2,FALSE),"") | V12: =IFERROR(VLOOKUP($C12,List1!$BD$4:$BE$23,2,FALSE),"") | W12: =IFERROR(VLOOKUP($C12,List1!$BG$4:$BH$23,2,FALSE),"") | X12: =IFERROR(VLOOKUP($C12,List1!$BJ$4:$BK$23,2,FALSE),"") | Y12: =IFERROR(VLOOKUP($C12,List1!$BM$4:$BN$23,2,FALSE),"") | Z12: =IFERROR(VLOOKUP($C12,List1!$BP$4:$BQ$23,2,FALSE),"") | AA12: =IFERROR(VLOOKUP($C12,List1!$BS$4:$BT$23,2,FALSE),"") | AB12: =IFERROR(VLOOKUP($C12,List1!$BV$4:$BW$23,2,FALSE),"") | AC12: =IFERROR(VLOOKUP($C12,List1!$BY$4:$BZ$23,2,FALSE),"") | AD12: =IFERROR(VLOOKUP($C12,List1!$CB$4:$CC$23,2,FALSE),"") | AE12: =IFERROR(VLOOKUP($C12,List1!$CE$4:$CF$23,2,FALSE),"") | AF12: =IFERROR(VLOOKUP($C12,List1!$CH$4:$CI$23,2,FALSE),"") | AG12: =VLOOKUP(C12,'Pomocná data'!AE:BF,28,FALSE) -> 5 | AH12: =SUM(D12:AF12) -> 5 | AI12: =IF(AH12=0,"",SUM(D12:AF12)/(SUMIF(D12:AF12,">0",$D$5:$AF$5))) -> 0.45454545
B13: 8. | C13: Chmelík Ladislav | D13: =IFERROR(VLOOKUP($C13,List1!$B$4:$C$23,2,FALSE),"") -> 4 | E13: =IFERROR(VLOOKUP($C13,List1!$E$4:$F$23,2,FALSE),"") | F13: =IFERROR(VLOOKUP($C13,List1!$H$4:$I$23,2,FALSE),"") | G13: =IFERROR(VLOOKUP($C13,List1!$K$4:$L$23,2,FALSE),"") | H13: =IFERROR(VLOOKUP($C13,List1!$N$4:$O$23,2,FALSE),"") | I13: =IFERROR(VLOOKUP($C13,List1!$Q$4:$R$23,2,FALSE),"") | J13: =IFERROR(VLOOKUP($C13,List1!$T$4:$U$23,2,FALSE),"") | K13: =IFERROR(VLOOKUP($C13,List1!$W$4:$X$23,2,FALSE),"") | L13: =IFERROR(VLOOKUP($C13,List1!$Z$4:$AA$23,2,FALSE),"") | M13: =IFERROR(VLOOKUP($C13,List1!$AC$4:$AD$23,2,FALSE),"") | N13: =IFERROR(VLOOKUP($C13,List1!$AF$4:$AG$23,2,FALSE),"") | P13: =IFERROR(VLOOKUP($C13,List1!$AL$4:$AM$23,2,FALSE),"") | Q13: =IFERROR(VLOOKUP($C13,List1!$AO$4:$AP$23,2,FALSE),"") | R13: =IFERROR(VLOOKUP($C13,List1!$AR$4:$AS$23,2,FALSE),"") | S13: =IFERROR(VLOOKUP($C13,List1!$AU$4:$AV$23,2,FALSE),"") | T13: =IFERROR(VLOOKUP($C13,List1!$AX$4:$AY$23,2,FALSE),"") | U13: =IFERROR(VLOOKUP($C13,List1!$BA$4:$BB$23,2,FALSE),"") | V13: =IFERROR(VLOOKUP($C13,List1!$BD$4:$BE$23,2,FALSE),"") | W13: =IFERROR(VLOOKUP($C13,List1!$BG$4:$BH$23,2,FALSE),"") | X13: =IFERROR(VLOOKUP($C13,List1!$BJ$4:$BK$23,2,FALSE),"") | Y13: =IFERROR(VLOOKUP($C13,List1!$BM$4:$BN$23,2,FALSE),"") | Z13: =IFERROR(VLOOKUP($C13,List1!$BP$4:$BQ$23,2,FALSE),"") | AA13: =IFERROR(VLOOKUP($C13,List1!$BS$4:$BT$23,2,FALSE),"") | AB13: =IFERROR(VLOOKUP($C13,List1!$BV$4:$BW$23,2,FALSE),"") | AC13: =IFERROR(VLOOKUP($C13,List1!$BY$4:$BZ$23,2,FALSE),"") | AD13: =IFERROR(VLOOKUP($C13,List1!$CB$4:$CC$23,2,FALSE),"") | AE13: =IFERROR(VLOOKUP($C13,List1!$CE$4:$CF$23,2,FALSE),"") | AF13: =IFERROR(VLOOKUP($C13,List1!$CH$4:$CI$23,2,FALSE),"") | AG13: =VLOOKUP(C13,'Pomocná data'!AE:BF,28,FALSE) -> 4 | AH13: =SUM(D13:AF13) -> 4 | AI13: =IF(AH13=0,"",SUM(D13:AF13)/(SUMIF(D13:AF13,">0",$D$5:$AF$5))) -> 0.36363636
B14: 9. | C14: Kubeček Michal | D14: =IFERROR(VLOOKUP($C14,List1!$B$4:$C$23,2,FALSE),"") -> 3 | E14: =IFERROR(VLOOKUP($C14,List1!$E$4:$F$23,2,FALSE),"") | F14: =IFERROR(VLOOKUP($C14,List1!$H$4:$I$23,2,FALSE),"") | G14: =IFERROR(VLOOKUP($C14,List1!$K$4:$L$23,2,FALSE),"") | H14: =IFERROR(VLOOKUP($C14,List1!$N$4:$O$23,2,FALSE),"") | I14: =IFERROR(VLOOKUP($C14,List1!$Q$4:$R$23,2,FALSE),"") | J14: =IFERROR(VLOOKUP($C14,List1!$T$4:$U$23,2,FALSE),"") | K14: =IFERROR(VLOOKUP($C14,List1!$W$4:$X$23,2,FALSE),"") | L14: =IFERROR(VLOOKUP($C14,List1!$Z$4:$AA$23,2,FALSE),"") | M14: =IFERROR(VLOOKUP($C14,List1!$AC$4:$AD$23,2,FALSE),"") | N14: =IFERROR(VLOOKUP($C14,List1!$AF$4:$AG$23,2,FALSE),"") | P14: =IFERROR(VLOOKUP($C14,List1!$AL$4:$AM$23,2,FALSE),"") | Q14: =IFERROR(VLOOKUP($C14,List1!$AO$4:$AP$23,2,FALSE),"") | R14: =IFERROR(VLOOKUP($C14,List1!$AR$4:$AS$23,2,FALSE),"") | S14: =IFERROR(VLOOKUP($C14,List1!$AU$4:$AV$23,2,FALSE),"") | T14: =IFERROR(VLOOKUP($C14,List1!$AX$4:$AY$23,2,FALSE),"") | U14: =IFERROR(VLOOKUP($C14,List1!$BA$4:$BB$23,2,FALSE),"") | V14: =IFERROR(VLOOKUP($C14,List1!$BD$4:$BE$23,2,FALSE),"") | W14: =IFERROR(VLOOKUP($C14,List1!$BG$4:$BH$23,2,FALSE),"") | X14: =IFERROR(VLOOKUP($C14,List1!$BJ$4:$BK$23,2,FALSE),"") | Y14: =IFERROR(VLOOKUP($C14,List1!$BM$4:$BN$23,2,FALSE),"") | Z14: =IFERROR(VLOOKUP($C14,List1!$BP$4:$BQ$23,2,FALSE),"") | AA14: =IFERROR(VLOOKUP($C14,List1!$BS$4:$BT$23,2,FALSE),"") | AB14: =IFERROR(VLOOKUP($C14,List1!$BV$4:$BW$23,2,FALSE),"") | AC14: =IFERROR(VLOOKUP($C14,List1!$BY$4:$BZ$23,2,FALSE),"") | AD14: =IFERROR(VLOOKUP($C14,List1!$CB$4:$CC$23,2,FALSE),"") | AE14: =IFERROR(VLOOKUP($C14,List1!$CE$4:$CF$23,2,FALSE),"") | AF14: =IFERROR(VLOOKUP($C14,List1!$CH$4:$CI$23,2,FALSE),"") | AG14: =VLOOKUP(C14,'Pomocná data'!AE:BF,28,FALSE) -> 3 | AH14: =SUM(D14:AF14) -> 3 | AI14: =IF(AH14=0,"",SUM(D14:AF14)/(SUMIF(D14:AF14,">0",$D$5:$AF$5))) -> 0.27272727
B15: 10. | C15: Krejbich Lukáš | D15: =IFERROR(VLOOKUP($C15,List1!$B$4:$C$23,2,FALSE),"") -> 2 | E15: =IFERROR(VLOOKUP($C15,List1!$E$4:$F$23,2,FALSE),"") | F15: =IFERROR(VLOOKUP($C15,List1!$H$4:$I$23,2,FALSE),"") | G15: =IFERROR(VLOOKUP($C15,List1!$K$4:$L$23,2,FALSE),"") | H15: =IFERROR(VLOOKUP($C15,List1!$N$4:$O$23,2,FALSE),"") | I15: =IFERROR(VLOOKUP($C15,List1!$Q$4:$R$23,2,FALSE),"") | J15: =IFERROR(VLOOKUP($C15,List1!$T$4:$U$23,2,FALSE),"") | K15: =IFERROR(VLOOKUP($C15,List1!$W$4:$X$23,2,FALSE),"") | L15: =IFERROR(VLOOKUP($C15,List1!$Z$4:$AA$23,2,FALSE),"") | M15: =IFERROR(VLOOKUP($C15,List1!$AC$4:$AD$23,2,FALSE),"") | N15: =IFERROR(VLOOKUP($C15,List1!$AF$4:$AG$23,2,FALSE),"") | P15: =IFERROR(VLOOKUP($C15,List1!$AL$4:$AM$23,2,FALSE),"") | Q15: =IFERROR(VLOOKUP($C15,List1!$AO$4:$AP$23,2,FALSE),"") | R15: =IFERROR(VLOOKUP($C15,List1!$AR$4:$AS$23,2,FALSE),"") | S15: =IFERROR(VLOOKUP($C15,List1!$AU$4:$AV$23,2,FALSE),"") | T15: =IFERROR(VLOOKUP($C15,List1!$AX$4:$AY$23,2,FALSE),"") | U15: =IFERROR(VLOOKUP($C15,List1!$BA$4:$BB$23,2,FALSE),"") | V15: =IFERROR(VLOOKUP($C15,List1!$BD$4:$BE$23,2,FALSE),"") | W15: =IFERROR(VLOOKUP($C15,List1!$BG$4:$BH$23,2,FALSE),"") | X15: =IFERROR(VLOOKUP($C15,List1!$BJ$4:$BK$23,2,FALSE),"") | Y15: =IFERROR(VLOOKUP($C15,List1!$BM$4:$BN$23,2,FALSE),"") | Z15: =IFERROR(VLOOKUP($C15,List1!$BP$4:$BQ$23,2,FALSE),"") | AA15: =IFERROR(VLOOKUP($C15,List1!$BS$4:$BT$23,2,FALSE),"") | AB15: =IFERROR(VLOOKUP($C15,List1!$BV$4:$BW$23,2,FALSE),"") | AC15: =IFERROR(VLOOKUP($C15,List1!$BY$4:$BZ$23,2,FALSE),"") | AD15: =IFERROR(VLOOKUP($C15,List1!$CB$4:$CC$23,2,FALSE),"") | AE15: =IFERROR(VLOOKUP($C15,List1!$CE$4:$CF$23,2,FALSE),"") | AF15: =IFERROR(VLOOKUP($C15,List1!$CH$4:$CI$23,2,FALSE),"") | AG15: =VLOOKUP(C15,'Pomocná data'!AE:BF,28,FALSE) -> 2 | AH15: =SUM(D15:AF15) -> 2 | AI15: =IF(AH15=0,"",SUM(D15:AF15)/(SUMIF(D15:AF15,">0",$D$5:$AF$5))) -> 0.18181818
B16: 11. | C16: Plichta Tomáš | D16: =IFERROR(VLOOKUP($C16,List1!$B$4:$C$23,2,FALSE),"") -> 1 | E16: =IFERROR(VLOOKUP($C16,List1!$E$4:$F$23,2,FALSE),"") | F16: =IFERROR(VLOOKUP($C16,List1!$H$4:$I$23,2,FALSE),"") | G16: =IFERROR(VLOOKUP($C16,List1!$K$4:$L$23,2,FALSE),"") | H16: =IFERROR(VLOOKUP($C16,List1!$N$4:$O$23,2,FALSE),"") | I16: =IFERROR(VLOOKUP($C16,List1!$Q$4:$R$23,2,FALSE),"") | J16: =IFERROR(VLOOKUP($C16,List1!$T$4:$U$23,2,FALSE),"") | K16: =IFERROR(VLOOKUP($C16,List1!$W$4:$X$23,2,FALSE),"") | L16: =IFERROR(VLOOKUP($C16,List1!$Z$4:$AA$23,2,FALSE),"") | M16: =IFERROR(VLOOKUP($C16,List1!$AC$4:$AD$23,2,FALSE),"") | N16: =IFERROR(VLOOKUP($C16,List1!$AF$4:$AG$23,2,FALSE),"") | P16: =IFERROR(VLOOKUP($C16,List1!$AL$4:$AM$23,2,FALSE),"") | Q16: =IFERROR(VLOOKUP($C16,List1!$AO$4:$AP$23,2,FALSE),"") | R16: =IFERROR(VLOOKUP($C16,List1!$AR$4:$AS$23,2,FALSE),"") | S16: =IFERROR(VLOOKUP($C16,List1!$AU$4:$AV$23,2,FALSE),"") | T16: =IFERROR(VLOOKUP($C16,List1!$AX$4:$AY$23,2,FALSE),"") | U16: =IFERROR(VLOOKUP($C16,List1!$BA$4:$BB$23,2,FALSE),"") | V16: =IFERROR(VLOOKUP($C16,List1!$BD$4:$BE$23,2,FALSE),"") | W16: =IFERROR(VLOOKUP($C16,List1!$BG$4:$BH$23,2,FALSE),"") | X16: =IFERROR(VLOOKUP($C16,List1!$BJ$4:$BK$23,2,FALSE),"") | Y16: =IFERROR(VLOOKUP($C16,List1!$BM$4:$BN$23,2,FALSE),"") | Z16: =IFERROR(VLOOKUP($C16,List1!$BP$4:$BQ$23,2,FALSE),"") | AA16: =IFERROR(VLOOKUP($C16,List1!$BS$4:$BT$23,2,FALSE),"") | AB16: =IFERROR(VLOOKUP($C16,List1!$BV$4:$BW$23,2,FALSE),"") | AC16: =IFERROR(VLOOKUP($C16,List1!$BY$4:$BZ$23,2,FALSE),"") | AD16: =IFERROR(VLOOKUP($C16,List1!$CB$4:$CC$23,2,FALSE),"") | AE16: =IFERROR(VLOOKUP($C16,List1!$CE$4:$CF$23,2,FALSE),"") | AF16: =IFERROR(VLOOKUP($C16,List1!$CH$4:$CI$23,2,FALSE),"") | AG16: =VLOOKUP(C16,'Pomocná data'!AE:BF,28,FALSE) -> 1 | AH16: =SUM(D16:AF16) -> 1 | AI16: =IF(AH16=0,"",SUM(D16:AF16)/(SUMIF(D16:AF16,">0",$D$5:$AF$5))) -> 0.090909091
B17: 12. | C17: Novotný Petr | D17: =IFERROR(VLOOKUP($C17,List1!$B$4:$C$23,2,FALSE),"") | E17: =IFERROR(VLOOKUP($C17,List1!$E$4:$F$23,2,FALSE),"") | F17: =IFERROR(VLOOKUP($C17,List1!$H$4:$I$23,2,FALSE),"") | G17: =IFERROR(VLOOKUP($C17,List1!$K$4:$L$23,2,FALSE),"") | H17: =IFERROR(VLOOKUP($C17,List1!$N$4:$O$23,2,FALSE),"") | I17: =IFERROR(VLOOKUP($C17,List1!$Q$4:$R$23,2,FALSE),"") | J17: =IFERROR(VLOOKUP($C17,List1!$T$4:$U$23,2,FALSE),"") | K17: =IFERROR(VLOOKUP($C17,List1!$W$4:$X$23,2,FALSE),"") | L17: =IFERROR(VLOOKUP($C17,List1!$Z$4:$AA$23,2,FALSE),"") | M17: =IFERROR(VLOOKUP($C17,List1!$AC$4:$AD$23,2,FALSE),"") | N17: =IFERROR(VLOOKUP($C17,List1!$AF$4:$AG$23,2,FALSE),"") | P17: =IFERROR(VLOOKUP($C17,List1!$AL$4:$AM$23,2,FALSE),"") | Q17: =IFERROR(VLOOKUP($C17,List1!$AO$4:$AP$23,2,FALSE),"") | R17: =IFERROR(VLOOKUP($C17,List1!$AR$4:$AS$23,2,FALSE),"") | S17: =IFERROR(VLOOKUP($C17,List1!$AU$4:$AV$23,2,FALSE),"") | T17: =IFERROR(VLOOKUP($C17,List1!$AX$4:$AY$23,2,FALSE),"") | U17: =IFERROR(VLOOKUP($C17,List1!$BA$4:$BB$23,2,FALSE),"") | V17: =IFERROR(VLOOKUP($C17,List1!$BD$4:$BE$23,2,FALSE),"") | W17: =IFERROR(VLOOKUP($C17,List1!$BG$4:$BH$23,2,FALSE),"") | X17: =IFERROR(VLOOKUP($C17,List1!$BJ$4:$BK$23,2,FALSE),"") | Y17: =IFERROR(VLOOKUP($C17,List1!$BM$4:$BN$23,2,FALSE),"") | Z17: =IFERROR(VLOOKUP($C17,List1!$BP$4:$BQ$23,2,FALSE),"") | AA17: =IFERROR(VLOOKUP($C17,List1!$BS$4:$BT$23,2,FALSE),"") | AB17: =IFERROR(VLOOKUP($C17,List1!$BV$4:$BW$23,2,FALSE),"") | AC17: =IFERROR(VLOOKUP($C17,List1!$BY$4:$BZ$23,2,FALSE),"") | AD17: =IFERROR(VLOOKUP($C17,List1!$CB$4:$CC$23,2,FALSE),"") | AE17: =IFERROR(VLOOKUP($C17,List1!$CE$4:$CF$23,2,FALSE),"") | AF17: =IFERROR(VLOOKUP($C17,List1!$CH$4:$CI$23,2,FALSE),"") | AG17: =VLOOKUP(C17,'Pomocná data'!AE:BF,28,FALSE) -> 0 | AH17: =SUM(D17:AF17) -> 0 | AI17: =IF(AH17=0,"",SUM(D17:AF17)/(SUMIF(D17:AF17,">0",$D$5:$AF$5)))
... B29: 24. | C29: Zimmermann Ladislav | D29: =IFERROR(VLOOKUP($C29,List1!$B$4:$C$23,2,FALSE),"") | E29: =IFERROR(VLOOKUP($C29,List1!$E$4:$F$23,2,FALSE),"") | F29: =IFERROR(VLOOKUP($C29,List1!$H$4:$I$23,2,FALSE),"") | G29: =IFERROR(VLOOKUP($C29,List1!$K$4:$L$23,2,FALSE),"") | H29: =IFERROR(VLOOKUP($C29,List1!$N$4:$O$23,2,FALSE),"") | I29: =IFERROR(VLOOKUP($C29,List1!$Q$4:$R$23,2,FALSE),"") | J29: =IFERROR(VLOOKUP($C29,List1!$T$4:$U$23,2,FALSE),"") | K29: =IFERROR(VLOOKUP($C29,List1!$W$4:$X$23,2,FALSE),"") | L29: =IFERROR(VLOOKUP($C29,List1!$Z$4:$AA$23,2,FALSE),"") | M29: =IFERROR(VLOOKUP($C29,List1!$AC$4:$AD$23,2,FALSE),"") | N29: =IFERROR(VLOOKUP($C29,List1!$AF$4:$AG$23,2,FALSE),"") | P29: =IFERROR(VLOOKUP($C29,List1!$AL$4:$AM$23,2,FALSE),"") | Q29: =IFERROR(VLOOKUP($C29,List1!$AO$4:$AP$23,2,FALSE),"") | R29: =IFERROR(VLOOKUP($C29,List1!$AR$4:$AS$23,2,FALSE),"") | S29: =IFERROR(VLOOKUP($C29,List1!$AU$4:$AV$23,2,FALSE),"") | T29: =IFERROR(VLOOKUP($C29,List1!$AX$4:$AY$23,2,FALSE),"") | U29: =IFERROR(VLOOKUP($C29,List1!$BA$4:$BB$23,2,FALSE),"") | V29: =IFERROR(VLOOKUP($C29,List1!$BD$4:$BE$23,2,FALSE),"") | W29: =IFERROR(VLOOKUP($C29,List1!$BG$4:$BH$23,2,FALSE),"") | X29: =IFERROR(VLOOKUP($C29,List1!$BJ$4:$BK$23,2,FALSE),"") | Y29: =IFERROR(VLOOKUP($C29,List1!$BM$4:$BN$23,2,FALSE),"") | Z29: =IFERROR(VLOOKUP($C29,List1!$BP$4:$BQ$23,2,FALSE),"") | AA29: =IFERROR(VLOOKUP($C29,List1!$BS$4:$BT$23,2,FALSE),"") | AB29: =IFERROR(VLOOKUP($C29,List1!$BV$4:$BW$23,2,FALSE),"") | AC29: =IFERROR(VLOOKUP($C29,List1!$BY$4:$BZ$23,2,FALSE),"") | AD29: =IFERROR(VLOOKUP($C29,List1!$CB$4:$CC$23,2,FALSE),"") | AE29: =IFERROR(VLOOKUP($C29,List1!$CE$4:$CF$23,2,FALSE),"") | AF29: =IFERROR(VLOOKUP($C29,List1!$CH$4:$CI$23,2,FALSE),"") | AG29: =VLOOKUP(C29,'Pomocná data'!AE:BF,28,FALSE) -> 0 | AH29: =SUM(D29:AF29) -> 0 | AI29: =IF(AH29=0,"",SUM(D29:AF29)/(SUMIF(D29:AF29,">0",$D$5:$AF$5)))
B30: 25. | C30: Skalický Petr ml. | D30: =IFERROR(VLOOKUP($C30,List1!$B$4:$C$23,2,FALSE),"") | E30: =IFERROR(VLOOKUP($C30,List1!$E$4:$F$23,2,FALSE),"") | F30: =IFERROR(VLOOKUP($C30,List1!$H$4:$I$23,2,FALSE),"") | G30: =IFERROR(VLOOKUP($C30,List1!$K$4:$L$23,2,FALSE),"") | H30: =IFERROR(VLOOKUP($C30,List1!$N$4:$O$23,2,FALSE),"") | I30: =IFERROR(VLOOKUP($C30,List1!$Q$4:$R$23,2,FALSE),"") | J30: =IFERROR(VLOOKUP($C30,List1!$T$4:$U$23,2,FALSE),"") | K30: =IFERROR(VLOOKUP($C30,List1!$W$4:$X$23,2,FALSE),"") | L30: =IFERROR(VLOOKUP($C30,List1!$Z$4:$AA$23,2,FALSE),"") | M30: =IFERROR(VLOOKUP($C30,List1!$AC$4:$AD$23,2,FALSE),"") | N30: =IFERROR(VLOOKUP($C30,List1!$AF$4:$AG$23,2,FALSE),"") | P30: =IFERROR(VLOOKUP($C30,List1!$AL$4:$AM$23,2,FALSE),"") | Q30: =IFERROR(VLOOKUP($C30,List1!$AO$4:$AP$23,2,FALSE),"") | R30: =IFERROR(VLOOKUP($C30,List1!$AR$4:$AS$23,2,FALSE),"") | S30: =IFERROR(VLOOKUP($C30,List1!$AU$4:$AV$23,2,FALSE),"") | T30: =IFERROR(VLOOKUP($C30,List1!$AX$4:$AY$23,2,FALSE),"") | U30: =IFERROR(VLOOKUP($C30,List1!$BA$4:$BB$23,2,FALSE),"") | V30: =IFERROR(VLOOKUP($C30,List1!$BD$4:$BE$23,2,FALSE),"") | W30: =IFERROR(VLOOKUP($C30,List1!$BG$4:$BH$23,2,FALSE),"") | X30: =IFERROR(VLOOKUP($C30,List1!$BJ$4:$BK$23,2,FALSE),"") | Y30: =IFERROR(VLOOKUP($C30,List1!$BM$4:$BN$23,2,FALSE),"") | Z30: =IFERROR(VLOOKUP($C30,List1!$BP$4:$BQ$23,2,FALSE),"") | AA30: =IFERROR(VLOOKUP($C30,List1!$BS$4:$BT$23,2,FALSE),"") | AB30: =IFERROR(VLOOKUP($C30,List1!$BV$4:$BW$23,2,FALSE),"") | AC30: =IFERROR(VLOOKUP($C30,List1!$BY$4:$BZ$23,2,FALSE),"") | AD30: =IFERROR(VLOOKUP($C30,List1!$CB$4:$CC$23,2,FALSE),"") | AE30: =IFERROR(VLOOKUP($C30,List1!$CE$4:$CF$23,2,FALSE),"") | AF30: =IFERROR(VLOOKUP($C30,List1!$CH$4:$CI$23,2,FALSE),"") | AH30: =SUM(D30:AF30) -> 0 | AI30: =IF(AH30=0,"",SUM(D30:AF30)/(SUMIF(D30:AF30,">0",$D$5:$AF$5)))
B31: 26. | C31: Niko Viliam | D31: =IFERROR(VLOOKUP($C31,List1!$B$4:$C$23,2,FALSE),"") | E31: =IFERROR(VLOOKUP($C31,List1!$E$4:$F$23,2,FALSE),"") | F31: =IFERROR(VLOOKUP($C31,List1!$H$4:$I$23,2,FALSE),"") | G31: =IFERROR(VLOOKUP($C31,List1!$K$4:$L$23,2,FALSE),"") | H31: =IFERROR(VLOOKUP($C31,List1!$N$4:$O$23,2,FALSE),"") | I31: =IFERROR(VLOOKUP($C31,List1!$Q$4:$R$23,2,FALSE),"") | J31: =IFERROR(VLOOKUP($C31,List1!$T$4:$U$23,2,FALSE),"") | K31: =IFERROR(VLOOKUP($C31,List1!$W$4:$X$23,2,FALSE),"") | L31: =IFERROR(VLOOKUP($C31,List1!$Z$4:$AA$23,2,FALSE),"") | M31: =IFERROR(VLOOKUP($C31,List1!$AC$4:$AD$23,2,FALSE),"") | N31: =IFERROR(VLOOKUP($C31,List1!$AF$4:$AG$23,2,FALSE),"") | P31: =IFERROR(VLOOKUP($C31,List1!$AL$4:$AM$23,2,FALSE),"") | Q31: =IFERROR(VLOOKUP($C31,List1!$AO$4:$AP$23,2,FALSE),"") | R31: =IFERROR(VLOOKUP($C31,List1!$AR$4:$AS$23,2,FALSE),"") | S31: =IFERROR(VLOOKUP($C31,List1!$AU$4:$AV$23,2,FALSE),"") | T31: =IFERROR(VLOOKUP($C31,List1!$AX$4:$AY$23,2,FALSE),"") | U31: =IFERROR(VLOOKUP($C31,List1!$BA$4:$BB$23,2,FALSE),"") | V31: =IFERROR(VLOOKUP($C31,List1!$BD$4:$BE$23,2,FALSE),"") | W31: =IFERROR(VLOOKUP($C31,List1!$BG$4:$BH$23,2,FALSE),"") | X31: =IFERROR(VLOOKUP($C31,List1!$BJ$4:$BK$23,2,FALSE),"") | Y31: =IFERROR(VLOOKUP($C31,List1!$BM$4:$BN$23,2,FALSE),"") | Z31: =IFERROR(VLOOKUP($C31,List1!$BP$4:$BQ$23,2,FALSE),"") | AA31: =IFERROR(VLOOKUP($C31,List1!$BS$4:$BT$23,2,FALSE),"") | AB31: =IFERROR(VLOOKUP($C31,List1!$BV$4:$BW$23,2,FALSE),"") | AC31: =IFERROR(VLOOKUP($C31,List1!$BY$4:$BZ$23,2,FALSE),"") | AD31: =IFERROR(VLOOKUP($C31,List1!$CB$4:$CC$23,2,FALSE),"") | AE31: =IFERROR(VLOOKUP($C31,List1!$CE$4:$CF$23,2,FALSE),"") | AF31: =IFERROR(VLOOKUP($C31,List1!$CH$4:$CI$23,2,FALSE),"") | AG31: =VLOOKUP(C31,'Pomocná data'!AE:BF,28,FALSE) -> 0 | AH31: =SUM(D31:AF31) -> 0 | AI31: =IF(AH31=0,"",SUM(D31:AF31)/(SUMIF(D31:AF31,">0",$D$5:$AF$5)))
B32: 27. | C32: Jech Miloš | D32: =IFERROR(VLOOKUP($C32,List1!$B$4:$C$23,2,FALSE),"") | E32: =IFERROR(VLOOKUP($C32,List1!$E$4:$F$23,2,FALSE),"") | F32: =IFERROR(VLOOKUP($C32,List1!$H$4:$I$23,2,FALSE),"") | G32: =IFERROR(VLOOKUP($C32,List1!$K$4:$L$23,2,FALSE),"") | H32: =IFERROR(VLOOKUP($C32,List1!$N$4:$O$23,2,FALSE),"") | I32: =IFERROR(VLOOKUP($C32,List1!$Q$4:$R$23,2,FALSE),"") | J32: =IFERROR(VLOOKUP($C32,List1!$T$4:$U$23,2,FALSE),"") | K32: =IFERROR(VLOOKUP($C32,List1!$W$4:$X$23,2,FALSE),"") | L32: =IFERROR(VLOOKUP($C32,List1!$Z$4:$AA$23,2,FALSE),"") | M32: =IFERROR(VLOOKUP($C32,List1!$AC$4:$AD$23,2,FALSE),"") | N32: =IFERROR(VLOOKUP($C32,List1!$AF$4:$AG$23,2,FALSE),"") | P32: =IFERROR(VLOOKUP($C32,List1!$AL$4:$AM$23,2,FALSE),"") | Q32: =IFERROR(VLOOKUP($C32,List1!$AO$4:$AP$23,2,FALSE),"") | R32: =IFERROR(VLOOKUP($C32,List1!$AR$4:$AS$23,2,FALSE),"") | S32: =IFERROR(VLOOKUP($C32,List1!$AU$4:$AV$23,2,FALSE),"") | T32: =IFERROR(VLOOKUP($C32,List1!$AX$4:$AY$23,2,FALSE),"") | U32: =IFERROR(VLOOKUP($C32,List1!$BA$4:$BB$23,2,FALSE),"") | V32: =IFERROR(VLOOKUP($C32,List1!$BD$4:$BE$23,2,FALSE),"") | W32: =IFERROR(VLOOKUP($C32,List1!$BG$4:$BH$23,2,FALSE),"") | X32: =IFERROR(VLOOKUP($C32,List1!$BJ$4:$BK$23,2,FALSE),"") | Y32: =IFERROR(VLOOKUP($C32,List1!$BM$4:$BN$23,2,FALSE),"") | Z32: =IFERROR(VLOOKUP($C32,List1!$BP$4:$BQ$23,2,FALSE),"") | AA32: =IFERROR(VLOOKUP($C32,List1!$BS$4:$BT$23,2,FALSE),"") | AB32: =IFERROR(VLOOKUP($C32,List1!$BV$4:$BW$23,2,FALSE),"") | AC32: =IFERROR(VLOOKUP($C32,List1!$BY$4:$BZ$23,2,FALSE),"") | AD32: =IFERROR(VLOOKUP($C32,List1!$CB$4:$CC$23,2,FALSE),"") | AE32: =IFERROR(VLOOKUP($C32,List1!$CE$4:$CF$23,2,FALSE),"") | AF32: =IFERROR(VLOOKUP($C32,List1!$CH$4:$CI$23,2,FALSE),"") | AG32: =VLOOKUP(C32,'Pomocná data'!AE:BF,28,FALSE) -> 0 | AH32: =SUM(D32:AF32) -> 0 | AI32: =IF(AH32=0,"",SUM(D32:AF32)/(SUMIF(D32:AF32,">0",$D$5:$AF$5)))
B33: 28. | C33: Skalický Petr st. | D33: =IFERROR(VLOOKUP($C33,List1!$B$4:$C$23,2,FALSE),"") | E33: =IFERROR(VLOOKUP($C33,List1!$E$4:$F$23,2,FALSE),"") | F33: =IFERROR(VLOOKUP($C33,List1!$H$4:$I$23,2,FALSE),"") | G33: =IFERROR(VLOOKUP($C33,List1!$K$4:$L$23,2,FALSE),"") | H33: =IFERROR(VLOOKUP($C33,List1!$N$4:$O$23,2,FALSE),"") | I33: =IFERROR(VLOOKUP($C33,List1!$Q$4:$R$23,2,FALSE),"") | J33: =IFERROR(VLOOKUP($C33,List1!$T$4:$U$23,2,FALSE),"") | K33: =IFERROR(VLOOKUP($C33,List1!$W$4:$X$23,2,FALSE),"") | L33: =IFERROR(VLOOKUP($C33,List1!$Z$4:$AA$23,2,FALSE),"") | M33: =IFERROR(VLOOKUP($C33,List1!$AC$4:$AD$23,2,FALSE),"") | N33: =IFERROR(VLOOKUP($C33,List1!$AF$4:$AG$23,2,FALSE),"") | P33: =IFERROR(VLOOKUP($C33,List1!$AL$4:$AM$23,2,FALSE),"") | Q33: =IFERROR(VLOOKUP($C33,List1!$AO$4:$AP$23,2,FALSE),"") | R33: =IFERROR(VLOOKUP($C33,List1!$AR$4:$AS$23,2,FALSE),"") | S33: =IFERROR(VLOOKUP($C33,List1!$AU$4:$AV$23,2,FALSE),"") | T33: =IFERROR(VLOOKUP($C33,List1!$AX$4:$AY$23,2,FALSE),"") | U33: =IFERROR(VLOOKUP($C33,List1!$BA$4:$BB$23,2,FALSE),"") | V33: =IFERROR(VLOOKUP($C33,List1!$BD$4:$BE$23,2,FALSE),"") | W33: =IFERROR(VLOOKUP($C33,List1!$BG$4:$BH$23,2,FALSE),"") | X33: =IFERROR(VLOOKUP($C33,List1!$BJ$4:$BK$23,2,FALSE),"") | Y33: =IFERROR(VLOOKUP($C33,List1!$BM$4:$BN$23,2,FALSE),"") | Z33: =IFERROR(VLOOKUP($C33,List1!$BP$4:$BQ$23,2,FALSE),"") | AA33: =IFERROR(VLOOKUP($C33,List1!$BS$4:$BT$23,2,FALSE),"") | AB33: =IFERROR(VLOOKUP($C33,List1!$BV$4:$BW$23,2,FALSE),"") | AC33: =IFERROR(VLOOKUP($C33,List1!$BY$4:$BZ$23,2,FALSE),"") | AD33: =IFERROR(VLOOKUP($C33,List1!$CB$4:$CC$23,2,FALSE),"") | AE33: =IFERROR(VLOOKUP($C33,List1!$CE$4:$CF$23,2,FALSE),"") | AF33: =IFERROR(VLOOKUP($C33,List1!$CH$4:$CI$23,2,FALSE),"") | AG33: =VLOOKUP(C33,'Pomocná data'!AE:BF,28,FALSE) -> 0 | AH33: =SUM(D33:AF33) -> 0 | AI33: =IF(AH33=0,"",SUM(D33:AF33)/(SUMIF(D33:AF33,">0",$D$5:$AF$5)))
B34: 29. | C34: Hlubučková Zuzana | D34: =IFERROR(VLOOKUP($C34,List1!$B$4:$C$23,2,FALSE),"") | E34: =IFERROR(VLOOKUP($C34,List1!$E$4:$F$23,2,FALSE),"") | F34: =IFERROR(VLOOKUP($C34,List1!$H$4:$I$23,2,FALSE),"") | G34: =IFERROR(VLOOKUP($C34,List1!$K$4:$L$23,2,FALSE),"") | H34: =IFERROR(VLOOKUP($C34,List1!$N$4:$O$23,2,FALSE),"") | I34: =IFERROR(VLOOKUP($C34,List1!$Q$4:$R$23,2,FALSE),"") | J34: =IFERROR(VLOOKUP($C34,List1!$T$4:$U$23,2,FALSE),"") | K34: =IFERROR(VLOOKUP($C34,List1!$W$4:$X$23,2,FALSE),"") | L34: =IFERROR(VLOOKUP($C34,List1!$Z$4:$AA$23,2,FALSE),"") | M34: =IFERROR(VLOOKUP($C34,List1!$AC$4:$AD$23,2,FALSE),"") | N34: =IFERROR(VLOOKUP($C34,List1!$AF$4:$AG$23,2,FALSE),"") | P34: =IFERROR(VLOOKUP($C34,List1!$AL$4:$AM$23,2,FALSE),"") | Q34: =IFERROR(VLOOKUP($C34,List1!$AO$4:$AP$23,2,FALSE),"") | R34: =IFERROR(VLOOKUP($C34,List1!$AR$4:$AS$23,2,FALSE),"") | S34: =IFERROR(VLOOKUP($C34,List1!$AU$4:$AV$23,2,FALSE),"") | T34: =IFERROR(VLOOKUP($C34,List1!$AX$4:$AY$23,2,FALSE),"") | U34: =IFERROR(VLOOKUP($C34,List1!$BA$4:$BB$23,2,FALSE),"") | V34: =IFERROR(VLOOKUP($C34,List1!$BD$4:$BE$23,2,FALSE),"") | W34: =IFERROR(VLOOKUP($C34,List1!$BG$4:$BH$23,2,FALSE),"") | X34: =IFERROR(VLOOKUP($C34,List1!$BJ$4:$BK$23,2,FALSE),"") | Y34: =IFERROR(VLOOKUP($C34,List1!$BM$4:$BN$23,2,FALSE),"") | Z34: =IFERROR(VLOOKUP($C34,List1!$BP$4:$BQ$23,2,FALSE),"") | AA34: =IFERROR(VLOOKUP($C34,List1!$BS$4:$BT$23,2,FALSE),"") | AB34: =IFERROR(VLOOKUP($C34,List1!$BV$4:$BW$23,2,FALSE),"") | AC34: =IFERROR(VLOOKUP($C34,List1!$BY$4:$BZ$23,2,FALSE),"") | AD34: =IFERROR(VLOOKUP($C34,List1!$CB$4:$CC$23,2,FALSE),"") | AE34: =IFERROR(VLOOKUP($C34,List1!$CE$4:$CF$23,2,FALSE),"") | AF34: =IFERROR(VLOOKUP($C34,List1!$CH$4:$CI$23,2,FALSE),"") | AG34: =VLOOKUP(C34,'Pomocná data'!AE:BF,28,FALSE) -> 0 | AH34: =SUM(D34:AF34) -> 0 | AI34: =IF(AH34=0,"",SUM(D34:AF34)/(SUMIF(D34:AF34,">0",$D$5:$AF$5)))
B35: 30. | C35: Šoltys Roman | D35: =IFERROR(VLOOKUP($C35,List1!$B$4:$C$23,2,FALSE),"") | E35: =IFERROR(VLOOKUP($C35,List1!$E$4:$F$23,2,FALSE),"") | F35: =IFERROR(VLOOKUP($C35,List1!$H$4:$I$23,2,FALSE),"") | G35: =IFERROR(VLOOKUP($C35,List1!$K$4:$L$23,2,FALSE),"") | H35: =IFERROR(VLOOKUP($C35,List1!$N$4:$O$23,2,FALSE),"") | I35: =IFERROR(VLOOKUP($C35,List1!$Q$4:$R$23,2,FALSE),"") | J35: =IFERROR(VLOOKUP($C35,List1!$T$4:$U$23,2,FALSE),"") | K35: =IFERROR(VLOOKUP($C35,List1!$W$4:$X$23,2,FALSE),"") | L35: =IFERROR(VLOOKUP($C35,List1!$Z$4:$AA$23,2,FALSE),"") | M35: =IFERROR(VLOOKUP($C35,List1!$AC$4:$AD$23,2,FALSE),"") | N35: =IFERROR(VLOOKUP($C35,List1!$AF$4:$AG$23,2,FALSE),"") | P35: =IFERROR(VLOOKUP($C35,List1!$AL$4:$AM$23,2,FALSE),"") | Q35: =IFERROR(VLOOKUP($C35,List1!$AO$4:$AP$23,2,FALSE),"") | R35: =IFERROR(VLOOKUP($C35,List1!$AR$4:$AS$23,2,FALSE),"") | S35: =IFERROR(VLOOKUP($C35,List1!$AU$4:$AV$23,2,FALSE),"") | T35: =IFERROR(VLOOKUP($C35,List1!$AX$4:$AY$23,2,FALSE),"") | U35: =IFERROR(VLOOKUP($C35,List1!$BA$4:$BB$23,2,FALSE),"") | V35: =IFERROR(VLOOKUP($C35,List1!$BD$4:$BE$23,2,FALSE),"") | W35: =IFERROR(VLOOKUP($C35,List1!$BG$4:$BH$23,2,FALSE),"") | X35: =IFERROR(VLOOKUP($C35,List1!$BJ$4:$BK$23,2,FALSE),"") | Y35: =IFERROR(VLOOKUP($C35,List1!$BM$4:$BN$23,2,FALSE),"") | Z35: =IFERROR(VLOOKUP($C35,List1!$BP$4:$BQ$23,2,FALSE),"") | AA35: =IFERROR(VLOOKUP($C35,List1!$BS$4:$BT$23,2,FALSE),"") | AB35: =IFERROR(VLOOKUP($C35,List1!$BV$4:$BW$23,2,FALSE),"") | AC35: =IFERROR(VLOOKUP($C35,List1!$BY$4:$BZ$23,2,FALSE),"") | AD35: =IFERROR(VLOOKUP($C35,List1!$CB$4:$CC$23,2,FALSE),"") | AE35: =IFERROR(VLOOKUP($C35,List1!$CE$4:$CF$23,2,FALSE),"") | AF35: =IFERROR(VLOOKUP($C35,List1!$CH$4:$CI$23,2,FALSE),"") | AG35: =VLOOKUP(C35,'Pomocná data'!AE:BF,28,FALSE) -> 0 | AH35: =SUM(D35:AF35) -> 0 | AI35: =IF(AH35=0,"",SUM(D35:AF35)/(SUMIF(D35:AF35,">0",$D$5:$AF$5)))
B36: 31. | C36: Kubín Ondřej | D36: =IFERROR(VLOOKUP($C36,List1!$B$4:$C$23,2,FALSE),"") | E36: =IFERROR(VLOOKUP($C36,List1!$E$4:$F$23,2,FALSE),"") | F36: =IFERROR(VLOOKUP($C36,List1!$H$4:$I$23,2,FALSE),"") | G36: =IFERROR(VLOOKUP($C36,List1!$K$4:$L$23,2,FALSE),"") | H36: =IFERROR(VLOOKUP($C36,List1!$N$4:$O$23,2,FALSE),"") | I36: =IFERROR(VLOOKUP($C36,List1!$Q$4:$R$23,2,FALSE),"") | J36: =IFERROR(VLOOKUP($C36,List1!$T$4:$U$23,2,FALSE),"") | K36: =IFERROR(VLOOKUP($C36,List1!$W$4:$X$23,2,FALSE),"") | L36: =IFERROR(VLOOKUP($C36,List1!$Z$4:$AA$23,2,FALSE),"") | M36: =IFERROR(VLOOKUP($C36,List1!$AC$4:$AD$23,2,FALSE),"") | N36: =IFERROR(VLOOKUP($C36,List1!$AF$4:$AG$23,2,FALSE),"") | P36: =IFERROR(VLOOKUP($C36,List1!$AL$4:$AM$23,2,FALSE),"") | Q36: =IFERROR(VLOOKUP($C36,List1!$AO$4:$AP$23,2,FALSE),"") | R36: =IFERROR(VLOOKUP($C36,List1!$AR$4:$AS$23,2,FALSE),"") | S36: =IFERROR(VLOOKUP($C36,List1!$AU$4:$AV$23,2,FALSE),"") | T36: =IFERROR(VLOOKUP($C36,List1!$AX$4:$AY$23,2,FALSE),"") | U36: =IFERROR(VLOOKUP($C36,List1!$BA$4:$BB$23,2,FALSE),"") | V36: =IFERROR(VLOOKUP($C36,List1!$BD$4:$BE$23,2,FALSE),"") | W36: =IFERROR(VLOOKUP($C36,List1!$BG$4:$BH$23,2,FALSE),"") | X36: =IFERROR(VLOOKUP($C36,List1!$BJ$4:$BK$23,2,FALSE),"") | Y36: =IFERROR(VLOOKUP($C36,List1!$BM$4:$BN$23,2,FALSE),"") | Z36: =IFERROR(VLOOKUP($C36,List1!$BP$4:$BQ$23,2,FALSE),"") | AA36: =IFERROR(VLOOKUP($C36,List1!$BS$4:$BT$23,2,FALSE),"") | AB36: =IFERROR(VLOOKUP($C36,List1!$BV$4:$BW$23,2,FALSE),"") | AC36: =IFERROR(VLOOKUP($C36,List1!$BY$4:$BZ$23,2,FALSE),"") | AD36: =IFERROR(VLOOKUP($C36,List1!$CB$4:$CC$23,2,FALSE),"") | AE36: =IFERROR(VLOOKUP($C36,List1!$CE$4:$CF$23,2,FALSE),"") | AF36: =IFERROR(VLOOKUP($C36,List1!$CH$4:$CI$23,2,FALSE),"") | AG36: =VLOOKUP(C36,'Pomocná data'!AE:BF,28,FALSE) -> #N/A | AH36: =SUM(D36:AF36) -> 0 | AI36: =IF(AH36=0,"",SUM(D36:AF36)/(SUMIF(D36:AF36,">0",$D$5:$AF$5)))
B37: 32. | D37: =IFERROR(VLOOKUP($C37,List1!$B$4:$C$23,2,FALSE),"") | E37: =IFERROR(VLOOKUP($C37,List1!$E$4:$F$23,2,FALSE),"") | F37: =IFERROR(VLOOKUP($C37,List1!$H$4:$I$23,2,FALSE),"") | G37: =IFERROR(VLOOKUP($C37,List1!$K$4:$L$23,2,FALSE),"") | H37: =IFERROR(VLOOKUP($C37,List1!$N$4:$O$23,2,FALSE),"") | I37: =IFERROR(VLOOKUP($C37,List1!$Q$4:$R$23,2,FALSE),"") | J37: =IFERROR(VLOOKUP($C37,List1!$T$4:$U$23,2,FALSE),"") | K37: =IFERROR(VLOOKUP($C37,List1!$W$4:$X$23,2,FALSE),"") | L37: =IFERROR(VLOOKUP($C37,List1!$Z$4:$AA$23,2,FALSE),"") | M37: =IFERROR(VLOOKUP($C37,List1!$AC$4:$AD$23,2,FALSE),"") | N37: =IFERROR(VLOOKUP($C37,List1!$AF$4:$AG$23,2,FALSE),"") | P37: =IFERROR(VLOOKUP($C37,List1!$AL$4:$AM$23,2,FALSE),"") | Q37: =IFERROR(VLOOKUP($C37,List1!$AO$4:$AP$23,2,FALSE),"") | R37: =IFERROR(VLOOKUP($C37,List1!$AR$4:$AS$23,2,FALSE),"") | S37: =IFERROR(VLOOKUP($C37,List1!$AU$4:$AV$23,2,FALSE),"") | T37: =IFERROR(VLOOKUP($C37,List1!$AX$4:$AY$23,2,FALSE),"") | U37: =IFERROR(VLOOKUP($C37,List1!$BA$4:$BB$23,2,FALSE),"") | V37: =IFERROR(VLOOKUP($C37,List1!$BD$4:$BE$23,2,FALSE),"") | W37: =IFERROR(VLOOKUP($C37,List1!$BG$4:$BH$23,2,FALSE),"") | X37: =IFERROR(VLOOKUP($C37,List1!$BJ$4:$BK$23,2,FALSE),"") | Y37: =IFERROR(VLOOKUP($C37,List1!$BM$4:$BN$23,2,FALSE),"") | Z37: =IFERROR(VLOOKUP($C37,List1!$BP$4:$BQ$23,2,FALSE),"") | AA37: =IFERROR(VLOOKUP($C37,List1!$BS$4:$BT$23,2,FALSE),"") | AB37: =IFERROR(VLOOKUP($C37,List1!$BV$4:$BW$23,2,FALSE),"") | AC37: =IFERROR(VLOOKUP($C37,List1!$BY$4:$BZ$23,2,FALSE),"") | AD37: =IFERROR(VLOOKUP($C37,List1!$CB$4:$CC$23,2,FALSE),"") | AE37: =IFERROR(VLOOKUP($C37,List1!$CE$4:$CF$23,2,FALSE),"") | AF37: =IFERROR(VLOOKUP($C37,List1!$BY$4:$BZ$23,2,FALSE),"") | AH37: =SUM(D37:AF37) -> 0 | AI37: =IF(AH37=0,"",SUM(D37:AF37)/(SUMIF(D37:AF37,">0",$D$5:$AF$5)))

Sheet Pomocná data
A2: Páteční tréninkové turnaje - sezóna 2023/2024
C3: 1 | D3: 2 | E3: 3 | F3: 4 | G3: 5 | H3: 6 | I3: 7 | J3: 8 | K3: 9 | L3: 10 | M3: 11 | N3: 12 | O3: 13 | P3: 14 | Q3: 15 | R3: 16 | S3: 17 | T3: 18 | U3: 19 | V3: 20 | W3: 21 | X3: 22 | Y3: 23 | Z3: 24 | AA3: 25 | AG3: 1 | AH3: 2 | AI3: 3 | AJ3: 4 | AK3: 5 | AL3: 6 | AM3: 7 | AN3: 8 | AO3: 9 | AP3: 10 | AQ3: 11 | AR3: 12 | AS3: 13 | AT3: 14 | AU3: 15 | AV3: 16 | AW3: 17 | AX3: 18 | AY3: 19 | AZ3: 20 | BA3: 21 | BB3: 22 | BC3: 23 | BD3: 24 | BE3: 25
C4: 7.10. | D4: 14.10. | E4: 21.10. | F4: 4.11. | G4: 11.11. | H4: 18.11. | I4: 25.11. | J4: 2.12. | K4: 9.12. | L4: 16.12. | M4: 6.1. | N4: 12.1. | O4: 19.1. | P4: 26.1. | Q4: 2.2. | R4: 9.2. | S4: 16.2. | T4: 23.2. | U4: 8.3. | V4: 15.3. | W4: 22.3. | X4: 29.3. | AG4: 7.10. | AH4: 14.10. | AI4: 21.10. | AJ4: 4.11. | AK4: 11.11. | AL4: 18.11. | AM4: 25.11. | AN4: 2.12. | AO4: 9.12. | AP4: 16.12. | AQ4: 6.1. | AR4: 13.1. | AS4: 20.1. | AT4: 27.1. | AU4: 3.2. | AV4: 10.2. | AW4: 17.2. | AX4: 24.2. | AY4: 10.3. | AZ4: 17.3. | BA4: 24.3. | BB4: 31.3.
C5: =Tabulka!D5 -> 11 | D5: =Tabulka!E5 -> 0 | E5: =Tabulka!F5 -> 0 | F5: =Tabulka!G5 -> 0 | G5: =Tabulka!H5 -> 0 | H5: =Tabulka!I5 -> 0 | I5: 6 | J5: =Tabulka!K5 -> 0 | K5: =Tabulka!L5 -> 0 | L5: =Tabulka!M5 -> 0 | M5: =Tabulka!N5 -> 0 | N5: =Tabulka!O5 -> 0 | O5: =Tabulka!P5 -> 8 | P5: =Tabulka!Q5 -> 0 | Q5: =Tabulka!R5 -> 0 | ... AA5: =Tabulka!AB5 -> 0 | AG5: 1 | AH5: 2 | AI5: 3 | AJ5: 4 | AK5: 5 | AL5: 6 | AM5: 7 | AN5: 8 | AO5: 9 | AP5: 10 | AQ5: 11 | AR5: 12 | AS5: 13 | AT5: 14 | AU5: 15 | AV5: 16 | AW5: 17 | AX5: 18 | AY5: 19 | AZ5: 20 | BA5: 21 | BB5: 22 | BC5: 23 | BD5: 24 | BE5: 25
A6: 1. | B6: =Tabulka!C6 -> Rastočný Josef ml. | C6: =Tabulka!D6 -> 11 | D6: =Tabulka!E6 | E6: =Tabulka!F6 | F6: =Tabulka!G6 | G6: =Tabulka!H6 | H6: =Tabulka!I6 | I6: =Tabulka!J6 | ... AA6: =Tabulka!AB6 | AB6: =SUM(C6:AA6) -> 11 | AD6: 1. | AE6: =B6 -> Rastočný Josef ml. | AF6: =COUNT(Tabulka!D6:AB6) -> 1 | AG6: =IF(AG$5>$AF$6,0,LARGE($C$6:$AA$6,AG$5)) -> 11 | AH6: =IF(AH$5>$AF$6,0,LARGE($C$6:$AA$6,AH$5)) -> 0 | AI6: =IF(AI$5>$AF$6,0,LARGE($C$6:$AA$6,AI$5)) -> 0 | AJ6: =IF(AJ$5>$AF$6,0,LARGE($C$6:$AA$6,AJ$5)) -> 0 | AK6: =IF(AK$5>$AF$6,0,LARGE($C$6:$AA$6,AK$5)) -> 0 | AL6: =IF(AL$5>$AF$6,0,LARGE($C$6:$AA$6,AL$5)) -> 0 | AM6: =IF(AM$5>$AF$6,0,LARGE($C$6:$AA$6,AM$5)) -> 0 | AN6: =IF(AN$5>$AF$6,0,LARGE($C$6:$AA$6,AN$5)) -> 0 | ... BE6: =IF(BE$5>$AF$6,0,LARGE($C$6:$AA$6,BE$5)) -> 0 | BF6: =SUM(AG6:AU6) -> 11
A7: 2. | B7: =Tabulka!C7 -> Hašuĺ Martin | C7: =Tabulka!D7 -> 10 | D7: =Tabulka!E7 | E7: =Tabulka!F7 | F7: =Tabulka!G7 | G7: =Tabulka!H7 | H7: =Tabulka!I7 | I7: =Tabulka!J7 | ... AA7: =Tabulka!AB7 | AB7: =SUM(C7:AA7) -> 10 | AD7: 2. | AE7: =B7 -> Hašuĺ Martin | AF7: =COUNT(Tabulka!D7:AB7) -> 1 | AG7: =IF(AG$5>$AF$7,0,LARGE($C$7:$AA$7,AG$5)) -> 10 | AH7: =IF(AH$5>$AF$7,0,LARGE($C$7:$AA$7,AH$5)) -> 0 | AI7: =IF(AI$5>$AF$7,0,LARGE($C$7:$AA$7,AI$5)) -> 0 | AJ7: =IF(AJ$5>$AF$7,0,LARGE($C$7:$AA$7,AJ$5)) -> 0 | AK7: =IF(AK$5>$AF$7,0,LARGE($C$7:$AA$7,AK$5)) -> 0 | AL7: =IF(AL$5>$AF$7,0,LARGE($C$7:$AA$7,AL$5)) -> 0 | AM7: =IF(AM$5>$AF$7,0,LARGE($C$7:$AA$7,AM$5)) -> 0 | AN7: =IF(AN$5>$AF$7,0,LARGE($C$7:$AA$7,AN$5)) -> 0 | ... BE7: =IF(BE$5>$AF$7,0,LARGE($C$7:$AA$7,BE$5)) -> 0 | BF7: =SUM(AG7:AU7) -> 10
A8: 3. | B8: =Tabulka!C8 -> Rastočný Josef st. | C8: =Tabulka!D8 -> 9 | D8: =Tabulka!E8 | E8: =Tabulka!F8 | F8: =Tabulka!G8 | G8: =Tabulka!H8 | H8: =Tabulka!I8 | I8: =Tabulka!J8 | ... AA8: =Tabulka!AB8 | AB8: =SUM(C8:AA8) -> 9 | AD8: 3. | AE8: =B8 -> Rastočný Josef st. | AF8: =COUNT(Tabulka!D8:AB8) -> 1 | AG8: =IF(AG$5>$AF$8,0,LARGE($C$8:$AA$8,AG$5)) -> 9 | AH8: =IF(AH$5>$AF$8,0,LARGE($C$8:$AA$8,AH$5)) -> 0 | AI8: =IF(AI$5>$AF$8,0,LARGE($C$8:$AA$8,AI$5)) -> 0 | AJ8: =IF(AJ$5>$AF$8,0,LARGE($C$8:$AA$8,AJ$5)) -> 0 | AK8: =IF(AK$5>$AF$8,0,LARGE($C$8:$AA$8,AK$5)) -> 0 | AL8: =IF(AL$5>$AF$8,0,LARGE($C$8:$AA$8,AL$5)) -> 0 | AM8: =IF(AM$5>$AF$8,0,LARGE($C$8:$AA$8,AM$5)) -> 0 | AN8: =IF(AN$5>$AF$8,0,LARGE($C$8:$AA$8,AN$5)) -> 0 | ... BE8: =IF(BE$5>$AF$8,0,LARGE($C$8:$AA$8,BE$5)) -> 0 | BF8: =SUM(AG8:AU8) -> 9
A9: 4. | B9: =Tabulka!C9 -> Boldy Adrian | C9: =Tabulka!D9 -> 8 | D9: =Tabulka!E9 | E9: =Tabulka!F9 | F9: =Tabulka!G9 | G9: =Tabulka!H9 | H9: =Tabulka!I9 | I9: =Tabulka!J9 | ... AA9: =Tabulka!AB9 | AB9: =SUM(C9:AA9) -> 8 | AD9: 4. | AE9: =B9 -> Boldy Adrian | AF9: =COUNT(Tabulka!D9:AB9) -> 1 | AG9: =IF(AG$5>$AF$9,0,LARGE($C$9:$AA$9,AG$5)) -> 8 | AH9: =IF(AH$5>$AF$9,0,LARGE($C$9:$AA$9,AH$5)) -> 0 | AI9: =IF(AI$5>$AF$9,0,LARGE($C$9:$AA$9,AI$5)) -> 0 | AJ9: =IF(AJ$5>$AF$9,0,LARGE($C$9:$AA$9,AJ$5)) -> 0 | AK9: =IF(AK$5>$AF$9,0,LARGE($C$9:$AA$9,AK$5)) -> 0 | AL9: =IF(AL$5>$AF$9,0,LARGE($C$9:$AA$9,AL$5)) -> 0 | AM9: =IF(AM$5>$AF$9,0,LARGE($C$9:$AA$9,AM$5)) -> 0 | AN9: =IF(AN$5>$AF$9,0,LARGE($C$9:$AA$9,AN$5)) -> 0 | ... BE9: =IF(BE$5>$AF$9,0,LARGE($C$9:$AA$9,BE$5)) -> 0 | BF9: =SUM(AG9:AU9) -> 8
A10: 5. | B10: =Tabulka!C10 -> Koudelka Jiří | C10: =Tabulka!D10 -> 7 | D10: =Tabulka!E10 | E10: =Tabulka!F10 | F10: =Tabulka!G10 | G10: =Tabulka!H10 | H10: =Tabulka!I10 | I10: =Tabulka!J10 | ... AA10: =Tabulka!AB10 | AB10: =SUM(C10:AA10) -> 7 | AD10: 5. | AE10: =B10 -> Koudelka Jiří | AF10: =COUNT(Tabulka!D10:AB10) -> 1 | AG10: =IF(AG$5>$AF$10,0,LARGE($C$10:$AA$10,AG$5)) -> 7 | AH10: =IF(AH$5>$AF$10,0,LARGE($C$10:$AA$10,AH$5)) -> 0 | AI10: =IF(AI$5>$AF$10,0,LARGE($C$10:$AA$10,AI$5)) -> 0 | AJ10: =IF(AJ$5>$AF$10,0,LARGE($C$10:$AA$10,AJ$5)) -> 0 | AK10: =IF(AK$5>$AF$10,0,LARGE($C$10:$AA$10,AK$5)) -> 0 | AL10: =IF(AL$5>$AF$10,0,LARGE($C$10:$AA$10,AL$5)) -> 0 | AM10: =IF(AM$5>$AF$10,0,LARGE($C$10:$AA$10,AM$5)) -> 0 | AN10: =IF(AN$5>$AF$10,0,LARGE($C$10:$AA$10,AN$5)) -> 0 | ... BE10: =IF(BE$5>$AF$10,0,LARGE($C$10:$AA$10,BE$5)) -> 0 | BF10: =SUM(AG10:AU10) -> 7
A11: 6. | B11: =Tabulka!C11 -> Holub Antonín | C11: =Tabulka!D11 -> 6 | D11: =Tabulka!E11 | E11: =Tabulka!F11 | F11: =Tabulka!G11 | G11: =Tabulka!H11 | H11: =Tabulka!I11 | I11: =Tabulka!J11 | ... AA11: =Tabulka!AB11 | AB11: =SUM(C11:AA11) -> 6 | AD11: 6. | AE11: =B11 -> Holub Antonín | AF11: =COUNT(Tabulka!D11:AB11) -> 1 | AG11: =IF(AG$5>$AF$11,0,LARGE($C$11:$AA$11,AG$5)) -> 6 | AH11: =IF(AH$5>$AF$11,0,LARGE($C$11:$AA$11,AH$5)) -> 0 | AI11: =IF(AI$5>$AF$11,0,LARGE($C$11:$AA$11,AI$5)) -> 0 | AJ11: =IF(AJ$5>$AF$11,0,LARGE($C$11:$AA$11,AJ$5)) -> 0 | AK11: =IF(AK$5>$AF$11,0,LARGE($C$11:$AA$11,AK$5)) -> 0 | AL11: =IF(AL$5>$AF$11,0,LARGE($C$11:$AA$11,AL$5)) -> 0 | AM11: =IF(AM$5>$AF$11,0,LARGE($C$11:$AA$11,AM$5)) -> 0 | AN11: =IF(AN$5>$AF$11,0,LARGE($C$11:$AA$11,AN$5)) -> 0 | ... BE11: =IF(BE$5>$AF$11,0,LARGE($C$11:$AA$11,BE$5)) -> 0 | BF11: =SUM(AG11:AU11) -> 6
A12: 7. | B12: =Tabulka!C12 -> Hnát Miroslav | C12: =Tabulka!D12 -> 5 | D12: =Tabulka!E12 | E12: =Tabulka!F12 | F12: =Tabulka!G12 | G12: =Tabulka!H12 | H12: =Tabulka!I12 | I12: =Tabulka!J12 | ... AA12: =Tabulka!AB12 | AB12: =SUM(C12:AA12) -> 5 | AD12: 7. | AE12: =B12 -> Hnát Miroslav | AF12: =COUNT(Tabulka!D12:AB12) -> 1 | AG12: =IF(AG$5>$AF$12,0,LARGE($C$12:$AA$12,AG$5)) -> 5 | AH12: =IF(AH$5>$AF$12,0,LARGE($C$12:$AA$12,AH$5)) -> 0 | AI12: =IF(AI$5>$AF$12,0,LARGE($C$12:$AA$12,AI$5)) -> 0 | AJ12: =IF(AJ$5>$AF$12,0,LARGE($C$12:$AA$12,AJ$5)) -> 0 | AK12: =IF(AK$5>$AF$12,0,LARGE($C$12:$AA$12,AK$5)) -> 0 | AL12: =IF(AL$5>$AF$12,0,LARGE($C$12:$AA$12,AL$5)) -> 0 | AM12: =IF(AM$5>$AF$12,0,LARGE($C$12:$AA$12,AM$5)) -> 0 | AN12: =IF(AN$5>$AF$12,0,LARGE($C$12:$AA$12,AN$5)) -> 0 | ... BE12: =IF(BE$5>$AF$12,0,LARGE($C$12:$AA$12,BE$5)) -> 0 | BF12: =SUM(AG12:AU12) -> 5
A13: 8. | B13: =Tabulka!C13 -> Chmelík Ladislav | C13: =Tabulka!D13 -> 4 | D13: =Tabulka!E13 | E13: =Tabulka!F13 | F13: =Tabulka!G13 | G13: =Tabulka!H13 | H13: =Tabulka!I13 | I13: =Tabulka!J13 | ... AA13: =Tabulka!AB13 | AB13: =SUM(C13:AA13) -> 4 | AD13: 8. | AE13: =B13 -> Chmelík Ladislav | AF13: =COUNT(Tabulka!D13:AB13) -> 1 | AG13: =IF(AG$5>$AF$13,0,LARGE($C$13:$AA$13,AG$5)) -> 4 | AH13: =IF(AH$5>$AF$13,0,LARGE($C$13:$AA$13,AH$5)) -> 0 | AI13: =IF(AI$5>$AF$13,0,LARGE($C$13:$AA$13,AI$5)) -> 0 | AJ13: =IF(AJ$5>$AF$13,0,LARGE($C$13:$AA$13,AJ$5)) -> 0 | AK13: =IF(AK$5>$AF$13,0,LARGE($C$13:$AA$13,AK$5)) -> 0 | AL13: =IF(AL$5>$AF$13,0,LARGE($C$13:$AA$13,AL$5)) -> 0 | AM13: =IF(AM$5>$AF$13,0,LARGE($C$13:$AA$13,AM$5)) -> 0 | AN13: =IF(AN$5>$AF$13,0,LARGE($C$13:$AA$13,AN$5)) -> 0 | ... BE13: =IF(BE$5>$AF$13,0,LARGE($C$13:$AA$13,BE$5)) -> 0 | BF13: =SUM(AG13:AU13) -> 4
A14: 9. | B14: =Tabulka!C14 -> Kubeček Michal | C14: =Tabulka!D14 -> 3 | D14: =Tabulka!E14 | E14: =Tabulka!F14 | F14: =Tabulka!G14 | G14: =Tabulka!H14 | H14: =Tabulka!I14 | I14: =Tabulka!J14 | ... AA14: =Tabulka!AB14 | AB14: =SUM(C14:AA14) -> 3 | AD14: 9. | AE14: =B14 -> Kubeček Michal | AF14: =COUNT(Tabulka!D14:AB14) -> 1 | AG14: =IF(AG$5>$AF$14,0,LARGE($C$14:$AA$14,AG$5)) -> 3 | AH14: =IF(AH$5>$AF$14,0,LARGE($C$14:$AA$14,AH$5)) -> 0 | AI14: =IF(AI$5>$AF$14,0,LARGE($C$14:$AA$14,AI$5)) -> 0 | AJ14: =IF(AJ$5>$AF$14,0,LARGE($C$14:$AA$14,AJ$5)) -> 0 | AK14: =IF(AK$5>$AF$14,0,LARGE($C$14:$AA$14,AK$5)) -> 0 | AL14: =IF(AL$5>$AF$14,0,LARGE($C$14:$AA$14,AL$5)) -> 0 | AM14: =IF(AM$5>$AF$14,0,LARGE($C$14:$AA$14,AM$5)) -> 0 | AN14: =IF(AN$5>$AF$14,0,LARGE($C$14:$AA$14,AN$5)) -> 0 | ... BE14: =IF(BE$5>$AF$14,0,LARGE($C$14:$AA$14,BE$5)) -> 0 | BF14: =SUM(AG14:AU14) -> 3
A15: 10. | B15: =Tabulka!C15 -> Krejbich Lukáš | C15: =Tabulka!D15 -> 2 | D15: =Tabulka!E15 | E15: =Tabulka!F15 | F15: =Tabulka!G15 | G15: =Tabulka!H15 | H15: =Tabulka!I15 | I15: =Tabulka!J15 | ... AA15: =Tabulka!AB15 | AB15: =SUM(C15:AA15) -> 2 | AD15: 10. | AE15: =B15 -> Krejbich Lukáš | AF15: =COUNT(Tabulka!D15:AB15) -> 1 | AG15: =IF(AG$5>$AF$15,0,LARGE($C$15:$AA$15,AG$5)) -> 2 | AH15: =IF(AH$5>$AF$15,0,LARGE($C$15:$AA$15,AH$5)) -> 0 | AI15: =IF(AI$5>$AF$15,0,LARGE($C$15:$AA$15,AI$5)) -> 0 | AJ15: =IF(AJ$5>$AF$15,0,LARGE($C$15:$AA$15,AJ$5)) -> 0 | AK15: =IF(AK$5>$AF$15,0,LARGE($C$15:$AA$15,AK$5)) -> 0 | AL15: =IF(AL$5>$AF$15,0,LARGE($C$15:$AA$15,AL$5)) -> 0 | AM15: =IF(AM$5>$AF$15,0,LARGE($C$15:$AA$15,AM$5)) -> 0 | AN15: =IF(AN$5>$AF$15,0,LARGE($C$15:$AA$15,AN$5)) -> 0 | ... BE15: =IF(BE$5>$AF$15,0,LARGE($C$15:$AA$15,BE$5)) -> 0 | BF15: =SUM(AG15:AU15) -> 2
A16: 11. | B16: =Tabulka!C16 -> Plichta Tomáš | C16: =Tabulka!D16 -> 1 | D16: =Tabulka!E16 | E16: =Tabulka!F16 | F16: =Tabulka!G16 | G16: =Tabulka!H16 | H16: =Tabulka!I16 | I16: =Tabulka!J16 | ... AA16: =Tabulka!AB16 | AB16: =SUM(C16:AA16) -> 1 | AD16: 11. | AE16: =B16 -> Plichta Tomáš | AF16: =COUNT(Tabulka!D16:AB16) -> 1 | AG16: =IF(AG$5>$AF$16,0,LARGE($C$16:$AA$16,AG$5)) -> 1 | AH16: =IF(AH$5>$AF$16,0,LARGE($C$16:$AA$16,AH$5)) -> 0 | AI16: =IF(AI$5>$AF$16,0,LARGE($C$16:$AA$16,AI$5)) -> 0 | AJ16: =IF(AJ$5>$AF$16,0,LARGE($C$16:$AA$16,AJ$5)) -> 0 | AK16: =IF(AK$5>$AF$16,0,LARGE($C$16:$AA$16,AK$5)) -> 0 | AL16: =IF(AL$5>$AF$16,0,LARGE($C$16:$AA$16,AL$5)) -> 0 | AM16: =IF(AM$5>$AF$16,0,LARGE($C$16:$AA$16,AM$5)) -> 0 | AN16: =IF(AN$5>$AF$16,0,LARGE($C$16:$AA$16,AN$5)) -> 0 | ... BE16: =IF(BE$5>$AF$16,0,LARGE($C$16:$AA$16,BE$5)) -> 0 | BF16: =SUM(AG16:AU16) -> 1
A17: 12. | B17: =Tabulka!C17 -> Novotný Petr | C17: =Tabulka!D17 | D17: =Tabulka!E17 | E17: =Tabulka!F17 | F17: =Tabulka!G17 | G17: =Tabulka!H17 | H17: =Tabulka!I17 | I17: =Tabulka!J17 | ... AA17: =Tabulka!AB17 | AB17: =SUM(C17:AA17) -> 0 | AD17: 12. | AE17: =B17 -> Novotný Petr | AF17: =COUNT(Tabulka!D17:AB17) -> 0 | AG17: =IF(AG$5>$AF$17,0,LARGE($C$17:$AA$17,AG$5)) -> 0 | AH17: =IF(AH$5>$AF$17,0,LARGE($C$17:$AA$17,AH$5)) -> 0 | AI17: =IF(AI$5>$AF$17,0,LARGE($C$17:$AA$17,AI$5)) -> 0 | AJ17: =IF(AJ$5>$AF$17,0,LARGE($C$17:$AA$17,AJ$5)) -> 0 | AK17: =IF(AK$5>$AF$17,0,LARGE($C$17:$AA$17,AK$5)) -> 0 | AL17: =IF(AL$5>$AF$17,0,LARGE($C$17:$AA$17,AL$5)) -> 0 | AM17: =IF(AM$5>$AF$17,0,LARGE($C$17:$AA$17,AM$5)) -> 0 | AN17: =IF(AN$5>$AF$17,0,LARGE($C$17:$AA$17,AN$5)) -> 0 | ... BE17: =IF(BE$5>$AF$17,0,LARGE($C$17:$AA$17,BE$5)) -> 0 | BF17: =SUM(AG17:AU17) -> 0
A18: 13. | B18: =Tabulka!C18 -> Zoufalý Jiří | C18: =Tabulka!D18 | D18: =Tabulka!E18 | E18: =Tabulka!F18 | F18: =Tabulka!G18 | G18: =Tabulka!H18 | H18: =Tabulka!I18 | I18: =Tabulka!J18 | ... AA18: =Tabulka!AB18 | AB18: =SUM(C18:AA18) -> 0 | AD18: 13. | AE18: =B18 -> Zoufalý Jiří | AF18: =COUNT(Tabulka!D18:AB18) -> 0 | AG18: =IF(AG$5>$AF$18,0,LARGE($C$18:$AA$18,AG$5)) -> 0 | AH18: =IF(AH$5>$AF$18,0,LARGE($C$18:$AA$18,AH$5)) -> 0 | AI18: =IF(AI$5>$AF$18,0,LARGE($C$18:$AA$18,AI$5)) -> 0 | AJ18: =IF(AJ$5>$AF$18,0,LARGE($C$18:$AA$18,AJ$5)) -> 0 | AK18: =IF(AK$5>$AF$18,0,LARGE($C$18:$AA$18,AK$5)) -> 0 | AL18: =IF(AL$5>$AF$18,0,LARGE($C$18:$AA$18,AL$5)) -> 0 | AM18: =IF(AM$5>$AF$18,0,LARGE($C$18:$AA$18,AM$5)) -> 0 | AN18: =IF(AN$5>$AF$18,0,LARGE($C$18:$AA$18,AN$5)) -> 0 | ... BE18: =IF(BE$5>$AF$18,0,LARGE($C$18:$AA$18,BE$5)) -> 0 | BF18: =SUM(AG18:AU18) -> 0
A19: 14. | B19: =Tabulka!C19 -> Karafiát Václav | C19: =Tabulka!D19 | D19: =Tabulka!E19 | E19: =Tabulka!F19 | F19: =Tabulka!G19 | G19: =Tabulka!H19 | H19: =Tabulka!I19 | I19: =Tabulka!J19 | ... AA19: =Tabulka!AB19 | AB19: =SUM(C19:AA19) -> 0 | AD19: 14. | AE19: =B19 -> Karafiát Václav | AF19: =COUNT(Tabulka!D19:AB19) -> 0 | AG19: =IF(AG$5>$AF$19,0,LARGE($C$19:$AA$19,AG$5)) -> 0 | AH19: =IF(AH$5>$AF$19,0,LARGE($C$19:$AA$19,AH$5)) -> 0 | AI19: =IF(AI$5>$AF$19,0,LARGE($C$19:$AA$19,AI$5)) -> 0 | AJ19: =IF(AJ$5>$AF$19,0,LARGE($C$19:$AA$19,AJ$5)) -> 0 | AK19: =IF(AK$5>$AF$19,0,LARGE($C$19:$AA$19,AK$5)) -> 0 | AL19: =IF(AL$5>$AF$19,0,LARGE($C$19:$AA$19,AL$5)) -> 0 | AM19: =IF(AM$5>$AF$19,0,LARGE($C$19:$AA$19,AM$5)) -> 0 | AN19: =IF(AN$5>$AF$19,0,LARGE($C$19:$AA$19,AN$5)) -> 0 | ... BE19: =IF(BE$5>$AF$19,0,LARGE($C$19:$AA$19,BE$5)) -> 0 | BF19: =SUM(AG19:AU19) -> 0
A20: 15. | B20: =Tabulka!C20 -> Viktorín Rudolf | C20: =Tabulka!D20 | D20: =Tabulka!E20 | E20: =Tabulka!F20 | F20: =Tabulka!G20 | G20: =Tabulka!H20 | H20: =Tabulka!I20 | I20: =Tabulka!J20 | ... AA20: =Tabulka!AB20 | AB20: =SUM(C20:AA20) -> 0 | AD20: 15. | AE20: =B20 -> Viktorín Rudolf | AF20: =COUNT(Tabulka!D20:AB20) -> 0 | AG20: =IF(AG$5>$AF$20,0,LARGE($C$20:$AA$20,AG$5)) -> 0 | AH20: =IF(AH$5>$AF$20,0,LARGE($C$20:$AA$20,AH$5)) -> 0 | AI20: =IF(AI$5>$AF$20,0,LARGE($C$20:$AA$20,AI$5)) -> 0 | AJ20: =IF(AJ$5>$AF$20,0,LARGE($C$20:$AA$20,AJ$5)) -> 0 | AK20: =IF(AK$5>$AF$20,0,LARGE($C$20:$AA$20,AK$5)) -> 0 | AL20: =IF(AL$5>$AF$20,0,LARGE($C$20:$AA$20,AL$5)) -> 0 | AM20: =IF(AM$5>$AF$20,0,LARGE($C$20:$AA$20,AM$5)) -> 0 | AN20: =IF(AN$5>$AF$20,0,LARGE($C$20:$AA$20,AN$5)) -> 0 | ... BE20: =IF(BE$5>$AF$20,0,LARGE($C$20:$AA$20,BE$5)) -> 0 | BF20: =SUM(AG20:AU20) -> 0
A21: 16. | B21: =Tabulka!C21 -> Koranda Jaroslav | C21: =Tabulka!D21 | D21: =Tabulka!E21 | E21: =Tabulka!F21 | F21: =Tabulka!G21 | G21: =Tabulka!H21 | H21: =Tabulka!I21 | I21: =Tabulka!J21 | ... AA21: =Tabulka!AB21 | AB21: =SUM(C21:AA21) -> 0 | AD21: 16. | AE21: =B21 -> Koranda Jaroslav | AF21: =COUNT(Tabulka!D21:AB21) -> 0 | AG21: =IF(AG$5>$AF$21,0,LARGE($C$21:$AA$21,AG$5)) -> 0 | AH21: =IF(AH$5>$AF$21,0,LARGE($C$21:$AA$21,AH$5)) -> 0 | AI21: =IF(AI$5>$AF$21,0,LARGE($C$21:$AA$21,AI$5)) -> 0 | AJ21: =IF(AJ$5>$AF$21,0,LARGE($C$21:$AA$21,AJ$5)) -> 0 | AK21: =IF(AK$5>$AF$21,0,LARGE($C$21:$AA$21,AK$5)) -> 0 | AL21: =IF(AL$5>$AF$21,0,LARGE($C$21:$AA$21,AL$5)) -> 0 | AM21: =IF(AM$5>$AF$21,0,LARGE($C$21:$AA$21,AM$5)) -> 0 | AN21: =IF(AN$5>$AF$21,0,LARGE($C$21:$AA$21,AN$5)) -> 0 | ... BE21: =IF(BE$5>$AF$21,0,LARGE($C$21:$AA$21,BE$5)) -> 0 | BF21: =SUM(AG21:AU21) -> 0
A22: 17. | B22: =Tabulka!C22 -> Křikava David | C22: =Tabulka!D22 | D22: =Tabulka!E22 | E22: =Tabulka!F22 | F22: =Tabulka!G22 | G22: =Tabulka!H22 | H22: =Tabulka!I22 | I22: =Tabulka!J22 | ... AA22: =Tabulka!AB22 | AB22: =SUM(C22:AA22) -> 0 | AD22: 17. | AE22: =B22 -> Křikava David | AF22: =COUNT(Tabulka!D22:AB22) -> 0 | AG22: =IF(AG$5>$AF$22,0,LARGE($C$22:$AA$22,AG$5)) -> 0 | AH22: =IF(AH$5>$AF$22,0,LARGE($C$22:$AA$22,AH$5)) -> 0 | AI22: =IF(AI$5>$AF$22,0,LARGE($C$22:$AA$22,AI$5)) -> 0 | AJ22: =IF(AJ$5>$AF$22,0,LARGE($C$22:$AA$22,AJ$5)) -> 0 | AK22: =IF(AK$5>$AF$22,0,LARGE($C$22:$AA$22,AK$5)) -> 0 | AL22: =IF(AL$5>$AF$22,0,LARGE($C$22:$AA$22,AL$5)) -> 0 | AM22: =IF(AM$5>$AF$22,0,LARGE($C$22:$AA$22,AM$5)) -> 0 | AN22: =IF(AN$5>$AF$22,0,LARGE($C$22:$AA$22,AN$5)) -> 0 | ... BE22: =IF(BE$5>$AF$22,0,LARGE($C$22:$AA$22,BE$5)) -> 0 | BF22: =SUM(AG22:AU22) -> 0
A23: 18. | B23: =Tabulka!C23 -> Pletková Václava | C23: =Tabulka!D23 | D23: =Tabulka!E23 | E23: =Tabulka!F23 | F23: =Tabulka!G23 | G23: =Tabulka!H23 | H23: =Tabulka!I23 | I23: =Tabulka!J23 | ... AA23: =Tabulka!AB23 | AB23: =SUM(C23:AA23) -> 0 | AD23: 18. | AE23: =B23 -> Pletková Václava | AF23: =COUNT(Tabulka!D23:AB23) -> 0 | AG23: =IF(AG$5>$AF$23,0,LARGE($C$23:$AA$23,AG$5)) -> 0 | AH23: =IF(AH$5>$AF$23,0,LARGE($C$23:$AA$23,AH$5)) -> 0 | AI23: =IF(AI$5>$AF$23,0,LARGE($C$23:$AA$23,AI$5)) -> 0 | AJ23: =IF(AJ$5>$AF$23,0,LARGE($C$23:$AA$23,AJ$5)) -> 0 | AK23: =IF(AK$5>$AF$23,0,LARGE($C$23:$AA$23,AK$5)) -> 0 | AL23: =IF(AL$5>$AF$23,0,LARGE($C$23:$AA$23,AL$5)) -> 0 | AM23: =IF(AM$5>$AF$23,0,LARGE($C$23:$AA$23,AM$5)) -> 0 | AN23: =IF(AN$5>$AF$23,0,LARGE($C$23:$AA$23,AN$5)) -> 0 | ... BE23: =IF(BE$5>$AF$23,0,LARGE($C$23:$AA$23,BE$5)) -> 0 | BF23: =SUM(AG23:AU23) -> 0
A24: 19. | B24: =Tabulka!C24 -> Mráček Daniel | C24: =Tabulka!D24 | D24: =Tabulka!E24 | E24: =Tabulka!F24 | F24: =Tabulka!G24 | G24: =Tabulka!H24 | H24: =Tabulka!I24 | I24: =Tabulka!J24 | ... AA24: =Tabulka!AB24 | AB24: =SUM(C24:AA24) -> 0 | AD24: 19. | AE24: =B24 -> Mráček Daniel | AF24: =COUNT(Tabulka!D24:AB24) -> 0 | AG24: =IF(AG$5>$AF$24,0,LARGE($C$24:$AA$24,AG$5)) -> 0 | AH24: =IF(AH$5>$AF$24,0,LARGE($C$24:$AA$24,AH$5)) -> 0 | AI24: =IF(AI$5>$AF$24,0,LARGE($C$24:$AA$24,AI$5)) -> 0 | AJ24: =IF(AJ$5>$AF$24,0,LARGE($C$24:$AA$24,AJ$5)) -> 0 | AK24: =IF(AK$5>$AF$24,0,LARGE($C$24:$AA$24,AK$5)) -> 0 | AL24: =IF(AL$5>$AF$24,0,LARGE($C$24:$AA$24,AL$5)) -> 0 | AM24: =IF(AM$5>$AF$24,0,LARGE($C$24:$AA$24,AM$5)) -> 0 | AN24: =IF(AN$5>$AF$24,0,LARGE($C$24:$AA$24,AN$5)) -> 0 | ... BE24: =IF(BE$5>$AF$24,0,LARGE($C$24:$AA$24,BE$5)) -> 0 | BF24: =SUM(AG24:AU24) -> 0
A25: 20. | B25: =Tabulka!C25 -> Hanzlík Jiří | C25: =Tabulka!D25 | D25: =Tabulka!E25 | E25: =Tabulka!F25 | F25: =Tabulka!G25 | G25: =Tabulka!H25 | H25: =Tabulka!I25 | I25: =Tabulka!J25 | ... AA25: =Tabulka!AB25 | AB25: =SUM(C25:AA25) -> 0 | AD25: 20. | AE25: =B25 -> Hanzlík Jiří | AF25: =COUNT(Tabulka!D25:AB25) -> 0 | AG25: =IF(AG$5>$AF$25,0,LARGE($C$25:$AA$25,AG$5)) -> 0 | AH25: =IF(AH$5>$AF$25,0,LARGE($C$25:$AA$25,AH$5)) -> 0 | AI25: =IF(AI$5>$AF$25,0,LARGE($C$25:$AA$25,AI$5)) -> 0 | AJ25: =IF(AJ$5>$AF$25,0,LARGE($C$25:$AA$25,AJ$5)) -> 0 | AK25: =IF(AK$5>$AF$25,0,LARGE($C$25:$AA$25,AK$5)) -> 0 | AL25: =IF(AL$5>$AF$25,0,LARGE($C$25:$AA$25,AL$5)) -> 0 | AM25: =IF(AM$5>$AF$25,0,LARGE($C$25:$AA$25,AM$5)) -> 0 | AN25: =IF(AN$5>$AF$25,0,LARGE($C$25:$AA$25,AN$5)) -> 0 | ... BE25: =IF(BE$5>$AF$25,0,LARGE($C$25:$AA$25,BE$5)) -> 0 | BF25: =SUM(AG25:AU25) -> 0
