Workbook

Sheet Tabulka
B2: Páteční tréninkové turnaje - sezóna 2025/2026
D3: 1 | E3: 2 | F3: 3 | G3: 4 | H3: 5 | I3: 6 | J3: 7 | K3: 8 | L3: 9 | M3: 10 | N3: 11 | P3: 12 | Q3: 13 | R3: 14 | S3: 15 | T3: 16 | U3: 17 | V3: 18 | W3: 18 | X3: 19 | Y3: 20 | Z3: 21 | AA3: 22 | AB3: 23 | AC3: 24 | AD3: 25 | AE3: 26 | AF3: 27
D4: 2.10. | E4: 9.10. | F4: 16.10. | G4: 23.10. | H4: 30.10. | I4: 6.11. | J4: 13.11. | K4: 20.11. | L4: 27.11. | M4: 4.12. | N4: 11.12. | O4: 20.12. | P4: 18.12. | Q4: 9.1. | R4: 16.1. | S4: 23.1. | T4: 30.1. | U4: 6.2. | V4: 3.3. | W4: 13.2. | X4: 20.2. | Y4: 6.3. | Z4: 13.3. | AA4: 20.3. | AB4: 27.3. | AC4: 3.4. | AD4: 10.4. | AE4: 17.4. | AF4: 24.4.
D5: =List1!B3 -> 11 | E5: =List1!E3 -> 0 | F5: =List1!H3 -> 0 | G5: =List1!K3 -> 0 | H5: =List1!N3 -> 0 | I5: =List1!Q3 -> 0 | J5: =List1!T3 -> 0 | K5: =List1!W3 -> 0 | L5: =List1!Z3 -> 0 | M5: =List1!AC3 -> 0 | N5: =List1!AF3 -> 0 | O5: =List1!AE3 -> 0 | P5: =List1!AI3 -> 8 | Q5: =List1!AO3 -> 0 | R5: =List1!AR3 -> 0 | S5: =List1!AU3 -> 0 | T5: =List1!AX3 -> 0 | U5: =List1!BA3 -> 0 | V5: =List1!AO3 -> 0 | W5: =List1!BG3 -> 0 | X5: =List1!BJ3 -> 0 | Y5: =List1!BM3 -> 0 | Z5: =List1!BP3 -> 0 | AA5: =List1!BS3 -> 0 | AB5: =List1!BV3 -> 0 | AC5: =List1!BY3 -> 0 | AD5: =List1!CB3 -> 0 | AE5: =List1!CE3 -> 0 | AF5: =List1!CH3 -> 0 | AG5: Best 15 | AH5: Celkem | AI5: Úspěšnost
B6: 1. | C6: Rastočný Josef ml. | D6: =IFERROR(VLOOKUP($C6,List1!$B$4:$C$23,2,FALSE),"") -> 11 | E6: =IFERROR(VLOOKUP($C6,List1!$E$4:$F$23,2,FALSE),"") | F6: =IFERROR(VLOOKUP($C6,List1!$H$4:$I$23,2,FALSE),"") | G6: =IFERROR(VLOOKUP($C6,List1!$K$4:$L$23,2,FALSE),"") | H6: =IFERROR(VLOOKUP($C6,List1!$N$4:$O$23,2,FALSE),"") | I6: =IFERROR(VLOOKUP($C6,List1!$Q$4:$R$23,2,FALSE),"") | J6: =IFERROR(VLOOKUP($C6,List1!$T$4:$U$23,2,FALSE),"") | K6: =IFERROR(VLOOKUP($C6,List1!$W$4:$X$23,2,FALSE),"") | L6: =IFERROR(VLOOKUP($C6,List1!$Z$4:$AA$23,2,FALSE),"") | M6: =IFERROR(VLOOKUP($C6,List1!$AC$4:$AD$23,2,FALSE),"") | N6: =IFERROR(VLOOKUP($C6,List1!$AF$4:$AG$23,2,FALSE),"") | P6: =IFERROR(VLOOKUP($C6,List1!$AL$4:$AM$23,2,FALSE),"") | Q6: =IFERROR(VLOOKUP($C6,List1!$AO$4:$AP$23,2,FALSE),"") | R6: =IFERROR(VLOOKUP($C6,List1!$AR$4:$AS$23,2,FALSE),"") | S6: =IFERROR(VLOOKUP($C6,List1!$AU$4:$AV$23,2,FALSE),"") | T6: =IFERROR(VLOOKUP($C6,List1!$AX$4:$AY$23,2,FALSE),"") | U6: =IFERROR(VLOOKUP($C6,List1!$BA$4:$BB$23,2,FALSE),"") | V6: =IFERROR(VLOOKUP($C6,List1!$BD$4:$BE$23,2,FALSE),"") | W6: =IFERROR(VLOOKUP($C6,List1!$BG$4:$BH$23,2,FALSE),"") | X6: =IFERROR(VLOOKUP($C6,List1!$BJ$4:$BK$23,2,FALSE),"") | Y6: =IFERROR(VLOOKUP($C6,List1!$BM$4:$BN$23,2,FALSE),"") | Z6: =IFERROR(VLOOKUP($C6,List1!$BP$4:$BQ$23,2,FALSE),"") | AA6: =IFERROR(VLOOKUP($C6,List1!$BS$4:$BT$23,2,FALSE),"") | AB6: =IFERROR(VLOOKUP($C6,List1!$BV$4:$BW$23,2,FALSE),"") | AC6: =IFERROR(VLOOKUP($C6,List1!$BY$4:$BZ$23,2,FALSE),"") | AD6: =IFERROR(VLOOKUP($C6,List1!$CB$4:$CC$23,2,FALSE),"") | AE6: =IFERROR(VLOOKUP($C6,List1!$CE$4:$CF$23,2,FALSE),"") | AF6: =IFERROR(VLOOKUP($C6,List1!$CH$4:$CI$23,2,FALSE),"") | AG6: =VLOOKUP(C6,'Pomocná data'!AE:BF,28,FALSE) -> 11 | AH6: =SUM(D6:AF6) -> 11 | AI6: =IF(AH6=0,"",SUM(D6:AF6)/(SUMIF(D6:AF6,">0",$D$5:$AF$5))) -> 1
B7: 2. | C7: Hašuĺ Martin | D7: =IFERROR(VLOOKUP($C7,List1!$B$4:$C$23,2,FALSE),"") -> 10 | E7: =IFERROR(VLOOKUP($C7,List1!$E$4:$F$23,2,FALSE),"") | F7: =IFERROR(VLOOKUP($C7,List1!$H$4:$I$23,2,FALSE),"") | G7: =IFERROR(VLOOKUP($C7,List1!$K$4:$L$23,2,FALSE),"") | H7: =IFERROR(VLOOKUP($C7,List1!$N$4:$O$23,2,FALSE),"") | I7: =IFERROR(VLOOKUP($C7,List1!$Q$4:$R$23,2,FALSE),"") | J7: =IFERROR(VLOOKUP($C7,List1!$T$4:$U$23,2,FALSE),"") | K7: =IFERROR(VLOOKUP($C7,List1!$W$4:$X$23,2,FALSE),"") | L7: =IFERROR(VLOOKUP($C7,List1!$Z$4:$AA$23,2,FALSE),"") | M7: =IFERROR(VLOOKUP($C7,List1!$AC$4:$AD$23,2,FALSE),"") | N7: =IFERROR(VLOOKUP($C7,List1!$AF$4:$AG$23,2,FALSE),"") | P7: =IFERROR(VLOOKUP($C7,List1!$AL$4:$AM$23,2,FALSE),"") | Q7: =IFERROR(VLOOKUP($C7,List1!$AO$4:$AP$23,2,FALSE),"") | R7: =IFERROR(VLOOKUP($C7,List1!$AR$4:$AS$23,2,FALSE),"") | S7: =IFERROR(VLOOKUP($C7,List1!$AU$4:$AV$23,2,FALSE),"") | T7: =IFERROR(VLOOKUP($C7,List1!$AX$4:$AY$23,2,FALSE),"") | U7: =IFERROR(VLOOKUP($C7,List1!$BA$4:$BB$23,2,FALSE),"") | V7: =IFERROR(VLOOKUP($C7,List1!$BD$4:$BE$23,2,FALSE),"") | W7: =IFERROR(VLOOKUP($C7,List1!$BG$4:$BH$23,2,FALSE),"") | X7: =IFERROR(VLOOKUP($C7,List1!$BJ$4:$BK$23,2,FALSE),"") | Y7: =IFERROR(VLOOKUP($C7,List1!$BM$4:$BN$23,2,FALSE),"") | Z7: =IFERROR(VLOOKUP($C7,List1!$BP$4:$BQ$23,2,FALSE),"") | AA7: =IFERROR(VLOOKUP($C7,List1!$BS$4:$BT$23,2,FALSE),"") | AB7: =IFERROR(VLOOKUP($C7,List1!$BV$4:$BW$23,2,FALSE),"") | AC7: =IFERROR(VLOOKUP($C7,List1!$BY$4:$BZ$23,2,FALSE),"") | AD7: =IFERROR(VLOOKUP($C7,List1!$CB$4:$CC$23,2,FALSE),"") | AE7: =IFERROR(VLOOKUP($C7,List1!$CE$4:$CF$23,2,FALSE),"") | AF7: =IFERROR(VLOOKUP($C7,List1!$CH$4:$CI$23,2,FALSE),"") | AG7: =VLOOKUP(C7,'Pomocná data'!AE:BF,28,FALSE) -> 10 | AH7: =SUM(D7:AF7) -> 10 | AI7: =IF(AH7=0,"",SUM(D7:AF7)/(SUMIF(D7:AF7,">0",$D$5:$AF$5))) -> 0.90909091
B8: 3. | C8: Rastočný Josef st. | D8: =IFERROR(VLOOKUP($C8,List1!$B$4:$C$23,2,FALSE),"") -> 9 | E8: =IFERROR(VLOOKUP($C8,List1!$E$4:$F$23,2,FALSE),"") | F8: =IFERROR(VLOOKUP($C8,List1!$H$4:$I$23,2,FALSE),"") | G8: =IFERROR(VLOOKUP($C8,List1!$K$4:$L$23,2,FALSE),"") | H8: =IFERROR(VLOOKUP($C8,List1!$N$4:$O$23,2,FALSE),"") | I8: =IFERROR(VLOOKUP($C8,List1!$Q$4:$R$23,2,FALSE),"") | J8: =IFERROR(VLOOKUP($C8,List1!$T$4:$U$23,2,FALSE),"") | K8: =IFERROR(VLOOKUP($C8,List1!$W$4:$X$23,2,FALSE),"") | L8: =IFERROR(VLOOKUP($C8,List1!$Z$4:$AA$23,2,FALSE),"") | M8: =IFERROR(VLOOKUP($C8,List1!$AC$4:$AD$23,2,FALSE),"") | N8: =IFERROR(VLOOKUP($C8,List1!$AF$4:$AG$23,2,FALSE),"") | P8: =IFERROR(VLOOKUP($C8,List1!$AL$4:$AM$23,2,FALSE),"") | Q8: =IFERROR(VLOOKUP($C8,List1!$AO$4:$AP$23,2,FALSE),"") | R8: =IFERROR(VLOOKUP($C8,List1!$AR$4:$AS$23,2,FALSE),"") | S8: =IFERROR(VLOOKUP($C8,List1!$AU$4:$AV$23,2,FALSE),"") | T8: =IFERROR(VLOOKUP($C8,List1!$AX$4:$AY$23,2,FALSE),"") | U8: =IFERROR(VLOOKUP($C8,List1!$BA$4:$BB$23,2,FALSE),"") | V8: =IFERROR(VLOOKUP($C8,List1!$BD$4:$BE$23,2,FALSE),"") | W8: =IFERROR(VLOOKUP($C8,List1!$BG$4:$BH$23,2,FALSE),"") | X8: =IFERROR(VLOOKUP($C8,List1!$BJ$4:$BK$23,2,FALSE),"") | Y8: =IFERROR(VLOOKUP($C8,List1!$BM$4:$BN$23,2,FALSE),"") | Z8: =IFERROR(VLOOKUP($C8,List1!$BP$4:$BQ$23,2,FALSE),"") | AA8: =IFERROR(VLOOKUP($C8,List1!$BS$4:$BT$23,2,FALSE),"") | AB8: =IFERROR(VLOOKUP($C8,List1!$BV$4:$BW$23,2,FALSE),"") | AC8: =IFERROR(VLOOKUP($C8,List1!$BY$4:$BZ$23,2,FALSE),"") | AD8: =IFERROR(VLOOKUP($C8,List1!$CB$4:$CC$23,2,FALSE),"") | AE8: =IFERROR(VLOOKUP($C8,List1!$CE$4:$CF$23,2,FALSE),"") | AF8: =IFERROR(VLOOKUP($C8,List1!$CH$4:$CI$23,2,FALSE),"") | AG8: =VLOOKUP(C8,'Pomocná data'!AE:BF,28,FALSE) -> 9 | AH8: =SUM(D8:AF8) -> 9 | AI8: =IF(AH8=0,"",SUM(D8:AF8)/(SUMIF(D8:AF8,">0",$D$5:$AF$5))) -> 0.81818182
B9: 4. | C9: Boldy Adrian | D9: =IFERROR(VLOOKUP($C9,List1!$B$4:$C$23,2,FALSE),"") -> 8 | E9: =IFERROR(VLOOKUP($C9,List1!$E$4:$F$23,2,FALSE),"") | F9: =IFERROR(VLOOKUP($C9,List1!$H$4:$I$23,2,FALSE),"") | G9: =IFERROR(VLOOKUP($C9,List1!$K$4:$L$23,2,FALSE),"") | H9: =IFERROR(VLOOKUP($C9,List1!$N$4:$O$23,2,FALSE),"") | I9: =IFERROR(VLOOKUP($C9,List1!$Q$4:$R$23,2,FALSE),"") | J9: =IFERROR(VLOOKUP($C9,List1!$T$4:$U$23,2,FALSE),"") | K9: =IFERROR(VLOOKUP($C9,List1!$W$4:$X$23,2,FALSE),"") | L9: =IFERROR(VLOOKUP($C9,List1!$Z$4:$AA$23,2,FALSE),"") | M9: =IFERROR(VLOOKUP($C9,List1!$AC$4:$AD$23,2,FALSE),"") | N9: =IFERROR(VLOOKUP($C9,List1!$AF$4:$AG$23,2,FALSE),"") | P9: =IFERROR(VLOOKUP($C9,List1!$AL$4:$AM$23,2,FALSE),"") | Q9: =IFERROR(VLOOKUP($C9,List1!$AO$4:$AP$23,2,FALSE),"") | R9: =IFERROR(VLOOKUP($C9,List1!$AR$4:$AS$23,2,FALSE),"") | S9: =IFERROR(VLOOKUP($C9,List1!$AU$4:$AV$23,2,FALSE),"") | T9: =IFERROR(VLOOKUP($C9,List1!$AX$4:$AY$23,2,FALSE),"") | U9: =IFERROR(VLOOKUP($C9,List1!$BA$4:$BB$23,2,FALSE),"") | V9: =IFERROR(VLOOKUP($C9,List1!$BD$4:$BE$23,2,FALSE),"") | W9: =IFERROR(VLOOKUP($C9,List1!$BG$4:$BH$23,2,FALSE),"") | X9: =IFERROR(VLOOKUP($C9,List1!$BJ$4:$BK$23,2,FALSE),"") | Y9: =IFERROR(VLOOKUP($C9,List1!$BM$4:$BN$23,2,FALSE),"") | Z9: =IFERROR(VLOOKUP($C9,List1!$BP$4:$BQ$23,2,FALSE),"") | AA9: =IFERROR(VLOOKUP($C9,List1!$BS$4:$BT$23,2,FALSE),"") | AB9: =IFERROR(VLOOKUP($C9,List1!$BV$4:$BW$23,2,FALSE),"") | AC9: =IFERROR(VLOOKUP($C9,List1!$BY$4:$BZ$23,2,FALSE),"") | AD9: =IFERROR(VLOOKUP($C9,List1!$CB$4:$CC$23,2,FALSE),"") | AE9: =IFERROR(VLOOKUP($C9,List1!$CE$4:$CF$23,2,FALSE),"") | AF9: =IFERROR(VLOOKUP($C9,List1!$CH$4:$CI$23,2,FALSE),"") | AG9: =VLOOKUP(C9,'Pomocná data'!AE:BF,28,FALSE) -> 8 | AH9: =SUM(D9:AF9) -> 8 | AI9: =IF(AH9=0,"",SUM(D9:AF9)/(SUMIF(D9:AF9,">0",$D$5:$AF$5))) -> 0.72727273
B10: 5. | C10: Koudelka Jiří | D10: =IFERROR(VLOOKUP($C10,List1!$B$4:$C$23,2,FALSE),"") -> 7 | E10: =IFERROR(VLOOKUP($C10,List1!$E$4:$F$23,2,FALSE),"") | F10: =IFERROR(VLOOKUP($C10,List1!$H$4:$I$23,2,FALSE),"") | G10: =IFERROR(VLOOKUP($C10,List1!$K$4:$L$23,2,FALSE),"") | H10: =IFERROR(VLOOKUP($C10,List1!$N$4:$O$23,2,FALSE),"") | I10: =IFERROR(VLOOKUP($C10,List1!$Q$4:$R$23,2,FALSE),"") | J10: =IFERROR(VLOOKUP($C10,List1!$T$4:$U$23,2,FALSE),"") | K10: =IFERROR(VLOOKUP($C10,List1!$W$4:$X$23,2,FALSE),"") | L10: =IFERROR(VLOOKUP($C10,List1!$Z$4:$AA$23,2,FALSE),"") | M10: =IFERROR(VLOOKUP($C10,List1!$AC$4:$AD$23,2,FALSE),"") | N10: =IFERROR(VLOOKUP($C10,List1!$AF$4:$AG$23,2,FALSE),"") | P10: =IFERROR(VLOOKUP($C10,List1!$AL$4:$AM$23,2,FALSE),"") | Q10: =IFERROR(VLOOKUP($C10,List1!$AO$4:$AP$23,2,FALSE),"") | R10: =IFERROR(VLOOKUP($C10,List1!$AR$4:$AS$23,2,FALSE),"") | S10: =IFERROR(VLOOKUP($C10,List1!$AU$4:$AV$23,2,FALSE),"") | T10: =IFERROR(VLOOKUP($C10,List1!$AX$4:$AY$23,2,FALSE),"") | U10: =IFERROR(VLOOKUP($C10,List1!$BA$4:$BB$23,2,FALSE),"") | V10: =IFERROR(VLOOKUP($C10,List1!$BD$4:$BE$23,2,FALSE),"") | W10: =IFERROR(VLOOKUP($C10,List1!$BG$4:$BH$23,2,FALSE),"") | X10: =IFERROR(VLOOKUP($C10,List1!$BJ$4:$BK$23,2,FALSE),"") | Y10: =IFERROR(VLOOKUP($C10,List1!$BM$4:$BN$23,2,FALSE),"") | Z10: =IFERROR(VLOOKUP($C10,List1!$BP$4:$BQ$23,2,FALSE),"") | AA10: =IFERROR(VLOOKUP($C10,List1!$BS$4:$BT$23,2,FALSE),"") | AB10: =IFERROR(VLOOKUP($C10,List1!$BV$4:$BW$23,2,FALSE),"") | AC10: =IFERROR(VLOOKUP($C10,List1!$BY$4:$BZ$23,2,FALSE),"") | AD10: =IFERROR(VLOOKUP($C10,List1!$CB$4:$CC$23,2,FALSE),"") | AE10: =IFERROR(VLOOKUP($C10,List1!$CE$4:$CF$23,2,FALSE),"") | AF10: =IFERROR(VLOOKUP($C10,List1!$CH$4:$CI$23,2,FALSE),"") | AG10: =VLOOKUP(C10,'Pomocná data'!AE:BF,28,FALSE) -> 7 | AH10: =SUM(D10:AF10) -> 7 | AI10: =IF(AH10=0,"",SUM(D10:AF10)/(SUMIF(D10:AF10,">0",$D$5:$AF$5))) -> 0.63636364
B11: 6. | C11: Holub Antonín | D11: =IFERROR(VLOOKUP($C11,List1!$B$4:$C$23,2,FALSE),"") -> 6 | E11: =IFERROR(VLOOKUP($C11,List1!$E$4:$F$23,2,FALSE),"") | F11: =IFERROR(VLOOKUP($C11,List1!$H$4:$I$23,2,FALSE),"") | G11: =IFERROR(VLOOKUP($C11,List1!$K$4:$L$23,2,FALSE),"") | H11: =IFERROR(VLOOKUP($C11,List1!$N$4:$O$23,2,FALSE),"") | I11: =IFERROR(VLOOKUP($C11,List1!$Q$4:$R$23,2,FALSE),"") | J11: =IFERROR(VLOOKUP($C11,List1!$T$4:$U$23,2,FALSE),"") | K11: =IFERROR(VLOOKUP($C11,List1!$W$4:$X$23,2,FALSE),"") | L11: =IFERROR(VLOOKUP($C11,List1!$Z$4:$AA$23,2,FALSE),"") | M11: =IFERROR(VLOOKUP($C11,List1!$AC$4:$AD$23,2,FALSE),"") | N11: =IFERROR(VLOOKUP($C11,List1!$AF$4:$AG$23,2,FALSE),"") | P11: =IFERROR(VLOOKUP($C11,List1!$AL$4:$AM$23,2,FALSE),"") | Q11: =IFERROR(VLOOKUP($C11,List1!$AO$4:$AP$23,2,FALSE),"") | R11: =IFERROR(VLOOKUP($C11,List1!$AR$4:$AS$23,2,FALSE),"") | S11: =IFERROR(VLOOKUP($C11,List1!$AU$4:$AV$23,2,FALSE),"") | T11: =IFERROR(VLOOKUP($C11,List1!$AX$4:$AY$23,2,FALSE),"") | U11: =IFERROR(VLOOKUP($C11,List1!$BA$4:$BB$23,2,FALSE),"") | V11: =IFERROR(VLOOKUP($C11,List1!$BD$4:$BE$23,2,FALSE),"") | W11: =IFERROR(VLOOKUP($C11,List1!$BG$4:$BH$23,2,FALSE),"") | X11: =IFERROR(VLOOKUP($C11,List1!$BJ$4:$BK$23,2,FALSE),"") | Y11: =IFERROR(VLOOKUP($C11,List1!$BM$4:$BN$23,2,FALSE),"") | Z11: =IFERROR(VLOOKUP($C11,List1!$BP$4:$BQ$23,2,FALSE),"") | AA11: =IFERROR(VLOOKUP($C11,List1!$BS$4:$BT$23,2,FALSE),"") | AB11: =IFERROR(VLOOKUP($C11,List1!$BV$4:$BW$23,2,FALSE),"") | AC11: =IFERROR(VLOOKUP($C11,List1!$BY$4:$BZ$23,2,FALSE),"") | AD11: =IFERROR(VLOOKUP($C11,List1!$CB$4:$CC$23,2,FALSE),"") | AE11: =IFERROR(VLOOKUP($C11,List1!$CE$4:$CF$23,2,FALSE),"") | AF11: =IFERROR(VLOOKUP($C11,List1!$CH$4:$CI$23,2,FALSE),"") | AG11: =VLOOKUP(C11,'Pomocná data'!AE:BF,28,FALSE) -> 6 | AH11: =SUM(D11:AF11) -> 6 | AI11: =IF(AH11=0,"",SUM(D11:AF11)/(SUMIF(D11:AF11,">0",$D$5:$AF$5))) -> 0.54545455
B12: 7. | C12: Hnát Miroslav | D12: =IFERROR(VLOOKUP($C12,List1!$B$4:$C$23,2,FALSE),"") -> 5 | E12: =IFERROR(VLOOKUP($C12,List1!$E$4:$F$23,2,FALSE),"") | F12: =IFERROR(VLOOKUP($C12,List1!$H$4:$I$23,2,FALSE),"") | G12: =IFERROR(VLOOKUP($C12,List1!$K$4:$L$23,2,FALSE),"") | H12: =IFERROR(VLOOKUP($C12,List1!$N$4:$O$23,2,FALSE),"") | I12: =IFERROR(VLOOKUP($C12,List1!$Q$4:$R$23,2,FALSE),"") | J12: =IFERROR(VLOOKUP($C12,List1!$T$4:$U$23,2,FALSE),"") | K12: =IFERROR(VLOOKUP($C12,List1!$W$4:$X$23,2,FALSE),"") | L12: =IFERROR(VLOOKUP($C12,List1!$Z$4:$AA$23,2,FALSE),"") | M12: =IFERROR(VLOOKUP($C12,List1!$AC$4:$AD$23,2,FALSE),"") | N12: =IFERROR(VLOOKUP($C12,List1!$AF$4:$AG$23,2,FALSE),"") | P12: =IFERROR(VLOOKUP($C12,List1!$AL$4:$AM$23,2,FALSE),"") | Q12: =IFERROR(VLOOKUP($C12,List1!$AO$4:$AP$23,2,FALSE),"") | R12: =IFERROR(VLOOKUP($C12,List1!$AR$4:$AS$23,2,FALSE),"") | S12: =IFERROR(VLOOKUP($C12,List1!$AU$4:$AV$23,2,FALSE),"") | T12: =IFERROR(VLOOKUP($C12,List1!$AX$4:$AY$23,2,FALSE),"") | U12: =IFERROR(VLOOKUP($C12,List1!$BA$4:$BB$23,2,FALSE),"") | V12: =IFERROR(VLOOKUP($C12,List1!$BD$4:$BE$23,2,FALSE),"") | W12: =IFERROR(VLOOKUP($C12,List1!$BG$4:$BH$23,2,FALSE),"") | X12: =IFERROR(VLOOKUP($C12,List1!$BJ$4:$BK$23,2,FALSE),"") | Y12: =IFERROR(VLOOKUP($C12,List1!$BM$4:$BN$23,2,FALSE),"") | Z12: =IFERROR(VLOOKUP($C12,List1!$BP$4:$BQ$23,2,FALSE),"") | AA12: =IFERROR(VLOOKUP($C12,List1!$BS$4:$BT$23,2,FALSE),"") | AB12: =IFERROR(VLOOKUP($C12,List1!$BV$4:$BW$23,2,FALSE),"") | AC12: =IFERROR(VLOOKUP($C12,List1!$BY$4:$BZ$23,2,FALSE),"") | AD12: =IFERROR(VLOOKUP($C12,List1!$CB$4:$CC$23,2,FALSE),"") | AE12: =IFERROR(VLOOKUP($C12,List1!$CE$4:$CF$23,2,FALSE),"") | AF12: =IFERROR(VLOOKUP($C12,List1!$CH$4:$CI$23,2,FALSE),"") | AG12: =VLOOKUP(C12,'Pomocná data'!AE:BF,28,FALSE) -> 5 | AH12: =SUM(D12:AF12) -> 5 | AI12: =IF(AH12=0,"",SUM(D12:AF12)/(SUMIF(D12:AF12,">0",$D$5:$AF$5))) -> 0.45454545
B13: 8. | C13: Chmelík Ladislav | D13: =IFERROR(VLOOKUP($C13,List1!$B$4:$C$23,2,FALSE),"") -> 4 | E13: =IFERROR(VLOOKUP($C13,List1!$E$4:$F$23,2,FALSE),"") | F13: =IFERROR(VLOOKUP($C13,List1!$H$4:$I$23,2,FALSE),"") | G13: =IFERROR(VLOOKUP($C13,List1!$K$4:$L$23,2,FALSE),"") | H13: =IFERROR(VLOOKUP($C13,List1!$N$4:$O$23,2,FALSE),"") | I13: =IFERROR(VLOOKUP($C13,List1!$Q$4:$R$23,2,FALSE),"") | J13: =IFERROR(VLOOKUP($C13,List1!$T$4:$U$23,2,FALSE),"") | K13: =IFERROR(VLOOKUP($C13,List1!$W$4:$X$23,2,FALSE),"") | L13: =IFERROR(VLOOKUP($C13,List1!$Z$4:$AA$23,2,FALSE),"") | M13: =IFERROR(VLOOKUP($C13,List1!$AC$4:$AD$23,2,FALSE),"") | N13: =IFERROR(VLOOKUP($C13,List1!$AF$4:$AG$23,2,FALSE),"") | P13: =IFERROR(VLOOKUP($C13,List1!$AL$4:$AM$23,2,FALSE),"") | Q13: =IFERROR(VLOOKUP($C13,List1!$AO$4:$AP$23,2,FALSE),"") | R13: =IFERROR(VLOOKUP($C13,List1!$AR$4:$AS$23,2,FALSE),"") | S13: =IFERROR(VLOOKUP($C13,List1!$AU$4:$AV$23,2,FALSE),"") | T13: =IFERROR(VLOOKUP($C13,List1!$AX$4:$AY$23,2,FALSE),"") | U13: =IFERROR(VLOOKUP($C13,List1!$BA$4:$BB$23,2,FALSE),"") | V13: =IFERROR(VLOOKUP($C13,List1!$BD$4:$BE$23,2,FALSE),"") | W13: =IFERROR(VLOOKUP($C13,List1!$BG$4:$BH$23,2,FALSE),"") | X13: =IFERROR(VLOOKUP($C13,List1!$BJ$4:$BK$23,2,FALSE),"") | Y13: =IFERROR(VLOOKUP($C13,List1!$BM$4:$BN$23,2,FALSE),"") | Z13: =IFERROR(VLOOKUP($C13,List1!$BP$4:$BQ$23,2,FALSE),"") | AA13: =IFERROR(VLOOKUP($C13,List1!$BS$4:$BT$23,2,FALSE),"") | AB13: =IFERROR(VLOOKUP($C13,List1!$BV$4:$BW$23,2,FALSE),"") | AC13: =IFERROR(VLOOKUP($C13,List1!$BY$4:$BZ$23,2,FALSE),"") | AD13: =IFERROR(VLOOKUP($C13,List1!$CB$4:$CC$23,2,FALSE),"") | AE13: =IFERROR(VLOOKUP($C13,List1!$CE$4:$CF$23,2,FALSE),"") | AF13: =IFERROR(VLOOKUP($C13,List1!$CH$4:$CI$23,2,FALSE),"") | AG13: =VLOOKUP(C13,'Pomocná data'!AE:BF,28,FALSE) -> 4 | AH13: =SUM(D13:AF13) -> 4 | AI13: =IF(AH13=0,"",SUM(D13:AF13)/(SUMIF(D13:AF13,">0",$D$5:$AF$5))) -> 0.36363636
B14: 9. | C14: Kubeček Michal | D14: =IFERROR(VLOOKUP($C14,List1!$B$4:$C$23,2,FALSE),"") -> 3 | E14: =IFERROR(VLOOKUP($C14,List1!$E$4:$F$23,2,FALSE),"") | F14: =IFERROR(VLOOKUP($C14,List1!$H$4:$I$23,2,FALSE),"") | G14: =IFERROR(VLOOKUP($C14,List1!$K$4:$L$23,2,FALSE),"") | H14: =IFERROR(VLOOKUP($C14,List1!$N$4:$O$23,2,FALSE),"") | I14: =IFERROR(VLOOKUP($C14,List1!$Q$4:$R$23,2,FALSE),"") | J14: =IFERROR(VLOOKUP($C14,List1!$T$4:$U$23,2,FALSE),"") | K14: =IFERROR(VLOOKUP($C14,List1!$W$4:$X$23,2,FALSE),"") | L14: =IFERROR(VLOOKUP($C14,List1!$Z$4:$AA$23,2,FALSE),"") | M14: =IFERROR(VLOOKUP($C14,List1!$AC$4:$AD$23,2,FALSE),"") | N14: =IFERROR(VLOOKUP($C14,List1!$AF$4:$AG$23,2,FALSE),"") | P14: =IFERROR(VLOOKUP($C14,List1!$AL$4:$AM$23,2,FALSE),"") | Q14: =IFERROR(VLOOKUP($C14,List1!$AO$4:$AP$23,2,FALSE),"") | R14: =IFERROR(VLOOKUP($C14,List1!$AR$4:$AS$23,2,FALSE),"") | S14: =IFERROR(VLOOKUP($C14,List1!$AU$4:$AV$23,2,FALSE),"") | T14: =IFERROR(VLOOKUP($C14,List1!$AX$4:$AY$23,2,FALSE),"") | U14: =IFERROR(VLOOKUP($C14,List1!$BA$4:$BB$23,2,FALSE),"") | V14: =IFERROR(VLOOKUP($C14,List1!$BD$4:$BE$23,2,FALSE),"") | W14: =IFERROR(VLOOKUP($C14,List1!$BG$4:$BH$23,2,FALSE),"") | X14: =IFERROR(VLOOKUP($C14,List1!$BJ$4:$BK$23,2,FALSE),"") | Y14: =IFERROR(VLOOKUP($C14,List1!$BM$4:$BN$23,2,FALSE),"") | Z14: =IFERROR(VLOOKUP($C14,List1!$BP$4:$BQ$23,2,FALSE),"") | AA14: =IFERROR(VLOOKUP($C14,List1!$BS$4:$BT$23,2,FALSE),"") | AB14: =IFERROR(VLOOKUP($C14,List1!$BV$4:$BW$23,2,FALSE),"") | AC14: =IFERROR(VLOOKUP($C14,List1!$BY$4:$BZ$23,2,FALSE),"") | AD14: =IFERROR(VLOOKUP($C14,List1!$CB$4:$CC$23,2,FALSE),"") | AE14: =IFERROR(VLOOKUP($C14,List1!$CE$4:$CF$23,2,FALSE),"") | AF14: =IFERROR(VLOOKUP($C14,List1!$CH$4:$CI$23,2,FALSE),"") | AG14: =VLOOKUP(C14,'Pomocná data'!AE:BF,28,FALSE) -> 3 | AH14: =SUM(D14:AF14) -> 3 | AI14: =IF(AH14=0,"",SUM(D14:AF14)/(SUMIF(D14:AF14,">0",$D$5:$AF$5))) -> 0.27272727
B15: 10. | C15: Krejbich Lukáš | D15: =IFERROR(VLOOKUP($C15,List1!$B$4:$C$23,2,FALSE),"") -> 2 | E15: =IFERROR(VLOOKUP($C15,List1!$E$4:$F$23,2,FALSE),"") | F15: =IFERROR(VLOOKUP($C15,List1!$H$4:$I$23,2,FALSE),"") | G15: =IFERROR(VLOOKUP($C15,List1!$K$4:$L$23,2,FALSE),"") | H15: =IFERROR(VLOOKUP($C15,List1!$N$4:$O$23,2,FALSE),"") | I15: =IFERROR(VLOOKUP($C15,List1!$Q$4:$R$23,2,FALSE),"") | J15: =IFERROR(VLOOKUP($C15,List1!$T$4:$U$23,2,FALSE),"") | K15: =IFERROR(VLOOKUP($C15,List1!$W$4:$X$23,2,FALSE),"") | L15: =IFERROR(VLOOKUP($C15,List1!$Z$4:$AA$23,2,FALSE),"") | M15: =IFERROR(VLOOKUP($C15,List1!$AC$4:$AD$23,2,FALSE),"") | N15: =IFERROR(VLOOKUP($C15,List1!$AF$4:$AG$23,2,FALSE),"") | P15: =IFERROR(VLOOKUP($C15,List1!$AL$4:$AM$23,2,FALSE),"") | Q15: =IFERROR(VLOOKUP($C15,List1!$AO$4:$AP$23,2,FALSE),"") | R15: =IFERROR(VLOOKUP($C15,List1!$AR$4:$AS$23,2,FALSE),"") | S15: =IFERROR(VLOOKUP($C15,List1!$AU$4:$AV$23,2,FALSE),"") | T15: =IFERROR(VLOOKUP($C15,List1!$AX$4:$AY$23,2,FALSE),"") | U15: =IFERROR(VLOOKUP($C15,List1!$BA$4:$BB$23,2,FALSE),"") | V15: =IFERROR(VLOOKUP($C15,List1!$BD$4:$BE$23,2,FALSE),"") | W15: =IFERROR(VLOOKUP($C15,List1!$BG$4:$BH$23,2,FALSE),"") | X15: =IFERROR(VLOOKUP($C15,List1!$BJ$4:$BK$23,2,FALSE),"") | Y15: =IFERROR(VLOOKUP($C15,List1!$BM$4:$BN$23,2,FALSE),"") | Z15: =IFERROR(VLOOKUP($C15,List1!$BP$4:$BQ$23,2,FALSE),"") | AA15: =IFERROR(VLOOKUP($C15,List1!$BS$4:$BT$23,2,FALSE),"") | AB15: =IFERROR(VLOOKUP($C15,List1!$BV$4:$BW$23,2,FALSE),"") | AC15: =IFERROR(VLOOKUP($C15,List1!$BY$4:$BZ$23,2,FALSE),"") | AD15: =IFERROR(VLOOKUP($C15,List1!$CB$4:$CC$23,2,FALSE),"") | AE15: =IFERROR(VLOOKUP($C15,List1!$CE$4:$CF$23,2,FALSE),"") | AF15: =IFERROR(VLOOKUP($C15,List1!$CH$4:$CI$23,2,FALSE),"") | AG15: =VLOOKUP(C15,'Pomocná data'!AE:BF,28,FALSE) -> 2 | AH15: =SUM(D15:AF15) -> 2 | AI15: =IF(AH15=0,"",SUM(D15:AF15)/(SUMIF(D15:AF15,">0",$D$5:$AF$5))) -> 0.18181818
B16: 11. | C16: Plichta Tomáš | D16: =IFERROR(VLOOKUP($C16,List1!$B$4:$C$23,2,FALSE),"") -> 1 | E16: =IFERROR(VLOOKUP($C16,List1!$E$4:$F$23,2,FALSE),"") | F16: =IFERROR(VLOOKUP($C16,List1!$H$4:$I$23,2,FALSE),"") | G16: =IFERROR(VLOOKUP($C16,List1!$K$4:$L$23,2,FALSE),"") | H16: =IFERROR(VLOOKUP($C16,List1!$N$4:$O$23,2,FALSE),"") | I16: =IFERROR(VLOOKUP($C16,List1!$Q$4:$R$23,2,FALSE),"") | J16: =IFERROR(VLOOKUP($C16,List1!$T$4:$U$23,2,FALSE),"") | K16: =IFERROR(VLOOKUP($C16,List1!$W$4:$X$23,2,FALSE),"") | L16: =IFERROR(VLOOKUP($C16,List1!$Z$4:$AA$23,2,FALSE),"") | M16: =IFERROR(VLOOKUP($C16,List1!$AC$4:$AD$23,2,FALSE),"") | N16: =IFERROR(VLOOKUP($C16,List1!$AF$4:$AG$23,2,FALSE),"") | P16: =IFERROR(VLOOKUP($C16,List1!$AL$4:$AM$23,2,FALSE),"") | Q16: =IFERROR(VLOOKUP($C16,List1!$AO$4:$AP$23,2,FALSE),"") | R16: =IFERROR(VLOOKUP($C16,List1!$AR$4:$AS$23,2,FALSE),"") | S16: =IFERROR(VLOOKUP($C16,List1!$AU$4:$AV$23,2,FALSE),"") | T16: =IFERROR(VLOOKUP($C16,List1!$AX$4:$AY$23,2,FALSE),"") | U16: =IFERROR(VLOOKUP($C16,List1!$BA$4:$BB$23,2,FALSE),"") | V16: =IFERROR(VLOOKUP($C16,List1!$BD$4:$BE$23,2,FALSE),"") | W16: =IFERROR(VLOOKUP($C16,List1!$BG$4:$BH$23,2,FALSE),"") | X16: =IFERROR(VLOOKUP($C16,List1!$BJ$4:$BK$23,2,FALSE),"") | Y16: =IFERROR(VLOOKUP($C16,List1!$BM$4:$BN$23,2,FALSE),"") | Z16: =IFERROR(VLOOKUP($C16,List1!$BP$4:$BQ$23,2,FALSE),"") | AA16: =IFERROR(VLOOKUP($C16,List1!$BS$4:$BT$23,2,FALSE),"") | AB16: =IFERROR(VLOOKUP($C16,List1!$BV$4:$BW$23,2,FALSE),"") | AC16: =IFERROR(VLOOKUP($C16,List1!$BY$4:$BZ$23,2,FALSE),"") | AD16: =IFERROR(VLOOKUP($C16,List1!$CB$4:$CC$23,2,FALSE),"") | AE16: =IFERROR(VLOOKUP($C16,List1!$CE$4:$CF$23,2,FALSE),"") | AF16: =IFERROR(VLOOKUP($C16,List1!$CH$4:$CI$23,2,FALSE),"") | AG16: =VLOOKUP(C16,'Pomocná data'!AE:BF,28,FALSE) -> 1 | AH16: =SUM(D16:AF16) -> 1 | AI16: =IF(AH16=0,"",SUM(D16:AF16)/(SUMIF(D16:AF16,">0",$D$5:$AF$5))) -> 0.090909091
B17: 12. | C17: Novotný Petr | D17: =IFERROR(VLOOKUP($C17,List1!$B$4:$C$23,2,FALSE),"") | E17: =IFERROR(VLOOKUP($C17,List1!$E$4:$F$23,2,FALSE),"") | F17: =IFERROR(VLOOKUP($C17,List1!$H$4:$I$23,2,FALSE),"") | G17: =IFERROR(VLOOKUP($C17,List1!$K$4:$L$23,2,FALSE),"") | H17: =IFERROR(VLOOKUP($C17,List1!$N$4:$O$23,2,FALSE),"") | I17: =IFERROR(VLOOKUP($C17,List1!$Q$4:$R$23,2,FALSE),"") | J17: =IFERROR(VLOOKUP($C17,List1!$T$4:$U$23,2,FALSE),"") | K17: =IFERROR(VLOOKUP($C17,List1!$W$4:$X$23,2,FALSE),"") | L17: =IFERROR(VLOOKUP($C17,List1!$Z$4:$AA$23,2,FALSE),"") | M17: =IFERROR(VLOOKUP($C17,List1!$AC$4:$AD$23,2,FALSE),"") | N17: =IFERROR(VLOOKUP($C17,List1!$AF$4:$AG$23,2,FALSE),"") | P17: =IFERROR(VLOOKUP($C17,List1!$AL$4:$AM$23,2,FALSE),"") | Q17: =IFERROR(VLOOKUP($C17,List1!$AO$4:$AP$23,2,FALSE),"") | R17: =IFERROR(VLOOKUP($C17,List1!$AR$4:$AS$23,2,FALSE),"") | S17: =IFERROR(VLOOKUP($C17,List1!$AU$4:$AV$23,2,FALSE),"") | T17: =IFERROR(VLOOKUP($C17,List1!$AX$4:$AY$23,2,FALSE),"") | U17: =IFERROR(VLOOKUP($C17,List1!$BA$4:$BB$23,2,FALSE),"") | V17: =IFERROR(VLOOKUP($C17,List1!$BD$4:$BE$23,2,FALSE),"") | W17: =IFERROR(VLOOKUP($C17,List1!$BG$4:$BH$23,2,FALSE),"") | X17: =IFERROR(VLOOKUP($C17,List1!$BJ$4:$BK$23,2,FALSE),"") | Y17: =IFERROR(VLOOKUP($C17,List1!$BM$4:$BN$23,2,FALSE),"") | Z17: =IFERROR(VLOOKUP($C17,List1!$BP$4:$BQ$23,2,FALSE),"") | AA17: =IFERROR(VLOOKUP($C17,List1!$BS$4:$BT$23,2,FALSE),"") | AB17: =IFERROR(VLOOKUP($C17,List1!$BV$4:$BW$23,2,FALSE),"") | AC17: =IFERROR(VLOOKUP($C17,List1!$BY$4:$BZ$23,2,FALSE),"") | AD17: =IFERROR(VLOOKUP($C17,List1!$CB$4:$CC$23,2,FALSE),"") | AE17: =IFERROR(VLOOKUP($C17,List1!$CE$4:$CF$23,2,FALSE),"") | AF17: =IFERROR(VLOOKUP($C17,List1!$CH$4:$CI$23,2,FALSE),"") | AG17: =VLOOKUP(C17,'Pomocná data'!AE:BF,28,FALSE) -> 0 | AH17: =SUM(D17:AF17) -> 0 | AI17: =IF(AH17=0,"",SUM(D17:AF17)/(SUMIF(D17:AF17,">0",$D$5:$AF$5)))
... B29: 24. | C29: Zimmermann Ladislav | D29: =IFERROR(VLOOKUP($C29,List1!$B$4:$C$23,2,FALSE),"") | E29: =IFERROR(VLOOKUP($C29,List1!$E$4:$F$23,2,FALSE),"") | F29: =IFERROR(VLOOKUP($C29,List1!$H$4:$I$23,2,FALSE),"") | G29: =IFERROR(VLOOKUP($C29,List1!$K$4:$L$23,2,FALSE),"") | H29: =IFERROR(VLOOKUP($C29,List1!$N$4:$O$23,2,FALSE),"") | I29: =IFERROR(VLOOKUP($C29,List1!$Q$4:$R$23,2,FALSE),"") | J29: =IFERROR(VLOOKUP($C29,List1!$T$4:$U$23,2,FALSE),"") | K29: =IFERROR(VLOOKUP($C29,List1!$W$4:$X$23,2,FALSE),"") | L29: =IFERROR(VLOOKUP($C29,List1!$Z$4:$AA$23,2,FALSE),"") | M29: =IFERROR(VLOOKUP($C29,List1!$AC$4:$AD$23,2,FALSE),"") | N29: =IFERROR(VLOOKUP($C29,List1!$AF$4:$AG$23,2,FALSE),"") | P29: =IFERROR(VLOOKUP($C29,List1!$AL$4:$AM$23,2,FALSE),"") | Q29: =IFERROR(VLOOKUP($C29,List1!$AO$4:$AP$23,2,FALSE),"") | R29: =IFERROR(VLOOKUP($C29,List1!$AR$4:$AS$23,2,FALSE),"") | S29: =IFERROR(VLOOKUP($C29,List1!$AU$4:$AV$23,2,FALSE),"") | T29: =IFERROR(VLOOKUP($C29,List1!$AX$4:$AY$23,2,FALSE),"") | U29: =IFERROR(VLOOKUP($C29,List1!$BA$4:$BB$23,2,FALSE),"") | V29: =IFERROR(VLOOKUP($C29,List1!$BD$4:$BE$23,2,FALSE),"") | W29: =IFERROR(VLOOKUP($C29,List1!$BG$4:$BH$23,2,FALSE),"") | X29: =IFERROR(VLOOKUP($C29,List1!$BJ$4:$BK$23,2,FALSE),"") | Y29: =IFERROR(VLOOKUP($C29,List1!$BM$4:$BN$23,2,FALSE),"") | Z29: =IFERROR(VLOOKUP($C29,List1!$BP$4:$BQ$23,2,FALSE),"") | AA29: =IFERROR(VLOOKUP($C29,List1!$BS$4:$BT$23,2,FALSE),"") | AB29: =IFERROR(VLOOKUP($C29,List1!$BV$4:$BW$23,2,FALSE),"") | AC29: =IFERROR(VLOOKUP($C29,List1!$BY$4:$BZ$23,2,FALSE),"") | AD29: =IFERROR(VLOOKUP($C29,List1!$CB$4:$CC$23,2,FALSE),"") | AE29: =IFERROR(VLOOKUP($C29,List1!$CE$4:$CF$23,2,FALSE),"") | AF29: =IFERROR(VLOOKUP($C29,List1!$CH$4:$CI$23,2,FALSE),"") | AG29: =VLOOKUP(C29,'Pomocná data'!AE:BF,28,FALSE) -> 0 | AH29: =SUM(D29:AF29) -> 0 | AI29: =IF(AH29=0,"",SUM(D29:AF29)/(SUMIF(D29:AF29,">0",$D$5:$AF$5)))
B30: 25. | C30: Skalický Petr ml. | D30: =IFERROR(VLOOKUP($C30,List1!$B$4:$C$23,2,FALSE),"") | E30: =IFERROR(VLOOKUP($C30,List1!$E$4:$F$23,2,FALSE),"") | F30: =IFERROR(VLOOKUP($C30,List1!$H$4:$I$23,2,FALSE),"") | G30: =IFERROR(VLOOKUP($C30,List1!$K$4:$L$23,2,FALSE),"") | H30: =IFERROR(VLOOKUP($C30,List1!$N$4:$O$23,2,FALSE),"") | I30: =IFERROR(VLOOKUP($C30,List1!$Q$4:$R$23,2,FALSE),"") | J30: =IFERROR(VLOOKUP($C30,List1!$T$4:$U$23,2,FALSE),"") | K30: =IFERROR(VLOOKUP($C30,List1!$W$4:$X$23,2,FALSE),"") | L30: =IFERROR(VLOOKUP($C30,List1!$Z$4:$AA$23,2,FALSE),"") | M30: =IFERROR(VLOOKUP($C30,List1!$AC$4:$AD$23,2,FALSE),"") | N30: =IFERROR(VLOOKUP($C30,List1!$AF$4:$AG$23,2,FALSE),"") | P30: =IFERROR(VLOOKUP($C30,List1!$AL$4:$AM$23,2,FALSE),"") | Q30: =IFERROR(VLOOKUP($C30,List1!$AO$4:$AP$23,2,FALSE),"") | R30: =IFERROR(VLOOKUP($C30,List1!$AR$4:$AS$23,2,FALSE),"") | S30: =IFERROR(VLOOKUP($C30,List1!$AU$4:$AV$23,2,FALSE),"") | T30: =IFERROR(VLOOKUP($C30,List1!$AX$4:$AY$23,2,FALSE),"") | U30: =IFERROR(VLOOKUP($C30,List1!$BA$4:$BB$23,2,FALSE),"") | V30: =IFERROR(VLOOKUP($C30,List1!$BD$4:$BE$23,2,FALSE),"") | W30: =IFERROR(VLOOKUP($C30,List1!$BG$4:$BH$23,2,FALSE),"") | X30: =IFERROR(VLOOKUP($C30,List1!$BJ$4:$BK$23,2,FALSE),"") | Y30: =IFERROR(VLOOKUP($C30,List1!$BM$4:$BN$23,2,FALSE),"") | Z30: =IFERROR(VLOOKUP($C30,List1!$BP$4:$BQ$23,2,FALSE),"") | AA30: =IFERROR(VLOOKUP($C30,List1!$BS$4:$BT$23,2,FALSE),"") | AB30: =IFERROR(VLOOKUP($C30,List1!$BV$4:$BW$23,2,FALSE),"") | AC30: =IFERROR(VLOOKUP($C30,List1!$BY$4:$BZ$23,2,FALSE),"") | AD30: =IFERROR(VLOOKUP($C30,List1!$CB$4:$CC$23,2,FALSE),"") | AE30: =IFERROR(VLOOKUP($C30,List1!$CE$4:$CF$23,2,FALSE),"") | AF30: =IFERROR(VLOOKUP($C30,List1!$CH$4:$CI$23,2,FALSE),"") | AH30: =SUM(D30:AF30) -> 0 | AI30: =IF(AH30=0,"",SUM(D30:AF30)/(SUMIF(D30:AF30,">0",$D$5:$AF$5)))
B31: 26. | C31: Niko Viliam | D31: =IFERROR(VLOOKUP($C31,List1!$B$4:$C$23,2,FALSE),"") | E31: =IFERROR(VLOOKUP($C31,List1!$E$4:$F$23,2,FALSE),"") | F31: =IFERROR(VLOOKUP($C31,List1!$H$4:$I$23,2,FALSE),"") | G31: =IFERROR(VLOOKUP($C31,List1!$K$4:$L$23,2,FALSE),"") | H31: =IFERROR(VLOOKUP($C31,List1!$N$4:$O$23,2,FALSE),"") | I31: =IFERROR(VLOOKUP($C31,List1!$Q$4:$R$23,2,FALSE),"") | J31: =IFERROR(VLOOKUP($C31,List1!$T$4:$U$23,2,FALSE),"") | K31: =IFERROR(VLOOKUP($C31,List1!$W$4:$X$23,2,FALSE),"") | L31: =IFERROR(VLOOKUP($C31,List1!$Z$4:$AA$23,2,FALSE),"") | M31: =IFERROR(VLOOKUP($C31,List1!$AC$4:$AD$23,2,FALSE),"") | N31: =IFERROR(VLOOKUP($C31,List1!$AF$4:$AG$23,2,FALSE),"") | P31: =IFERROR(VLOOKUP($C31,List1!$AL$4:$AM$23,2,FALSE),"") | Q31: =IFERROR(VLOOKUP($C31,List1!$AO$4:$AP$23,2,FALSE),"") | R31: =IFERROR(VLOOKUP($C31,List1!$AR$4:$AS$23,2,FALSE),"") | S31: =IFERROR(VLOOKUP($C31,List1!$AU$4:$AV$23,2,FALSE),"") | T31: =IFERROR(VLOOKUP($C31,List1!$AX$4:$AY$23,2,FALSE),"") | U31: =IFERROR(VLOOKUP($C31,List1!$BA$4:$BB$23,2,FALSE),"") | V31: =IFERROR(VLOOKUP($C31,List1!$BD$4:$BE$23,2,FALSE),"") | W31: =IFERROR(VLOOKUP($C31,List1!$BG$4:$BH$23,2,FALSE),"") | X31: =IFERROR(VLOOKUP($C31,List1!$BJ$4:$BK$23,2,FALSE),"") | Y31: =IFERROR(VLOOKUP($C31,List1!$BM$4:$BN$23,2,FALSE),"") | Z31: =IFERROR(VLOOKUP($C31,List1!$BP$4:$BQ$23,2,FALSE),"") | AA31: =IFERROR(VLOOKUP($C31,List1!$BS$4:$BT$23,2,FALSE),"") | AB31: =IFERROR(VLOOKUP($C31,List1!$BV$4:$BW$23,2,FALSE),"") | AC31: =IFERROR(VLOOKUP($C31,List1!$BY$4:$BZ$23,2,FALSE),"") | AD31: =IFERROR(VLOOKUP($C31,List1!$CB$4:$CC$23,2,FALSE),"") | AE31: =IFERROR(VLOOKUP($C31,List1!$CE$4:$CF$23,2,FALSE),"") | AF31: =IFERROR(VLOOKUP($C31,List1!$CH$4:$CI$23,2,FALSE),"") | AG31: =VLOOKUP(C31,'Pomocná data'!AE:BF,28,FALSE) -> 0 | AH31: =SUM(D31:AF31) -> 0 | AI31: =IF(AH31=0,"",SUM(D31:AF31)/(SUMIF(D31:AF31,">0",$D$5:$AF$5)))
B32: 27. | C32: Jech Miloš | D32: =IFERROR(VLOOKUP($C32,List1!$B$4:$C$23,2,FALSE),"") | E32: =IFERROR(VLOOKUP($C32,List1!$E$4:$F$23,2,FALSE),"") | F32: =IFERROR(VLOOKUP($C32,List1!$H$4:$I$23,2,FALSE),"") | G32: =IFERROR(VLOOKUP($C32,List1!$K$4:$L$23,2,FALSE),"") | H32: =IFERROR(VLOOKUP($C32,List1!$N$4:$O$23,2,FALSE),"") | I32: =IFERROR(VLOOKUP($C32,List1!$Q$4:$R$23,2,FALSE),"") | J32: =IFERROR(VLOOKUP($C32,List1!$T$4:$U$23,2,FALSE),"") | K32: =IFERROR(VLOOKUP($C32,List1!$W$4:$X$23,2,FALSE),"") | L32: =IFERROR(VLOOKUP($C32,List1!$Z$4:$AA$23,2,FALSE),"") | M32: =IFERROR(VLOOKUP($C32,List1!$AC$4:$AD$23,2,FALSE),"") | N32: =IFERROR(VLOOKUP($C32,List1!$AF$4:$AG$23,2,FALSE),"") | P32: =IFERROR(VLOOKUP($C32,List1!$AL$4:$AM$23,2,FALSE),"") | Q32: =IFERROR(VLOOKUP($C32,List1!$AO$4:$AP$23,2,FALSE),"") | R32: =IFERROR(VLOOKUP($C32,List1!$AR$4:$AS$23,2,FALSE),"") | S32: =IFERROR(VLOOKUP($C32,List1!$AU$4:$AV$23,2,FALSE),"") | T32: =IFERROR(VLOOKUP($C32,List1!$AX$4:$AY$23,2,FALSE),"") | U32: =IFERROR(VLOOKUP($C32,List1!$BA$4:$BB$23,2,FALSE),"") | V32: =IFERROR(VLOOKUP($C32,List1!$BD$4:$BE$23,2,FALSE),"") | W32: =IFERROR(VLOOKUP($C32,List1!$BG$4:$BH$23,2,FALSE),"") | X32: =IFERROR(VLOOKUP($C32,List1!$BJ$4:$BK$23,2,FALSE),"") | Y32: =IFERROR(VLOOKUP($C32,List1!$BM$4:$BN$23,2,FALSE),"") | Z32: =IFERROR(VLOOKUP($C32,List1!$BP$4:$BQ$23,2,FALSE),"") | AA32: =IFERROR(VLOOKUP($C32,List1!$BS$4:$BT$23,2,FALSE),"") | AB32: =IFERROR(VLOOKUP($C32,List1!$BV$4:$BW$23,2,FALSE),"") | AC32: =IFERROR(VLOOKUP($C32,List1!$BY$4:$BZ$23,2,FALSE),"") | AD32: =IFERROR(VLOOKUP($C32,List1!$CB$4:$CC$23,2,FALSE),"") | AE32: =IFERROR(VLOOKUP($C32,List1!$CE$4:$CF$23,2,FALSE),"") | AF32: =IFERROR(VLOOKUP($C32,List1!$CH$4:$CI$23,2,FALSE),"") | AG32: =VLOOKUP(C32,'Pomocná data'!AE:BF,28,FALSE) -> 0 | AH32: =SUM(D32:AF32) -> 0 | AI32: =IF(AH32=0,"",SUM(D32:AF32)/(SUMIF(D32:AF32,">0",$D$5:$AF$5)))
B33: 28. | C33: Skalický Petr st. | D33: =IFERROR(VLOOKUP($C33,List1!$B$4:$C$23,2,FALSE),"") | E33: =IFERROR(VLOOKUP($C33,List1!$E$4:$F$23,2,FALSE),"") | F33: =IFERROR(VLOOKUP($C33,List1!$H$4:$I$23,2,FALSE),"") | G33: =IFERROR(VLOOKUP($C33,List1!$K$4:$L$23,2,FALSE),"") | H33: =IFERROR(VLOOKUP($C33,List1!$N$4:$O$23,2,FALSE),"") | I33: =IFERROR(VLOOKUP($C33,List1!$Q$4:$R$23,2,FALSE),"") | J33: =IFERROR(VLOOKUP($C33,List1!$T$4:$U$23,2,FALSE),"") | K33: =IFERROR(VLOOKUP($C33,List1!$W$4:$X$23,2,FALSE),"") | L33: =IFERROR(VLOOKUP($C33,List1!$Z$4:$AA$23,2,FALSE),"") | M33: =IFERROR(VLOOKUP($C33,List1!$AC$4:$AD$23,2,FALSE),"") | N33: =IFERROR(VLOOKUP($C33,List1!$AF$4:$AG$23,2,FALSE),"") | P33: =IFERROR(VLOOKUP($C33,List1!$AL$4:$AM$23,2,FALSE),"") | Q33: =IFERROR(VLOOKUP($C33,List1!$AO$4:$AP$23,2,FALSE),"") | R33: =IFERROR(VLOOKUP($C33,List1!$AR$4:$AS$23,2,FALSE),"") | S33: =IFERROR(VLOOKUP($C33,List1!$AU$4:$AV$23,2,FALSE),"") | T33: =IFERROR(VLOOKUP($C33,List1!$AX$4:$AY$23,2,FALSE),"") | U33: =IFERROR(VLOOKUP($C33,List1!$BA$4:$BB$23,2,FALSE),"") | V33: =IFERROR(VLOOKUP($C33,List1!$BD$4:$BE$23,2,FALSE),"") | W33: =IFERROR(VLOOKUP($C33,List1!$BG$4:$BH$23,2,FALSE),"") | X33: =IFERROR(VLOOKUP($C33,List1!$BJ$4:$BK$23,2,FALSE),"") | Y33: =IFERROR(VLOOKUP($C33,List1!$BM$4:$BN$23,2,FALSE),"") | Z33: =IFERROR(VLOOKUP($C33,List1!$BP$4:$BQ$23,2,FALSE),"") | AA33: =IFERROR(VLOOKUP($C33,List1!$BS$4:$BT$23,2,FALSE),"") | AB33: =IFERROR(VLOOKUP($C33,List1!$BV$4:$BW$23,2,FALSE),"") | AC33: =IFERROR(VLOOKUP($C33,List1!$BY$4:$BZ$23,2,FALSE),"") | AD33: =IFERROR(VLOOKUP($C33,List1!$CB$4:$CC$23,2,FALSE),"") | AE33: =IFERROR(VLOOKUP($C33,List1!$CE$4:$CF$23,2,FALSE),"") | AF33: =IFERROR(VLOOKUP($C33,List1!$CH$4:$CI$23,2,FALSE),"") | AG33: =VLOOKUP(C33,'Pomocná data'!AE:BF,28,FALSE) -> 0 | AH33: =SUM(D33:AF33) -> 0 | AI33: =IF(AH33=0,"",SUM(D33:AF33)/(SUMIF(D33:AF33,">0",$D$5:$AF$5)))
B34: 29. | C34: Hlubučková Zuzana | D34: =IFERROR(VLOOKUP($C34,List1!$B$4:$C$23,2,FALSE),"") | E34: =IFERROR(VLOOKUP($C34,List1!$E$4:$F$23,2,FALSE),"") | F34: =IFERROR(VLOOKUP($C34,List1!$H$4:$I$23,2,FALSE),"") | G34: =IFERROR(VLOOKUP($C34,List1!$K$4:$L$23,2,FALSE),"") | H34: =IFERROR(VLOOKUP($C34,List1!$N$4:$O$23,2,FALSE),"") | I34: =IFERROR(VLOOKUP($C34,List1!$Q$4:$R$23,2,FALSE),"") | J34: =IFERROR(VLOOKUP($C34,List1!$T$4:$U$23,2,FALSE),"") | K34: =IFERROR(VLOOKUP($C34,List1!$W$4:$X$23,2,FALSE),"") | L34: =IFERROR(VLOOKUP($C34,List1!$Z$4:$AA$23,2,FALSE),"") | M34: =IFERROR(VLOOKUP($C34,List1!$AC$4:$AD$23,2,FALSE),"") | N34: =IFERROR(VLOOKUP($C34,List1!$AF$4:$AG$23,2,FALSE),"") | P34: =IFERROR(VLOOKUP($C34,List1!$AL$4:$AM$23,2,FALSE),"") | Q34: =IFERROR(VLOOKUP($C34,List1!$AO$4:$AP$23,2,FALSE),"") | R34: =IFERROR(VLOOKUP($C34,List1!$AR$4:$AS$23,2,FALSE),"") | S34: =IFERROR(VLOOKUP($C34,List1!$AU$4:$AV$23,2,FALSE),"") | T34: =IFERROR(VLOOKUP($C34,List1!$AX$4:$AY$23,2,FALSE),"") | U34: =IFERROR(VLOOKUP($C34,List1!$BA$4:$BB$23,2,FALSE),"") | V34: =IFERROR(VLOOKUP($C34,List1!$BD$4:$BE$23,2,FALSE),"") | W34: =IFERROR(VLOOKUP($C34,List1!$BG$4:$BH$23,2,FALSE),"") | X34: =IFERROR(VLOOKUP($C34,List1!$BJ$4:$BK$23,2,FALSE),"") | Y34: =IFERROR(VLOOKUP($C34,List1!$BM$4:$BN$23,2,FALSE),"") | Z34: =IFERROR(VLOOKUP($C34,List1!$BP$4:$BQ$23,2,FALSE),"") | AA34: =IFERROR(VLOOKUP($C34,List1!$BS$4:$BT$23,2,FALSE),"") | AB34: =IFERROR(VLOOKUP($C34,List1!$BV$4:$BW$23,2,FALSE),"") | AC34: =IFERROR(VLOOKUP($C34,List1!$BY$4:$BZ$23,2,FALSE),"") | AD34: =IFERROR(VLOOKUP($C34,List1!$CB$4:$CC$23,2,FALSE),"") | AE34: =IFERROR(VLOOKUP($C34,List1!$CE$4:$CF$23,2,FALSE),"") | AF34: =IFERROR(VLOOKUP($C34,List1!$CH$4:$CI$23,2,FALSE),"") | AG34: =VLOOKUP(C34,'Pomocná data'!AE:BF,28,FALSE) -> 0 | AH34: =SUM(D34:AF34) -> 0 | AI34: =IF(AH34=0,"",SUM(D34:AF34)/(SUMIF(D34:AF34,">0",$D$5:$AF$5)))
B35: 30. | C35: Šoltys Roman | D35: =IFERROR(VLOOKUP($C35,List1!$B$4:$C$23,2,FALSE),"") | E35: =IFERROR(VLOOKUP($C35,List1!$E$4:$F$23,2,FALSE),"") | F35: =IFERROR(VLOOKUP($C35,List1!$H$4:$I$23,2,FALSE),"") | G35: =IFERROR(VLOOKUP($C35,List1!$K$4:$L$23,2,FALSE),"") | H35: =IFERROR(VLOOKUP($C35,List1!$N$4:$O$23,2,FALSE),"") | I35: =IFERROR(VLOOKUP($C35,List1!$Q$4:$R$23,2,FALSE),"") | J35: =IFERROR(VLOOKUP($C35,List1!$T$4:$U$23,2,FALSE),"") | K35: =IFERROR(VLOOKUP($C35,List1!$W$4:$X$23,2,FALSE),"") | L35: =IFERROR(VLOOKUP($C35,List1!$Z$4:$AA$23,2,FALSE),"") | M35: =IFERROR(VLOOKUP($C35,List1!$AC$4:$AD$23,2,FALSE),"") | N35: =IFERROR(VLOOKUP($C35,List1!$AF$4:$AG$23,2,FALSE),"") | P35: =IFERROR(VLOOKUP($C35,List1!$AL$4:$AM$23,2,FALSE),"") | Q35: =IFERROR(VLOOKUP($C35,List1!$AO$4:$AP$23,2,FALSE),"") | R35: =IFERROR(VLOOKUP($C35,List1!$AR$4:$AS$23,2,FALSE),"") | S35: =IFERROR(VLOOKUP($C35,List1!$AU$4:$AV$23,2,FALSE),"") | T35: =IFERROR(VLOOKUP($C35,List1!$AX$4:$AY$23,2,FALSE),"") | U35: =IFERROR(VLOOKUP($C35,List1!$BA$4:$BB$23,2,FALSE),"") | V35: =IFERROR(VLOOKUP($C35,List1!$BD$4:$BE$23,2,FALSE),"") | W35: =IFERROR(VLOOKUP($C35,List1!$BG$4:$BH$23,2,FALSE),"") | X35: =IFERROR(VLOOKUP($C35,List1!$BJ$4:$BK$23,2,FALSE),"") | Y35: =IFERROR(VLOOKUP($C35,List1!$BM$4:$BN$23,2,FALSE),"") | Z35: =IFERROR(VLOOKUP($C35,List1!$BP$4:$BQ$23,2,FALSE),"") | AA35: =IFERROR(VLOOKUP($C35,List1!$BS$4:$BT$23,2,FALSE),"") | AB35: =IFERROR(VLOOKUP($C35,List1!$BV$4:$BW$23,2,FALSE),"") | AC35: =IFERROR(VLOOKUP($C35,List1!$BY$4:$BZ$23,2,FALSE),"") | AD35: =IFERROR(VLOOKUP($C35,List1!$CB$4:$CC$23,2,FALSE),"") | AE35: =IFERROR(VLOOKUP($C35,List1!$CE$4:$CF$23,2,FALSE),"") | AF35: =IFERROR(VLOOKUP($C35,List1!$CH$4:$CI$23,2,FALSE),"") | AG35: =VLOOKUP(C35,'Pomocná data'!AE:BF,28,FALSE) -> 0 | AH35: =SUM(D35:AF35) -> 0 | AI35: =IF(AH35=0,"",SUM(D35:AF35)/(SUMIF(D35:AF35,">0",$D$5:$AF$5)))
B36: 31. | C36: Kubín Ondřej | D36: =IFERROR(VLOOKUP($C36,List1!$B$4:$C$23,2,FALSE),"") | E36: =IFERROR(VLOOKUP($C36,List1!$E$4:$F$23,2,FALSE),"") | F36: =IFERROR(VLOOKUP($C36,List1!$H$4:$I$23,2,FALSE),"") | G36: =IFERROR(VLOOKUP($C36,List1!$K$4:$L$23,2,FALSE),"") | H36: =IFERROR(VLOOKUP($C36,List1!$N$4:$O$23,2,FALSE),"") | I36: =IFERROR(VLOOKUP($C36,List1!$Q$4:$R$23,2,FALSE),"") | J36: =IFERROR(VLOOKUP($C36,List1!$T$4:$U$23,2,FALSE),"") | K36: =IFERROR(VLOOKUP($C36,List1!$W$4:$X$23,2,FALSE),"") | L36: =IFERROR(VLOOKUP($C36,List1!$Z$4:$AA$23,2,FALSE),"") | M36: =IFERROR(VLOOKUP($C36,List1!$AC$4:$AD$23,2,FALSE),"") | N36: =IFERROR(VLOOKUP($C36,List1!$AF$4:$AG$23,2,FALSE),"") | P36: =IFERROR(VLOOKUP($C36,List1!$AL$4:$AM$23,2,FALSE),"") | Q36: =IFERROR(VLOOKUP($C36,List1!$AO$4:$AP$23,2,FALSE),"") | R36: =IFERROR(VLOOKUP($C36,List1!$AR$4:$AS$23,2,FALSE),"") | S36: =IFERROR(VLOOKUP($C36,List1!$AU$4:$AV$23,2,FALSE),"") | T36: =IFERROR(VLOOKUP($C36,List1!$AX$4:$AY$23,2,FALSE),"") | U36: =IFERROR(VLOOKUP($C36,List1!$BA$4:$BB$23,2,FALSE),"") | V36: =IFERROR(VLOOKUP($C36,List1!$BD$4:$BE$23,2,FALSE),"") | W36: =IFERROR(VLOOKUP($C36,List1!$BG$4:$BH$23,2,FALSE),"") | X36: =IFERROR(VLOOKUP($C36,List1!$BJ$4:$BK$23,2,FALSE),"") | Y36: =IFERROR(VLOOKUP($C36,List1!$BM$4:$BN$23,2,FALSE),"") | Z36: =IFERROR(VLOOKUP($C36,List1!$BP$4:$BQ$23,2,FALSE),"") | AA36: =IFERROR(VLOOKUP($C36,List1!$BS$4:$BT$23,2,FALSE),"") | AB36: =IFERROR(VLOOKUP($C36,List1!$BV$4:$BW$23,2,FALSE),"") | AC36: =IFERROR(VLOOKUP($C36,List1!$BY$4:$BZ$23,2,FALSE),"") | AD36: =IFERROR(VLOOKUP($C36,List1!$CB$4:$CC$23,2,FALSE),"") | AE36: =IFERROR(VLOOKUP($C36,List1!$CE$4:$CF$23,2,FALSE),"") | AF36: =IFERROR(VLOOKUP($C36,List1!$CH$4:$CI$23,2,FALSE),"") | AG36: =VLOOKUP(C36,'Pomocná data'!AE:BF,28,FALSE) -> #N/A | AH36: =SUM(D36:AF36) -> 0 | AI36: =IF(AH36=0,"",SUM(D36:AF36)/(SUMIF(D36:AF36,">0",$D$5:$AF$5)))
B37: 32. | D37: =IFERROR(VLOOKUP($C37,List1!$B$4:$C$23,2,FALSE),"") | E37: =IFERROR(VLOOKUP($C37,List1!$E$4:$F$23,2,FALSE),"") | F37: =IFERROR(VLOOKUP($C37,List1!$H$4:$I$23,2,FALSE),"") | G37: =IFERROR(VLOOKUP($C37,List1!$K$4:$L$23,2,FALSE),"") | H37: =IFERROR(VLOOKUP($C37,List1!$N$4:$O$23,2,FALSE),"") | I37: =IFERROR(VLOOKUP($C37,List1!$Q$4:$R$23,2,FALSE),"") | J37: =IFERROR(VLOOKUP($C37,List1!$T$4:$U$23,2,FALSE),"") | K37: =IFERROR(VLOOKUP($C37,List1!$W$4:$X$23,2,FALSE),"") | L37: =IFERROR(VLOOKUP($C37,List1!$Z$4:$AA$23,2,FALSE),"") | M37: =IFERROR(VLOOKUP($C37,List1!$AC$4:$AD$23,2,FALSE),"") | N37: =IFERROR(VLOOKUP($C37,List1!$AF$4:$AG$23,2,FALSE),"") | P37: =IFERROR(VLOOKUP($C37,List1!$AL$4:$AM$23,2,FALSE),"") | Q37: =IFERROR(VLOOKUP($C37,List1!$AO$4:$AP$23,2,FALSE),"") | R37: =IFERROR(VLOOKUP($C37,List1!$AR$4:$AS$23,2,FALSE),"") | S37: =IFERROR(VLOOKUP($C37,List1!$AU$4:$AV$23,2,FALSE),"") | T37: =IFERROR(VLOOKUP($C37,List1!$AX$4:$AY$23,2,FALSE),"") | U37: =IFERROR(VLOOKUP($C37,List1!$BA$4:$BB$23,2,FALSE),"") | V37: =IFERROR(VLOOKUP($C37,List1!$BD$4:$BE$23,2,FALSE),"") | W37: =IFERROR(VLOOKUP($C37,List1!$BG$4:$BH$23,2,FALSE),"") | X37: =IFERROR(VLOOKUP($C37,List1!$BJ$4:$BK$23,2,FALSE),"") | Y37: =IFERROR(VLOOKUP($C37,List1!$BM$4:$BN$23,2,FALSE),"") | Z37: =IFERROR(VLOOKUP($C37,List1!$BP$4:$BQ$23,2,FALSE),"") | AA37: =IFERROR(VLOOKUP($C37,List1!$BS$4:$BT$23,2,FALSE),"") | AB37: =IFERROR(VLOOKUP($C37,List1!$BV$4:$BW$23,2,FALSE),"") | AC37: =IFERROR(VLOOKUP($C37,List1!$BY$4:$BZ$23,2,FALSE),"") | AD37: =IFERROR(VLOOKUP($C37,List1!$CB$4:$CC$23,2,FALSE),"") | AE37: =IFERROR(VLOOKUP($C37,List1!$CE$4:$CF$23,2,FALSE),"") | AF37: =IFERROR(VLOOKUP($C37,List1!$BY$4:$BZ$23,2,FALSE),"") | AH37: =SUM(D37:AF37) -> 0 | AI37: =IF(AH37=0,"",SUM(D37:AF37)/(SUMIF(D37:AF37,">0",$D$5:$AF$5)))

Sheet Pomocná data
A2: Páteční tréninkové turnaje - sezóna 2023/2024
C3: 1 | D3: 2 | E3: 3 | F3: 4 | G3: 5 | H3: 6 | I3: 7 | J3: 8 | K3: 9 | L3: 10 | M3: 11 | N3: 12 | O3: 13 | P3: 14 | Q3: 15 | R3: 16 | S3: 17 | T3: 18 | U3: 19 | V3: 20 | W3: 21 | X3: 22 | Y3: 23 | Z3: 24 | AA3: 25 | AG3: 1 | AH3: 2 | AI3: 3 | AJ3: 4 | AK3: 5 | AL3: 6 | AM3: 7 | AN3: 8 | AO3: 9 | AP3: 10 | AQ3: 11 | AR3: 12 | AS3: 13 | AT3: 14 | AU3: 15 | AV3: 16 | AW3: 17 | AX3: 18 | AY3: 19 | AZ3: 20 | BA3: 21 | BB3: 22 | BC3: 23 | BD3: 24 | BE3: 25
C4: 7.10. | D4: 14.10. | E4: 21.10. | F4: 4.11. | G4: 11.11. | H4: 18.11. | I4: 25.11. | J4: 2.12. | K4: 9.12. | L4: 16.12. | M4: 6.1. | N4: 12.1. | O4: 19.1. | P4: 26.1. | Q4: 2.2. | R4: 9.2. | S4: 16.2. | T4: 23.2. | U4: 8.3. | V4: 15.3. | W4: 22.3. | X4: 29.3. | AG4: 7.10. | AH4: 14.10. | AI4: 21.10. | AJ4: 4.11. | AK4: 11.11. | AL4: 18.11. | AM4: 25.11. | AN4: 2.12. | AO4: 9.12. | AP4: 16.12. | AQ4: 6.1. | AR4: 13.1. | AS4: 20.1. | AT4: 27.1. | AU4: 3.2. | AV4: 10.2. | AW4: 17.2. | AX4: 24.2. | AY4: 10.3. | AZ4: 17.3. | BA4: 24.3. | BB4: 31.3.
C5: =Tabulka!D5 -> 11 | D5: =Tabulka!E5 -> 0 | E5: =Tabulka!F5 -> 0 | F5: =Tabulka!G5 -> 0 | G5: =Tabulka!H5 -> 0 | H5: =Tabulka!I5 -> 0 | I5: 6 | J5: =Tabulka!K5 -> 0 | K5: =Tabulka!L5 -> 0 | L5: =Tabulka!M5 -> 0 | M5: =Tabulka!N5 -> 0 | N5: =Tabulka!O5 -> 0 | O5: =Tabulka!P5 -> 8 | P5: =Tabulka!Q5 -> 0 | Q5: =Tabulka!R5 -> 0 | ... AA5: =Tabulka!AB5 -> 0 | AG5: 1 | AH5: 2 | AI5: 3 | AJ5: 4 | AK5: 5 | AL5: 6 | AM5: 7 | AN5: 8 | AO5: 9 | AP5: 10 | AQ5: 11 | AR5: 12 | AS5: 13 | AT5: 14 | AU5: 15 | AV5: 16 | AW5: 17 | AX5: 18 | AY5: 19 | AZ5: 20 | BA5: 21 | BB5: 22 | BC5: 23 | BD5: 24 | BE5: 25
A6: 1. | B6: =Tabulka!C6 -> Rastočný Josef ml. | C6: =Tabulka!D6 -> 11 | D6: =Tabulka!E6 | E6: =Tabulka!F6 | F6: =Tabulka!G6 | G6: =Tabulka!H6 | H6: =Tabulka!I6 | I6: =Tabulka!J6 | ... AA6: =Tabulka!AB6 | AB6: =SUM(C6:AA6) -> 11 | AD6: 1. | AE6: =B6 -> Rastočný Josef ml. | AF6: =COUNT(Tabulka!D6:AB6) -> 1 | AG6: =IF(AG$5>$AF$6,0,LARGE($C$6:$AA$6,AG$5)) -> 11 | AH6: =IF(AH$5>$AF$6,0,LARGE($C$6:$AA$6,AH$5)) -> 0 | AI6: =IF(AI$5>$AF$6,0,LARGE($C$6:$AA$6,AI$5)) -> 0 | AJ6: =IF(AJ$5>$AF$6,0,LARGE($C$6:$AA$6,AJ$5)) -> 0 | AK6: =IF(AK$5>$AF$6,0,LARGE($C$6:$AA$6,AK$5)) -> 0 | AL6: =IF(AL$5>$AF$6,0,LARGE($C$6:$AA$6,AL$5)) -> 0 | AM6: =IF(AM$5>$AF$6,0,LARGE($C$6:$AA$6,AM$5)) -> 0 | AN6: =IF(AN$5>$AF$6,0,LARGE($C$6:$AA$6,AN$5)) -> 0 | ... BE6: =IF(BE$5>$AF$6,0,LARGE($C$6:$AA$6,BE$5)) -> 0 | BF6: =SUM(AG6:AU6) -> 11
A7: 2. | B7: =Tabulka!C7 -> Hašuĺ Martin | C7: =Tabulka!D7 -> 10 | D7: =Tabulka!E7 | E7: =Tabulka!F7 | F7: =Tabulka!G7 | G7: =Tabulka!H7 | H7: =Tabulka!I7 | I7: =Tabulka!J7 | ... AA7: =Tabulka!AB7 | AB7: =SUM(C7:AA7) -> 10 | AD7: 2. | AE7: =B7 -> Hašuĺ Martin | AF7: =COUNT(Tabulka!D7:AB7) -> 1 | AG7: =IF(AG$5>$AF$7,0,LARGE($C$7:$AA$7,AG$5)) -> 10 | AH7: =IF(AH$5>$AF$7,0,LARGE($C$7:$AA$7,AH$5)) -> 0 | AI7: =IF(AI$5>$AF$7,0,LARGE($C$7:$AA$7,AI$5)) -> 0 | AJ7: =IF(AJ$5>$AF$7,0,LARGE($C$7:$AA$7,AJ$5)) -> 0 | AK7: =IF(AK$5>$AF$7,0,LARGE($C$7:$AA$7,AK$5)) -> 0 | AL7: =IF(AL$5>$AF$7,0,LARGE($C$7:$AA$7,AL$5)) -> 0 | AM7: =IF(AM$5>$AF$7,0,LARGE($C$7:$AA$7,AM$5)) -> 0 | AN7: =IF(AN$5>$AF$7,0,LARGE($C$7:$AA$7,AN$5)) -> 0 | ... BE7: =IF(BE$5>$AF$7,0,LARGE($C$7:$AA$7,BE$5)) -> 0 | BF7: =SUM(AG7:AU7) -> 10
A8: 3. | B8: =Tabulka!C8 -> Rastočný Josef st. | C8: =Tabulka!D8 -> 9 | D8: =Tabulka!E8 | E8: =Tabulka!F8 | F8: =Tabulka!G8 | G8: =Tabulka!H8 | H8: =Tabulka!I8 | I8: =Tabulka!J8 | ... AA8: =Tabulka!AB8 | AB8: =SUM(C8:AA8) -> 9 | AD8: 3. | AE8: =B8 -> Rastočný Josef st. | AF8: =COUNT(Tabulka!D8:AB8) -> 1 | AG8: =IF(AG$5>$AF$8,0,LARGE($C$8:$AA$8,AG$5)) -> 9 | AH8: =IF(AH$5>$AF$8,0,LARGE($C$8:$AA$8,AH$5)) -> 0 | AI8: =IF(AI$5>$AF$8,0,LARGE($C$8:$AA$8,AI$5)) -> 0 | AJ8: =IF(AJ$5>$AF$8,0,LARGE($C$8:$AA$8,AJ$5)) -> 0 | AK8: =IF(AK$5>$AF$8,0,LARGE($C$8:$AA$8,AK$5)) -> 0 | AL8: =IF(AL$5>$AF$8,0,LARGE($C$8:$AA$8,AL$5)) -> 0 | AM8: =IF(AM$5>$AF$8,0,LARGE($C$8:$AA$8,AM$5)) -> 0 | AN8: =IF(AN$5>$AF$8,0,LARGE($C$8:$AA$8,AN$5)) -> 0 | ... BE8: =IF(BE$5>$AF$8,0,LARGE($C$8:$AA$8,BE$5)) -> 0 | BF8: =SUM(AG8:AU8) -> 9
A9: 4. | B9: =Tabulka!C9 -> Boldy Adrian | C9: =Tabulka!D9 -> 8 | D9: =Tabulka!E9 | E9: =Tabulka!F9 | F9: =Tabulka!G9 | G9: =Tabulka!H9 | H9: =Tabulka!I9 | I9: =Tabulka!J9 | ... AA9: =Tabulka!AB9 | AB9: =SUM(C9:AA9) -> 8 | AD9: 4. | AE9: =B9 -> Boldy Adrian | AF9: =COUNT(Tabulka!D9:AB9) -> 1 | AG9: =IF(AG$5>$AF$9,0,LARGE($C$9:$AA$9,AG$5)) -> 8 | AH9: =IF(AH$5>$AF$9,0,LARGE($C$9:$AA$9,AH$5)) -> 0 | AI9: =IF(AI$5>$AF$9,0,LARGE($C$9:$AA$9,AI$5)) -> 0 | AJ9: =IF(AJ$5>$AF$9,0,LARGE($C$9:$AA$9,AJ$5)) -> 0 | AK9: =IF(AK$5>$AF$9,0,LARGE($C$9:$AA$9,AK$5)) -> 0 | AL9: =IF(AL$5>$AF$9,0,LARGE($C$9:$AA$9,AL$5)) -> 0 | AM9: =IF(AM$5>$AF$9,0,LARGE($C$9:$AA$9,AM$5)) -> 0 | AN9: =IF(AN$5>$AF$9,0,LARGE($C$9:$AA$9,AN$5)) -> 0 | ... BE9: =IF(BE$5>$AF$9,0,LARGE($C$9:$AA$9,BE$5)) -> 0 | BF9: =SUM(AG9:AU9) -> 8
A10: 5. | B10: =Tabulka!C10 -> Koudelka Jiří | C10: =Tabulka!D10 -> 7 | D10: =Tabulka!E10 | E10: =Tabulka!F10 | F10: =Tabulka!G10 | G10: =Tabulka!H10 | H10: =Tabulka!I10 | I10: =Tabulka!J10 | ... AA10: =Tabulka!AB10 | AB10: =SUM(C10:AA10) -> 7 | AD10: 5. | AE10: =B10 -> Koudelka Jiří | AF10: =COUNT(Tabulka!D10:AB10) -> 1 | AG10: =IF(AG$5>$AF$10,0,LARGE($C$10:$AA$10,AG$5)) -> 7 | AH10: =IF(AH$5>$AF$10,0,LARGE($C$10:$AA$10,AH$5)) -> 0 | AI10: =IF(AI$5>$AF$10,0,LARGE($C$10:$AA$10,AI$5)) -> 0 | AJ10: =IF(AJ$5>$AF$10,0,LARGE($C$10:$AA$10,AJ$5)) -> 0 | AK10: =IF(AK$5>$AF$10,0,LARGE($C$10:$AA$10,AK$5)) -> 0 | AL10: =IF(AL$5>$AF$10,0,LARGE($C$10:$AA$10,AL$5)) -> 0 | AM10: =IF(AM$5>$AF$10,0,LARGE($C$10:$AA$10,AM$5)) -> 0 | AN10: =IF(AN$5>$AF$10,0,LARGE($C$10:$AA$10,AN$5)) -> 0 | ... BE10: =IF(BE$5>$AF$10,0,LARGE($C$10:$AA$10,BE$5)) -> 0 | BF10: =SUM(AG10:AU10) -> 7
A11: 6. | B11: =Tabulka!C11 -> Holub Antonín | C11: =Tabulka!D11 -> 6 | D11: =Tabulka!E11 | E11: =Tabulka!F11 | F11: =Tabulka!G11 | G11: =Tabulka!H11 | H11: =Tabulka!I11 | I11: =Tabulka!J11 | ... AA11: =Tabulka!AB11 | AB11: =SUM(C11:AA11) -> 6 | AD11: 6. | AE11: =B11 -> Holub Antonín | AF11: =COUNT(Tabulka!D11:AB11) -> 1 | AG11: =IF(AG$5>$AF$11,0,LARGE($C$11:$AA$11,AG$5)) -> 6 | AH11: =IF(AH$5>$AF$11,0,LARGE($C$11:$AA$11,AH$5)) -> 0 | AI11: =IF(AI$5>$AF$11,0,LARGE($C$11:$AA$11,AI$5)) -> 0 | AJ11: =IF(AJ$5>$AF$11,0,LARGE($C$11:$AA$11,AJ$5)) -> 0 | AK11: =IF(AK$5>$AF$11,0,LARGE($C$11:$AA$11,AK$5)) -> 0 | AL11: =IF(AL$5>$AF$11,0,LARGE($C$11:$AA$11,AL$5)) -> 0 | AM11: =IF(AM$5>$AF$11,0,LARGE($C$11:$AA$11,AM$5)) -> 0 | AN11: =IF(AN$5>$AF$11,0,LARGE($C$11:$AA$11,AN$5)) -> 0 | ... BE11: =IF(BE$5>$AF$11,0,LARGE($C$11:$AA$11,BE$5)) -> 0 | BF11: =SUM(AG11:AU11) -> 6
A12: 7. | B12: =Tabulka!C12 -> Hnát Miroslav | C12: =Tabulka!D12 -> 5 | D12: =Tabulka!E12 | E12: =Tabulka!F12 | F12: =Tabulka!G12 | G12: =Tabulka!H12 | H12: =Tabulka!I12 | I12: =Tabulka!J12 | ... AA12: =Tabulka!AB12 | AB12: =SUM(C12:AA12) -> 5 | AD12: 7. | AE12: =B12 -> Hnát Miroslav | AF12: =COUNT(Tabulka!D12:AB12) -> 1 | AG12: =IF(AG$5>$AF$12,0,LARGE($C$12:$AA$12,AG$5)) -> 5 | AH12: =IF(AH$5>$AF$12,0,LARGE($C$12:$AA$12,AH$5)) -> 0 | AI12: =IF(AI$5>$AF$12,0,LARGE($C$12:$AA$12,AI$5)) -> 0 | AJ12: =IF(AJ$5>$AF$12,0,LARGE($C$12:$AA$12,AJ$5)) -> 0 | AK12: =IF(AK$5>$AF$12,0,LARGE($C$12:$AA$12,AK$5)) -> 0 | AL12: =IF(AL$5>$AF$12,0,LARGE($C$12:$AA$12,AL$5)) -> 0 | AM12: =IF(AM$5>$AF$12,0,LARGE($C$12:$AA$12,AM$5)) -> 0 | AN12: =IF(AN$5>$AF$12,0,LARGE($C$12:$AA$12,AN$5)) -> 0 | ... BE12: =IF(BE$5>$AF$12,0,LARGE($C$12:$AA$12,BE$5)) -> 0 | BF12: =SUM(AG12:AU12) -> 5
A13: 8. | B13: =Tabulka!C13 -> Chmelík Ladislav | C13: =Tabulka!D13 -> 4 | D13: =Tabulka!E13 | E13: =Tabulka!F13 | F13: =Tabulka!G13 | G13: =Tabulka!H13 | H13: =Tabulka!I13 | I13: =Tabulka!J13 | ... AA13: =Tabulka!AB13 | AB13: =SUM(C13:AA13) -> 4 | AD13: 8. | AE13: =B13 -> Chmelík Ladislav | AF13: =COUNT(Tabulka!D13:AB13) -> 1 | AG13: =IF(AG$5>$AF$13,0,LARGE($C$13:$AA$13,AG$5)) -> 4 | AH13: =IF(AH$5>$AF$13,0,LARGE($C$13:$AA$13,AH$5)) -> 0 | AI13: =IF(AI$5>$AF$13,0,LARGE($C$13:$AA$13,AI$5)) -> 0 | AJ13: =IF(AJ$5>$AF$13,0,LARGE($C$13:$AA$13,AJ$5)) -> 0 | AK13: =IF(AK$5>$AF$13,0,LARGE($C$13:$AA$13,AK$5)) -> 0 | AL13: =IF(AL$5>$AF$13,0,LARGE($C$13:$AA$13,AL$5)) -> 0 | AM13: =IF(AM$5>$AF$13,0,LARGE($C$13:$AA$13,AM$5)) -> 0 | AN13: =IF(AN$5>$AF$13,0,LARGE($C$13:$AA$13,AN$5)) -> 0 | ... BE13: =IF(BE$5>$AF$13,0,LARGE($C$13:$AA$13,BE$5)) -> 0 | BF13: =SUM(AG13:AU13) -> 4
A14: 9. | B14: =Tabulka!C14 -> Kubeček Michal | C14: =Tabulka!D14 -> 3 | D14: =Tabulka!E14 | E14: =Tabulka!F14 | F14: =Tabulka!G14 | G14: =Tabulka!H14 | H14: =Tabulka!I14 | I14: =Tabulka!J14 | ... AA14: =Tabulka!AB14 | AB14: =SUM(C14:AA14) -> 3 | AD14: 9. | AE14: =B14 -> Kubeček Michal | AF14: =COUNT(Tabulka!D14:AB14) -> 1 | AG14: =IF(AG$5>$AF$14,0,LARGE($C$14:$AA$14,AG$5)) -> 3 | AH14: =IF(AH$5>$AF$14,0,LARGE($C$14:$AA$14,AH$5)) -> 0 | AI14: =IF(AI$5>$AF$14,0,LARGE($C$14:$AA$14,AI$5)) -> 0 | AJ14: =IF(AJ$5>$AF$14,0,LARGE($C$14:$AA$14,AJ$5)) -> 0 | AK14: =IF(AK$5>$AF$14,0,LARGE($C$14:$AA$14,AK$5)) -> 0 | AL14: =IF(AL$5>$AF$14,0,LARGE($C$14:$AA$14,AL$5)) -> 0 | AM14: =IF(AM$5>$AF$14,0,LARGE($C$14:$AA$14,AM$5)) -> 0 | AN14: =IF(AN$5>$AF$14,0,LARGE($C$14:$AA$14,AN$5)) -> 0 | ... BE14: =IF(BE$5>$AF$14,0,LARGE($C$14:$AA$14,BE$5)) -> 0 | BF14: =SUM(AG14:AU14) -> 3
A15: 10. | B15: =Tabulka!C15 -> Krejbich Lukáš | C15: =Tabulka!D15 -> 2 | D15: =Tabulka!E15 | E15: =Tabulka!F15 | F15: =Tabulka!G15 | G15: =Tabulka!H15 | H15: =Tabulka!I15 | I15: =Tabulka!J15 | ... AA15: =Tabulka!AB15 | AB15: =SUM(C15:AA15) -> 2 | AD15: 10. | AE15: =B15 -> Krejbich Lukáš | AF15: =COUNT(Tabulka!D15:AB15) -> 1 | AG15: =IF(AG$5>$AF$15,0,LARGE($C$15:$AA$15,AG$5)) -> 2 | AH15: =IF(AH$5>$AF$15,0,LARGE($C$15:$AA$15,AH$5)) -> 0 | AI15: =IF(AI$5>$AF$15,0,LARGE($C$15:$AA$15,AI$5)) -> 0 | AJ15: =IF(AJ$5>$AF$15,0,LARGE($C$15:$AA$15,AJ$5)) -> 0 | AK15: =IF(AK$5>$AF$15,0,LARGE($C$15:$AA$15,AK$5)) -> 0 | AL15: =IF(AL$5>$AF$15,0,LARGE($C$15:$AA$15,AL$5)) -> 0 | AM15: =IF(AM$5>$AF$15,0,LARGE($C$15:$AA$15,AM$5)) -> 0 | AN15: =IF(AN$5>$AF$15,0,LARGE($C$15:$AA$15,AN$5)) -> 0 | ... BE15: =IF(BE$5>$AF$15,0,LARGE($C$15:$AA$15,BE$5)) -> 0 | BF15: =SUM(AG15:AU15) -> 2
A16: 11. | B16: =Tabulka!C16 -> Plichta Tomáš | C16: =Tabulka!D16 -> 1 | D16: =Tabulka!E16 | E16: =Tabulka!F16 | F16: =Tabulka!G16 | G16: =Tabulka!H16 | H16: =Tabulka!I16 | I16: =Tabulka!J16 | ... AA16: =Tabulka!AB16 | AB16: =SUM(C16:AA16) -> 1 | AD16: 11. | AE16: =B16 -> Plichta Tomáš | AF16: =COUNT(Tabulka!D16:AB16) -> 1 | AG16: =IF(AG$5>$AF$16,0,LARGE($C$16:$AA$16,AG$5)) -> 1 | AH16: =IF(AH$5>$AF$16,0,LARGE($C$16:$AA$16,AH$5)) -> 0 | AI16: =IF(AI$5>$AF$16,0,LARGE($C$16:$AA$16,AI$5)) -> 0 | AJ16: =IF(AJ$5>$AF$16,0,LARGE($C$16:$AA$16,AJ$5)) -> 0 | AK16: =IF(AK$5>$AF$16,0,LARGE($C$16:$AA$16,AK$5)) -> 0 | AL16: =IF(AL$5>$AF$16,0,LARGE($C$16:$AA$16,AL$5)) -> 0 | AM16: =IF(AM$5>$AF$16,0,LARGE($C$16:$AA$16,AM$5)) -> 0 | AN16: =IF(AN$5>$AF$16,0,LARGE($C$16:$AA$16,AN$5)) -> 0 | ... BE16: =IF(BE$5>$AF$16,0,LARGE($C$16:$AA$16,BE$5)) -> 0 | BF16: =SUM(AG16:AU16) -> 1
A17: 12. | B17: =Tabulka!C17 -> Novotný Petr | C17: =Tabulka!D17 | D17: =Tabulka!E17 | E17: =Tabulka!F17 | F17: =Tabulka!G17 | G17: =Tabulka!H17 | H17: =Tabulka!I17 | I17: =Tabulka!J17 | ... AA17: =Tabulka!AB17 | AB17: =SUM(C17:AA17) -> 0 | AD17: 12. | AE17: =B17 -> Novotný Petr | AF17: =COUNT(Tabulka!D17:AB17) -> 0 | AG17: =IF(AG$5>$AF$17,0,LARGE($C$17:$AA$17,AG$5)) -> 0 | AH17: =IF(AH$5>$AF$17,0,LARGE($C$17:$AA$17,AH$5)) -> 0 | AI17: =IF(AI$5>$AF$17,0,LARGE($C$17:$AA$17,AI$5)) -> 0 | AJ17: =IF(AJ$5>$AF$17,0,LARGE($C$17:$AA$17,AJ$5)) -> 0 | AK17: =IF(AK$5>$AF$17,0,LARGE($C$17:$AA$17,AK$5)) -> 0 | AL17: =IF(AL$5>$AF$17,0,LARGE($C$17:$AA$17,AL$5)) -> 0 | AM17: =IF(AM$5>$AF$17,0,LARGE($C$17:$AA$17,AM$5)) -> 0 | AN17: =IF(AN$5>$AF$17,0,LARGE($C$17:$AA$17,AN$5)) -> 0 | ... BE17: =IF(BE$5>$AF$17,0,LARGE($C$17:$AA$17,BE$5)) -> 0 | BF17: =SUM(AG17:AU17) -> 0
A18: 13. | B18: =Tabulka!C18 -> Zoufalý Jiří | C18: =Tabulka!D18 | D18: =Tabulka!E18 | E18: =Tabulka!F18 | F18: =Tabulka!G18 | G18: =Tabulka!H18 | H18: =Tabulka!I18 | I18: =Tabulka!J18 | ... AA18: =Tabulka!AB18 | AB18: =SUM(C18:AA18) -> 0 | AD18: 13. | AE18: =B18 -> Zoufalý Jiří | AF18: =COUNT(Tabulka!D18:AB18) -> 0 | AG18: =IF(AG$5>$AF$18,0,LARGE($C$18:$AA$18,AG$5)) -> 0 | AH18: =IF(AH$5>$AF$18,0,LARGE($C$18:$AA$18,AH$5)) -> 0 | AI18: =IF(AI$5>$AF$18,0,LARGE($C$18:$AA$18,AI$5)) -> 0 | AJ18: =IF(AJ$5>$AF$18,0,LARGE($C$18:$AA$18,AJ$5)) -> 0 | AK18: =IF(AK$5>$AF$18,0,LARGE($C$18:$AA$18,AK$5)) -> 0 | AL18: =IF(AL$5>$AF$18,0,LARGE($C$18:$AA$18,AL$5)) -> 0 | AM18: =IF(AM$5>$AF$18,0,LARGE($C$18:$AA$18,AM$5)) -> 0 | AN18: =IF(AN$5>$AF$18,0,LARGE($C$18:$AA$18,AN$5)) -> 0 | ... BE18: =IF(BE$5>$AF$18,0,LARGE($C$18:$AA$18,BE$5)) -> 0 | BF18: =SUM(AG18:AU18) -> 0
A19: 14. | B19: =Tabulka!C19 -> Karafiát Václav | C19: =Tabulka!D19 | D19: =Tabulka!E19 | E19: =Tabulka!F19 | F19: =Tabulka!G19 | G19: =Tabulka!H19 | H19: =Tabulka!I19 | I19: =Tabulka!J19 | ... AA19: =Tabulka!AB19 | AB19: =SUM(C19:AA19) -> 0 | AD19: 14. | AE19: =B19 -> Karafiát Václav | AF19: =COUNT(Tabulka!D19:AB19) -> 0 | AG19: =IF(AG$5>$AF$19,0,LARGE($C$19:$AA$19,AG$5)) -> 0 | AH19: =IF(AH$5>$AF$19,0,LARGE($C$19:$AA$19,AH$5)) -> 0 | AI19: =IF(AI$5>$AF$19,0,LARGE($C$19:$AA$19,AI$5)) -> 0 | AJ19: =IF(AJ$5>$AF$19,0,LARGE($C$19:$AA$19,AJ$5)) -> 0 | AK19: =IF(AK$5>$AF$19,0,LARGE($C$19:$AA$19,AK$5)) -> 0 | AL19: =IF(AL$5>$AF$19,0,LARGE($C$19:$AA$19,AL$5)) -> 0 | AM19: =IF(AM$5>$AF$19,0,LARGE($C$19:$AA$19,AM$5)) -> 0 | AN19: =IF(AN$5>$AF$19,0,LARGE($C$19:$AA$19,AN$5)) -> 0 | ... BE19: =IF(BE$5>$AF$19,0,LARGE($C$19:$AA$19,BE$5)) -> 0 | BF19: =SUM(AG19:AU19) -> 0
A20: 15. | B20: =Tabulka!C20 -> Viktorín Rudolf | C20: =Tabulka!D20 | D20: =Tabulka!E20 | E20: =Tabulka!F20 | F20: =Tabulka!G20 | G20: =Tabulka!H20 | H20: =Tabulka!I20 | I20: =Tabulka!J20 | ... AA20: =Tabulka!AB20 | AB20: =SUM(C20:AA20) -> 0 | AD20: 15. | AE20: =B20 -> Viktorín Rudolf | AF20: =COUNT(Tabulka!D20:AB20) -> 0 | AG20: =IF(AG$5>$AF$20,0,LARGE($C$20:$AA$20,AG$5)) -> 0 | AH20: =IF(AH$5>$AF$20,0,LARGE($C$20:$AA$20,AH$5)) -> 0 | AI20: =IF(AI$5>$AF$20,0,LARGE($C$20:$AA$20,AI$5)) -> 0 | AJ20: =IF(AJ$5>$AF$20,0,LARGE($C$20:$AA$20,AJ$5)) -> 0 | AK20: =IF(AK$5>$AF$20,0,LARGE($C$20:$AA$20,AK$5)) -> 0 | AL20: =IF(AL$5>$AF$20,0,LARGE($C$20:$AA$20,AL$5)) -> 0 | AM20: =IF(AM$5>$AF$20,0,LARGE($C$20:$AA$20,AM$5)) -> 0 | AN20: =IF(AN$5>$AF$20,0,LARGE($C$20:$AA$20,AN$5)) -> 0 | ... BE20: =IF(BE$5>$AF$20,0,LARGE($C$20:$AA$20,BE$5)) -> 0 | BF20: =SUM(AG20:AU20) -> 0
A21: 16. | B21: =Tabulka!C21 -> Koranda Jaroslav | C21: =Tabulka!D21 | D21: =Tabulka!E21 | E21: =Tabulka!F21 | F21: =Tabulka!G21 | G21: =Tabulka!H21 | H21: =Tabulka!I21 | I21: =Tabulka!J21 | ... AA21: =Tabulka!AB21 | AB21: =SUM(C21:AA21) -> 0 | AD21: 16. | AE21: =B21 -> Koranda Jaroslav | AF21: =COUNT(Tabulka!D21:AB21) -> 0 | AG21: =IF(AG$5>$AF$21,0,LARGE($C$21:$AA$21,AG$5)) -> 0 | AH21: =IF(AH$5>$AF$21,0,LARGE($C$21:$AA$21,AH$5)) -> 0 | AI21: =IF(AI$5>$AF$21,0,LARGE($C$21:$AA$21,AI$5)) -> 0 | AJ21: =IF(AJ$5>$AF$21,0,LARGE($C$21:$AA$21,AJ$5)) -> 0 | AK21: =IF(AK$5>$AF$21,0,LARGE($C$21:$AA$21,AK$5)) -> 0 | AL21: =IF(AL$5>$AF$21,0,LARGE($C$21:$AA$21,AL$5)) -> 0 | AM21: =IF(AM$5>$AF$21,0,LARGE($C$21:$AA$21,AM$5)) -> 0 | AN21: =IF(AN$5>$AF$21,0,LARGE($C$21:$AA$21,AN$5)) -> 0 | ... BE21: =IF(BE$5>$AF$21,0,LARGE($C$21:$AA$21,BE$5)) -> 0 | BF21: =SUM(AG21:AU21) -> 0
A22: 17. | B22: =Tabulka!C22 -> Křikava David | C22: =Tabulka!D22 | D22: =Tabulka!E22 | E22: =Tabulka!F22 | F22: =Tabulka!G22 | G22: =Tabulka!H22 | H22: =Tabulka!I22 | I22: =Tabulka!J22 | ... AA22: =Tabulka!AB22 | AB22: =SUM(C22:AA22) -> 0 | AD22: 17. | AE22: =B22 -> Křikava David | AF22: =COUNT(Tabulka!D22:AB22) -> 0 | AG22: =IF(AG$5>$AF$22,0,LARGE($C$22:$AA$22,AG$5)) -> 0 | AH22: =IF(AH$5>$AF$22,0,LARGE($C$22:$AA$22,AH$5)) -> 0 | AI22: =IF(AI$5>$AF$22,0,LARGE($C$22:$AA$22,AI$5)) -> 0 | AJ22: =IF(AJ$5>$AF$22,0,LARGE($C$22:$AA$22,AJ$5)) -> 0 | AK22: =IF(AK$5>$AF$22,0,LARGE($C$22:$AA$22,AK$5)) -> 0 | AL22: =IF(AL$5>$AF$22,0,LARGE($C$22:$AA$22,AL$5)) -> 0 | AM22: =IF(AM$5>$AF$22,0,LARGE($C$22:$AA$22,AM$5)) -> 0 | AN22: =IF(AN$5>$AF$22,0,LARGE($C$22:$AA$22,AN$5)) -> 0 | ... BE22: =IF(BE$5>$AF$22,0,LARGE($C$22:$AA$22,BE$5)) -> 0 | BF22: =SUM(AG22:AU22) -> 0
A23: 18. | B23: =Tabulka!C23 -> Pletková Václava | C23: =Tabulka!D23 | D23: =Tabulka!E23 | E23: =Tabulka!F23 | F23: =Tabulka!G23 | G23: =Tabulka!H23 | H23: =Tabulka!I23 | I23: =Tabulka!J23 | ... AA23: =Tabulka!AB23 | AB23: =SUM(C23:AA23) -> 0 | AD23: 18. | AE23: =B23 -> Pletková Václava | AF23: =COUNT(Tabulka!D23:AB23) -> 0 | AG23: =IF(AG$5>$AF$23,0,LARGE($C$23:$AA$23,AG$5)) -> 0 | AH23: =IF(AH$5>$AF$23,0,LARGE($C$23:$AA$23,AH$5)) -> 0 | AI23: =IF(AI$5>$AF$23,0,LARGE($C$23:$AA$23,AI$5)) -> 0 | AJ23: =IF(AJ$5>$AF$23,0,LARGE($C$23:$AA$23,AJ$5)) -> 0 | AK23: =IF(AK$5>$AF$23,0,LARGE($C$23:$AA$23,AK$5)) -> 0 | AL23: =IF(AL$5>$AF$23,0,LARGE($C$23:$AA$23,AL$5)) -> 0 | AM23: =IF(AM$5>$AF$23,0,LARGE($C$23:$AA$23,AM$5)) -> 0 | AN23: =IF(AN$5>$AF$23,0,LARGE($C$23:$AA$23,AN$5)) -> 0 | ... BE23: =IF(BE$5>$AF$23,0,LARGE($C$23:$AA$23,BE$5)) -> 0 | BF23: =SUM(AG23:AU23) -> 0
A24: 19. | B24: =Tabulka!C24 -> Mráček Daniel | C24: =Tabulka!D24 | D24: =Tabulka!E24 | E24: =Tabulka!F24 | F24: =Tabulka!G24 | G24: =Tabulka!H24 | H24: =Tabulka!I24 | I24: =Tabulka!J24 | ... AA24: =Tabulka!AB24 | AB24: =SUM(C24:AA24) -> 0 | AD24: 19. | AE24: =B24 -> Mráček Daniel | AF24: =COUNT(Tabulka!D24:AB24) -> 0 | AG24: =IF(AG$5>$AF$24,0,LARGE($C$24:$AA$24,AG$5)) -> 0 | AH24: =IF(AH$5>$AF$24,0,LARGE($C$24:$AA$24,AH$5)) -> 0 | AI24: =IF(AI$5>$AF$24,0,LARGE($C$24:$AA$24,AI$5)) -> 0 | AJ24: =IF(AJ$5>$AF$24,0,LARGE($C$24:$AA$24,AJ$5)) -> 0 | AK24: =IF(AK$5>$AF$24,0,LARGE($C$24:$AA$24,AK$5)) -> 0 | AL24: =IF(AL$5>$AF$24,0,LARGE($C$24:$AA$24,AL$5)) -> 0 | AM24: =IF(AM$5>$AF$24,0,LARGE($C$24:$AA$24,AM$5)) -> 0 | AN24: =IF(AN$5>$AF$24,0,LARGE($C$24:$AA$24,AN$5)) -> 0 | ... BE24: =IF(BE$5>$AF$24,0,LARGE($C$24:$AA$24,BE$5)) -> 0 | BF24: =SUM(AG24:AU24) -> 0
A25: 20. | B25: =Tabulka!C25 -> Hanzlík Jiří | C25: =Tabulka!D25 | D25: =Tabulka!E25 | E25: =Tabulka!F25 | F25: =Tabulka!G25 | G25: =Tabulka!H25 | H25: =Tabulka!I25 | I25: =Tabulka!J25 | ... AA25: =Tabulka!AB25 | AB25: =SUM(C25:AA25) -> 0 | AD25: 20. | AE25: =B25 -> Hanzlík Jiří | AF25: =COUNT(Tabulka!D25:AB25) -> 0 | AG25: =IF(AG$5>$AF$25,0,LARGE($C$25:$AA$25,AG$5)) -> 0 | AH25: =IF(AH$5>$AF$25,0,LARGE($C$25:$AA$25,AH$5)) -> 0 | AI25: =IF(AI$5>$AF$25,0,LARGE($C$25:$AA$25,AI$5)) -> 0 | AJ25: =IF(AJ$5>$AF$25,0,LARGE($C$25:$AA$25,AJ$5)) -> 0 | AK25: =IF(AK$5>$AF$25,0,LARGE($C$25:$AA$25,AK$5)) -> 0 | AL25: =IF(AL$5>$AF$25,0,LARGE($C$25:$AA$25,AL$5)) -> 0 | AM25: =IF(AM$5>$AF$25,0,LARGE($C$25:$AA$25,AM$5)) -> 0 | AN25: =IF(AN$5>$AF$25,0,LARGE($C$25:$AA$25,AN$5)) -> 0 | ... BE25: =IF(BE$5>$AF$25,0,LARGE($C$25:$AA$25,BE$5)) -> 0 | BF25: =SUM(AG25:AU25) -> 0
A26: 21. | B26: =Tabulka!C26 -> Paldus Jan | C26: =Tabulka!D26 | D26: =Tabulka!E26 | E26: =Tabulka!F26 | F26: =Tabulka!G26 | G26: =Tabulka!H26 | H26: =Tabulka!I26 | I26: =Tabulka!J26 | ... AA26: =Tabulka!AB26 | AB26: =SUM(C26:AA26) -> 0 | AD26: 21. | AE26: =B26 -> Paldus Jan | AF26: =COUNT(Tabulka!D26:AB26) -> 0 | AG26: =IF(AG$5>$AF$26,0,LARGE($C$26:$AA$26,AG$5)) -> 0 | AH26: =IF(AH$5>$AF$26,0,LARGE($C$26:$AA$26,AH$5)) -> 0 | AI26: =IF(AI$5>$AF$26,0,LARGE($C$26:$AA$26,AI$5)) -> 0 | AJ26: =IF(AJ$5>$AF$26,0,LARGE($C$26:$AA$26,AJ$5)) -> 0 | AK26: =IF(AK$5>$AF$26,0,LARGE($C$26:$AA$26,AK$5)) -> 0 | AL26: =IF(AL$5>$AF$26,0,LARGE($C$26:$AA$26,AL$5)) -> 0 | AM26: =IF(AM$5>$AF$26,0,LARGE($C$26:$AA$26,AM$5)) -> 0 | AN26: =IF(AN$5>$AF$26,0,LARGE($C$26:$AA$26,AN$5)) -> 0 | ... BE26: =IF(BE$5>$AF$26,0,LARGE($C$26:$AA$26,BE$5)) -> 0 | BF26: =SUM(AG26:AU26) -> 0
A27: 22. | B27: =Tabulka!C27 -> Galandak Dušan | C27: =Tabulka!D27 | D27: =Tabulka!E27 | E27: =Tabulka!F27 | F27: =Tabulka!G27 | G27: =Tabulka!H27 | H27: =Tabulka!I27 | I27: =Tabulka!J27 | ... AA27: =Tabulka!AB27 | AB27: =SUM(C27:AA27) -> 0 | AD27: 22. | AE27: =B27 -> Galandak Dušan | AF27: =COUNT(Tabulka!D27:AB27) -> 0 | AG27: =IF(AG$5>$AF$27,0,LARGE($C$27:$AA$27,AG$5)) -> 0 | AH27: =IF(AH$5>$AF$27,0,LARGE($C$27:$AA$27,AH$5)) -> 0 | AI27: =IF(AI$5>$AF$27,0,LARGE($C$27:$AA$27,AI$5)) -> 0 | AJ27: =IF(AJ$5>$AF$27,0,LARGE($C$27:$AA$27,AJ$5)) -> 0 | AK27: =IF(AK$5>$AF$27,0,LARGE($C$27:$AA$27,AK$5)) -> 0 | AL27: =IF(AL$5>$AF$27,0,LARGE($C$27:$AA$27,AL$5)) -> 0 | AM27: =IF(AM$5>$AF$27,0,LARGE($C$27:$AA$27,AM$5)) -> 0 | AN27: =IF(AN$5>$AF$27,0,LARGE($C$27:$AA$27,AN$5)) -> 0 | ... BE27: =IF(BE$5>$AF$27,0,LARGE($C$27:$AA$27,BE$5)) -> 0 | BF27: =SUM(AG27:AU27) -> 0
A28: 23. | B28: =Tabulka!C28 -> Rakouš Pavel | C28: =Tabulka!D28 | D28: =Tabulka!E28 | E28: =Tabulka!F28 | F28: =Tabulka!G28 | G28: =Tabulka!H28 | H28: =Tabulka!I28 | I28: =Tabulka!J28 | ... AA28: =Tabulka!AB28 | AB28: =SUM(C28:AA28) -> 0 | AD28: 23. | AE28: =B28 -> Rakouš Pavel | AF28: =COUNT(Tabulka!D28:AB28) -> 0 | AG28: =IF(AG$5>$AF$28,0,LARGE($C$28:$AA$28,AG$5)) -> 0 | AH28: =IF(AH$5>$AF$28,0,LARGE($C$28:$AA$28,AH$5)) -> 0 | AI28: =IF(AI$5>$AF$28,0,LARGE($C$28:$AA$28,AI$5)) -> 0 | AJ28: =IF(AJ$5>$AF$28,0,LARGE($C$28:$AA$28,AJ$5)) -> 0 | AK28: =IF(AK$5>$AF$28,0,LARGE($C$28:$AA$28,AK$5)) -> 0 | AL28: =IF(AL$5>$AF$28,0,LARGE($C$28:$AA$28,AL$5)) -> 0 | AM28: =IF(AM$5>$AF$28,0,LARGE($C$28:$AA$28,AM$5)) -> 0 | AN28: =IF(AN$5>$AF$28,0,LARGE($C$28:$AA$28,AN$5)) -> 0 | ... BE28: =IF(BE$5>$AF$28,0,LARGE($C$28:$AA$28,BE$5)) -> 0 | BF28: =SUM(AG28:AU28) -> 0
A29: 24. | B29: =Tabulka!C29 -> Zimmermann Ladislav | C29: =Tabulka!D29 | D29: =Tabulka!E29 | E29: =Tabulka!F29 | F29: =Tabulka!G29 | G29: =Tabulka!H29 | H29: =Tabulka!I29 | I29: =Tabulka!J29 | ... AA29: =Tabulka!AB29 | AB29: =SUM(C29:AA29) -> 0 | AD29: 24. | AE29: =B29 -> Zimmermann Ladislav | AF29: =COUNT(Tabulka!D29:AB29) -> 0 | AG29: =IF(AG$5>$AF$29,0,LARGE($C$29:$AA$29,AG$5)) -> 0 | AH29: =IF(AH$5>$AF$29,0,LARGE($C$29:$AA$29,AH$5)) -> 0 | AI29: =IF(AI$5>$AF$29,0,LARGE($C$29:$AA$29,AI$5)) -> 0 | AJ29: =IF(AJ$5>$AF$29,0,LARGE($C$29:$AA$29,AJ$5)) -> 0 | AK29: =IF(AK$5>$AF$29,0,LARGE($C$29:$AA$29,AK$5)) -> 0 | AL29: =IF(AL$5>$AF$29,0,LARGE($C$29:$AA$29,AL$5)) -> 0 | AM29: =IF(AM$5>$AF$29,0,LARGE($C$29:$AA$29,AM$5)) -> 0 | AN29: =IF(AN$5>$AF$29,0,LARGE($C$29:$AA$29,AN$5)) -> 0 | ... BE29: =IF(BE$5>$AF$29,0,LARGE($C$29:$AA$29,BE$5)) -> 0 | BF29: =SUM(AG29:AU29) -> 0
A30: 25. | B30: =Tabulka!C30 -> Skalický Petr ml. | C30: =Tabulka!D30 | D30: =Tabulka!E30 | E30: =Tabulka!F30 | F30: =Tabulka!G30 | G30: =Tabulka!H30 | H30: =Tabulka!I30 | I30: =Tabulka!J30 | ... AA30: =Tabulka!AB30 | AB30: =SUM(C30:AA30) -> 0 | AD30: 25. | AE30: =B30 -> Skalický Petr ml. | AF30: =COUNT(Tabulka!D30:AB30) -> 0 | AG30: =IF(AG$5>$AF$30,0,LARGE($C$30:$AA$30,AG$5)) -> 0 | AH30: =IF(AH$5>$AF$30,0,LARGE($C$30:$AA$30,AH$5)) -> 0 | AI30: =IF(AI$5>$AF$30,0,LARGE($C$30:$AA$30,AI$5)) -> 0 | AJ30: =IF(AJ$5>$AF$30,0,LARGE($C$30:$AA$30,AJ$5)) -> 0 | AK30: =IF(AK$5>$AF$30,0,LARGE($C$30:$AA$30,AK$5)) -> 0 | AL30: =IF(AL$5>$AF$30,0,LARGE($C$30:$AA$30,AL$5)) -> 0 | AM30: =IF(AM$5>$AF$30,0,LARGE($C$30:$AA$30,AM$5)) -> 0 | AN30: =IF(AN$5>$AF$30,0,LARGE($C$30:$AA$30,AN$5)) -> 0 | ... BE30: =IF(BE$5>$AF$30,0,LARGE($C$30:$AA$30,BE$5)) -> 0 | BF30: =SUM(AG30:AU30) -> 0
A31: 26. | B31: =Tabulka!C31 -> Niko Viliam | C31: =Tabulka!D31 | D31: =Tabulka!E31 | E31: =Tabulka!F31 | F31: =Tabulka!G31 | G31: =Tabulka!H31 | H31: =Tabulka!I31 | I31: =Tabulka!J31 | ... AA31: =Tabulka!AB31 | AB31: =SUM(C31:AA31) -> 0 | AD31: 26. | AE31: =B31 -> Niko Viliam | AF31: =COUNT(Tabulka!D31:AB31) -> 0 | AG31: =IF(AG$5>$AF$31,0,LARGE($C$31:$AA$31,AG$5)) -> 0 | AH31: =IF(AH$5>$AF$31,0,LARGE($C$31:$AA$31,AH$5)) -> 0 | AI31: =IF(AI$5>$AF$31,0,LARGE($C$31:$AA$31,AI$5)) -> 0 | AJ31: =IF(AJ$5>$AF$31,0,LARGE($C$31:$AA$31,AJ$5)) -> 0 | AK31: =IF(AK$5>$AF$31,0,LARGE($C$31:$AA$31,AK$5)) -> 0 | AL31: =IF(AL$5>$AF$31,0,LARGE($C$31:$AA$31,AL$5)) -> 0 | AM31: =IF(AM$5>$AF$31,0,LARGE($C$31:$AA$31,AM$5)) -> 0 | AN31: =IF(AN$5>$AF$31,0,LARGE($C$31:$AA$31,AN$5)) -> 0 | ... BE31: =IF(BE$5>$AF$31,0,LARGE($C$31:$AA$31,BE$5)) -> 0 | BF31: =SUM(AG31:AU31) -> 0
A32: 27. | B32: =Tabulka!C32 -> Jech Miloš | C32: =Tabulka!D32 | D32: =Tabulka!E32 | E32: =Tabulka!F32 | F32: =Tabulka!G32 | G32: =Tabulka!H32 | H32: =Tabulka!I32 | I32: =Tabulka!J32 | ... AA32: =Tabulka!AB32 | AB32: =SUM(C32:AA32) -> 0 | AD32: 27. | AE32: =B32 -> Jech Miloš | AF32: =COUNT(Tabulka!D32:AB32) -> 0 | AG32: =IF(AG$5>$AF$32,0,LARGE($C$32:$AA$32,AG$5)) -> 0 | AH32: =IF(AH$5>$AF$32,0,LARGE($C$32:$AA$32,AH$5)) -> 0 | AI32: =IF(AI$5>$AF$32,0,LARGE($C$32:$AA$32,AI$5)) -> 0 | AJ32: =IF(AJ$5>$AF$32,0,LARGE($C$32:$AA$32,AJ$5)) -> 0 | AK32: =IF(AK$5>$AF$32,0,LARGE($C$32:$AA$32,AK$5)) -> 0 | AL32: =IF(AL$5>$AF$32,0,LARGE($C$32:$AA$32,AL$5)) -> 0 | AM32: =IF(AM$5>$AF$32,0,LARGE($C$32:$AA$32,AM$5)) -> 0 | AN32: =IF(AN$5>$AF$32,0,LARGE($C$32:$AA$32,AN$5)) -> 0 | ... BE32: =IF(BE$5>$AF$32,0,LARGE($C$32:$AA$32,BE$5)) -> 0 | BF32: =SUM(AG32:AU32) -> 0
A33: 28. | B33: =Tabulka!C33 -> Skalický Petr st. | C33: =Tabulka!D33 | D33: =Tabulka!E33 | E33: =Tabulka!F33 | F33: =Tabulka!G33 | G33: =Tabulka!H33 | H33: =Tabulka!I33 | I33: =Tabulka!J33 | ... AA33: =Tabulka!AB33 | AB33: =SUM(C33:AA33) -> 0 | AD33: 28. | AE33: =B33 -> Skalický Petr st. | AF33: =COUNT(Tabulka!D33:AB33) -> 0 | AG33: =IF(AG$5>$AF$33,0,LARGE($C$33:$AA$33,AG$5)) -> 0 | AH33: =IF(AH$5>$AF$33,0,LARGE($C$33:$AA$33,AH$5)) -> 0 | AI33: =IF(AI$5>$AF$33,0,LARGE($C$33:$AA$33,AI$5)) -> 0 | AJ33: =IF(AJ$5>$AF$33,0,LARGE($C$33:$AA$33,AJ$5)) -> 0 | AK33: =IF(AK$5>$AF$33,0,LARGE($C$33:$AA$33,AK$5)) -> 0 | AL33: =IF(AL$5>$AF$33,0,LARGE($C$33:$AA$33,AL$5)) -> 0 | AM33: =IF(AM$5>$AF$33,0,LARGE($C$33:$AA$33,AM$5)) -> 0 | AN33: =IF(AN$5>$AF$33,0,LARGE($C$33:$AA$33,AN$5)) -> 0 | ... BE33: =IF(BE$5>$AF$33,0,LARGE($C$33:$AA$33,BE$5)) -> 0 | BF33: =SUM(AG33:AU33) -> 0
A34: 29. | B34: =Tabulka!C34 -> Hlubučková Zuzana | C34: =Tabulka!D34 | D34: =Tabulka!E34 | E34: =Tabulka!F34 | F34: =Tabulka!G34 | G34: =Tabulka!H34 | H34: =Tabulka!I34 | I34: =Tabulka!J34 | ... AA34: =Tabulka!AB34 | AB34: =SUM(C34:AA34) -> 0 | AD34: 29. | AE34: =B34 -> Hlubučková Zuzana | AF34: =COUNT(Tabulka!D34:AB34) -> 0 | AG34: =IF(AG$5>$AF$34,0,LARGE($C$34:$AA$34,AG$5)) -> 0 | AH34: =IF(AH$5>$AF$34,0,LARGE($C$34:$AA$34,AH$5)) -> 0 | AI34: =IF(AI$5>$AF$34,0,LARGE($C$34:$AA$34,AI$5)) -> 0 | AJ34: =IF(AJ$5>$AF$34,0,LARGE($C$34:$AA$34,AJ$5)) -> 0 | AK34: =IF(AK$5>$AF$34,0,LARGE($C$34:$AA$34,AK$5)) -> 0 | AL34: =IF(AL$5>$AF$34,0,LARGE($C$34:$AA$34,AL$5)) -> 0 | AM34: =IF(AM$5>$AF$34,0,LARGE($C$34:$AA$34,AM$5)) -> 0 | AN34: =IF(AN$5>$AF$34,0,LARGE($C$34:$AA$34,AN$5)) -> 0 | ... BE34: =IF(BE$5>$AF$34,0,LARGE($C$34:$AA$34,BE$5)) -> 0 | BF34: =SUM(AG34:AU34) -> 0
A35: 30. | B35: =Tabulka!C35 -> Šoltys Roman | C35: =Tabulka!D35 | D35: =Tabulka!E35 | E35: =Tabulka!F35 | F35: =Tabulka!G35 | G35: =Tabulka!H35 | H35: =Tabulka!I35 | I35: =Tabulka!J35 | ... AA35: =Tabulka!AB35 | AB35: =SUM(C35:AA35) -> 0 | AD35: 30. | AE35: =B35 -> Šoltys Roman | AF35: =COUNT(Tabulka!D35:AB35) -> 0 | AG35: =IF(AG$5>$AF$34,0,LARGE($C$34:$AA$34,AG$5)) -> 0 | AH35: =IF(AH$5>$AF$34,0,LARGE($C$34:$AA$34,AH$5)) -> 0 | AI35: =IF(AI$5>$AF$34,0,LARGE($C$34:$AA$34,AI$5)) -> 0 | AJ35: =IF(AJ$5>$AF$34,0,LARGE($C$34:$AA$34,AJ$5)) -> 0 | AK35: =IF(AK$5>$AF$34,0,LARGE($C$34:$AA$34,AK$5)) -> 0 | AL35: =IF(AL$5>$AF$34,0,LARGE($C$34:$AA$34,AL$5)) -> 0 | AM35: =IF(AM$5>$AF$34,0,LARGE($C$34:$AA$34,AM$5)) -> 0 | AN35: =IF(AN$5>$AF$34,0,LARGE($C$34:$AA$34,AN$5)) -> 0 | ... BE35: =IF(BE$5>$AF$34,0,LARGE($C$34:$AA$34,BE$5)) -> 0 | BF35: =SUM(AG35:AU35) -> 0

Sheet List1
A1: 1.páteční turnaj | D1: 2.páteční turnaj | G1: 3.páteční turnaj | J1: 4.páteční turnaj | M1: 5.páteční turnaj | P1: 6.páteční turnaj | S1: 7.páteční turnaj | V1: 8.páteční turnaj | Y1: 9.páteční turnaj | AB1: 10.páteční turnaj | AE1: 11.páteční turnaj | AH1: 12.páteční turnaj | AK1: 12.páteční turnaj | AN1: 13.páteční turnaj | AQ1: 14.páteční turnaj | AT1: 15.páteční turnaj | AW1: 16.páteční turnaj | AZ1: 17.páteční turnaj | BC1: 19.páteční turnaj | BF1: 18.páteční turnaj | BI1: 19.páteční turnaj | BL1: 20.páteční turnaj | BO1: 21.páteční turnaj | BR1: 22.páteční turnaj | BU1: 23.páteční turnaj | BX1: 24.páteční turnaj | CA1: 25.páteční turnaj | CD1: 26.páteční turnaj | CG1: 27.páteční turnaj
A2: 46297 | D2: =A2+7 -> 46304 | G2: =D2+7 -> 46311 | J2: =G2+7 -> 46318 | M2: =J2+7 -> 46325 | P2: =M2+7 -> 46332 | S2: =P2+7 -> 46339 | V2: =S2+7 -> 46346 | Y2: =V2+7 -> 46353 | AB2: =Y2+7 -> 46360 | AE2: =AB2+7 -> 46367 | AH2: 46024 | AK2: =AE2+7 -> 46374 | AN2: =AK2+21 -> 46395 | AQ2: =AN2+7 -> 46402 | AT2: =AQ2+7 -> 46409 | AW2: =AT2+7 -> 46416 | AZ2: =AW2+7 -> 46423 | BC2: 44988 | BF2: =AZ2+7 -> 46430 | BI2: =BF2+7 -> 46437 | BL2: =BI2+7 -> 46444 | BO2: =BL2+7 -> 46451 | BR2: =BO2+7 -> 46458 | BU2: =BR2+7 -> 46465 | BX2: =BU2+7 -> 46472 | CA2: =BX2+7 -> 46479 | CD2: =CA2+7 -> 46486 | CG2: =CD2+7 -> 46493
B3: =COUNTA(B4:B23) -> 11 | E3: =COUNTA(E4:E23) -> 0 | H3: =COUNTA(H4:H23) -> 0 | K3: =COUNTA(K4:K23) -> 0 | N3: =COUNTA(N4:N23) -> 0 | Q3: =COUNTA(Q4:Q23) -> 0 | T3: =COUNTA(T4:T23) -> 0 | W3: =COUNTA(W4:W23) -> 0 | Z3: =COUNTA(Z4:Z23) -> 0 | AC3: =COUNTA(AC4:AC23) -> 0 | AF3: =COUNTA(AF4:AF23) -> 0 | AI3: =COUNTA(AI4:AI23) -> 8 | AL3: =COUNTA(AL4:AL23) -> 0 | AO3: =COUNTA(AO4:AO23) -> 0 | AR3: =COUNTA(AR4:AR23) -> 0 | AU3: =COUNTA(AU4:AU23) -> 0 | AX3: =COUNTA(AX4:AX23) -> 0 | BA3: =COUNTA(BA4:BA23) -> 0 | BD3: =COUNTA(BD4:BD23) -> 0 | BG3: =COUNTA(BG4:BG23) -> 0 | BJ3: =COUNTA(BJ4:BJ23) -> 0 | BM3: =COUNTA(BM4:BM23) -> 0 | BP3: =COUNTA(BP4:BP23) -> 0 | BS3: =COUNTA(BS4:BS23) -> 0 | BV3: =COUNTA(BV4:BV23) -> 0 | BY3: =COUNTA(BY4:BY23) -> 0 | CB3: =COUNTA(CB4:CB23) -> 0 | CE3: =COUNTA(CE4:CE23) -> 0 | CH3: =COUNTA(CH4:CH23) -> 0
A4: 1. | B4: Rastočný Josef ml. | C4: =IF(B$3>0,B$3,0) -> 11 | D4: 1. | F4: =IF(E$3>0,E$3,0) -> 0 | G4: 1. | I4: =IF(H$3>0,H$3,0) -> 0 | J4: 1. | L4: =IF(K$3>0,K$3,0) -> 0 | M4: 1. | O4: =IF(N$3>0,N$3,0) -> 0 | P4: 1. | R4: =IF(Q$3>0,Q$3,0) -> 0 | S4: 1. | U4: =IF(T$3>0,T$3,0) -> 0 | V4: 1. | X4: =IF(W$3>0,W$3,0) -> 0 | Y4: 1. | AA4: =IF(Z$3>0,Z$3,0) -> 0 | AB4: 1. | AD4: =IF(AC$3>0,AC$3,0) -> 0 | AE4: 1. | AG4: =IF(AF$3>0,AF$3,0) -> 0 | AH4: 1. | AI4: Chmelík Ladislav | AJ4: =IF(AI$3>0,AI$3,0) -> 8 | AK4: 1. | AM4: =IF(AL$3>0,AL$3,0) -> 0 | AN4: 1. | AP4: =IF(AO$3>0,AO$3,0) -> 0 | AQ4: 1. | AS4: =IF(AR$3>0,AR$3,0) -> 0 | AT4: 1. | AV4: =IF(AU$3>0,AU$3,0) -> 0 | AW4: 1. | AY4: =IF(AX$3>0,AX$3,0) -> 0 | AZ4: 1. | BB4: =IF(BA$3>0,BA$3,0) -> 0 | BC4: 1. | BE4: =IF(BD$3>0,BD$3,0) -> 0 | BF4: 1. | BH4: =IF(BG$3>0,BG$3,0) -> 0 | BI4: 1. | BK4: =IF(BJ$3>0,BJ$3,0) -> 0 | BL4: 1. | BN4: =IF(BM$3>0,BM$3,0) -> 0 | BO4: 1. | BQ4: =IF(BP$3>0,BP$3,0) -> 0 | BR4: 1. | BT4: =IF(BS$3>0,BS$3,0) -> 0 | BU4: 1. | BW4: =IF(BV$3>0,BV$3,0) -> 0 | BX4: 1. | BZ4: =IF(BY$3>0,BY$3,0) -> 0 | CA4: 1. | CC4: =IF(CB$3>0,CB$3,0) -> 0 | CD4: 1. | CF4: =IF(CE$3>0,CE$3,0) -> 0 | CG4: 1. | CI4: =IF(CH$3>0,CH$3,0) -> 0
A5: 2. | B5: Hašuĺ Martin | C5: =IF(B$3-1>0,B$3-1,0) -> 10 | D5: 2. | F5: =IF(E$3-1>0,E$3-1,0) -> 0 | G5: 2. | I5: =IF(H$3-1>0,H$3-1,0) -> 0 | J5: 2. | L5: =IF(K$3-1>0,K$3-1,0) -> 0 | M5: 2. | O5: =IF(N$3-1>0,N$3-1,0) -> 0 | P5: 2. | R5: =IF(Q$3-1>0,Q$3-1,0) -> 0 | S5: 2. | U5: =IF(T$3-1>0,T$3-1,0) -> 0 | V5: 2. | X5: =IF(W$3-1>0,W$3-1,0) -> 0 | Y5: 2. | AA5: =IF(Z$3-1>0,Z$3-1,0) -> 0 | AB5: 2. | AD5: =IF(AC$3-1>0,AC$3-1,0) -> 0 | AE5: 2. | AG5: =IF(AF$3-1>0,AF$3-1,0) -> 0 | AH5: 2. | AI5: Zoufalý Jiří | AJ5: =IF(AI$3-1>0,AI$3-1,0) -> 7 | AK5: 2. | AM5: =IF(AL$3-1>0,AL$3-1,0) -> 0 | AN5: 2. | AP5: =IF(AO$3-1>0,AO$3-1,0) -> 0 | AQ5: 2. | AS5: =IF(AR$3-1>0,AR$3-1,0) -> 0 | AT5: 2. | AV5: =IF(AU$3-1>0,AU$3-1,0) -> 0 | AW5: 2. | AY5: =IF(AX$3-1>0,AX$3-1,0) -> 0 | AZ5: 2. | BB5: =IF(BA$3-1>0,BA$3-1,0) -> 0 | BC5: 2. | BE5: =IF(BD$3-1>0,BD$3-1,0) -> 0 | BF5: 2. | BH5: =IF(BG$3-1>0,BG$3-1,0) -> 0 | BI5: 2. | BK5: =IF(BJ$3-1>0,BJ$3-1,0) -> 0 | BL5: 2. | BN5: =IF(BM$3-1>0,BM$3-1,0) -> 0 | BO5: 2. | BQ5: =IF(BP$3-1>0,BP$3-1,0) -> 0 | BR5: 2. | BT5: =IF(BS$3-1>0,BS$3-1,0) -> 0 | BU5: 2. | BW5: =IF(BV$3-1>0,BV$3-1,0) -> 0 | BX5: 2. | BZ5: =IF(BY$3-1>0,BY$3-1,0) -> 0 | CA5: 2. | CC5: =IF(CB$3-1>0,CB$3-1,0) -> 0 | CD5: 2. | CF5: =IF(CE$3-1>0,CE$3-1,0) -> 0 | CG5: 2. | CI5: =IF(CH$3-1>0,CH$3-1,0) -> 0
A6: 3. | B6: Rastočný Josef st. | C6: =IF(B$3-2>0,B$3-2,0) -> 9 | D6: 3. | F6: =IF(E$3-2>0,E$3-2,0) -> 0 | G6: 3. | I6: =IF(H$3-2>0,H$3-2,0) -> 0 | J6: 3. | L6: =IF(K$3-2>0,K$3-2,0) -> 0 | M6: 3. | O6: =IF(N$3-2>0,N$3-2,0) -> 0 | P6: 3. | R6: =IF(Q$3-2>0,Q$3-2,0) -> 0 | S6: 3. | U6: =IF(T$3-2>0,T$3-2,0) -> 0 | V6: 3. | X6: =IF(W$3-2>0,W$3-2,0) -> 0 | Y6: 3. | AA6: =IF(Z$3-2>0,Z$3-2,0) -> 0 | AB6: 3. | AD6: =IF(AC$3-2>0,AC$3-2,0) -> 0 | AE6: 3. | AG6: =IF(AF$3-2>0,AF$3-2,0) -> 0 | AH6: 3. | AI6: Novotný Petr | AJ6: =IF(AI$3-2>0,AI$3-2,0) -> 6 | AK6: 3. | AM6: =IF(AL$3-2>0,AL$3-2,0) -> 0 | AN6: 3. | AP6: =IF(AO$3-2>0,AO$3-2,0) -> 0 | AQ6: 3. | AS6: =IF(AR$3-2>0,AR$3-2,0) -> 0 | AT6: 3. | AV6: =IF(AU$3-2>0,AU$3-2,0) -> 0 | AW6: 3. | AY6: =IF(AX$3-2>0,AX$3-2,0) -> 0 | AZ6: 3. | BB6: =IF(BA$3-2>0,BA$3-2,0) -> 0 | BC6: 3. | BE6: =IF(BD$3-2>0,BD$3-2,0) -> 0 | BF6: 3. | BH6: =IF(BG$3-2>0,BG$3-2,0) -> 0 | BI6: 3. | BK6: =IF(BJ$3-2>0,BJ$3-2,0) -> 0 | BL6: 3. | BN6: =IF(BM$3-2>0,BM$3-2,0) -> 0 | BO6: 3. | BQ6: =IF(BP$3-2>0,BP$3-2,0) -> 0 | BR6: 3. | BT6: =IF(BS$3-2>0,BS$3-2,0) -> 0 | BU6: 3. | BW6: =IF(BV$3-2>0,BV$3-2,0) -> 0 | BX6: 3. | BZ6: =IF(BY$3-2>0,BY$3-2,0) -> 0 | CA6: 3. | CC6: =IF(CB$3-2>0,CB$3-2,0) -> 0 | CD6: 3. | CF6: =IF(CE$3-2>0,CE$3-2,0) -> 0 | CG6: 3. | CI6: =IF(CH$3-2>0,CH$3-2,0) -> 0
A7: 4. | B7: Boldy Adrian | C7: =IF(B$3-3>0,B$3-3,0) -> 8 | D7: 4. | F7: =IF(E$3-3>0,E$3-3,0) -> 0 | G7: 4. | I7: =IF(H$3-3>0,H$3-3,0) -> 0 | J7: 4. | L7: =IF(K$3-3>0,K$3-3,0) -> 0 | M7: 4. | O7: =IF(N$3-3>0,N$3-3,0) -> 0 | P7: 4. | R7: =IF(Q$3-3>0,Q$3-3,0) -> 0 | S7: 4. | U7: =IF(T$3-3>0,T$3-3,0) -> 0 | V7: 4. | X7: =IF(W$3-3>0,W$3-3,0) -> 0 | Y7: 4. | AA7: =IF(Z$3-3>0,Z$3-3,0) -> 0 | AB7: 4. | AD7: =IF(AC$3-3>0,AC$3-3,0) -> 0 | AE7: 4. | AG7: =IF(AF$3-3>0,AF$3-3,0) -> 0 | AH7: 4. | AI7: Kubeček Michal | AJ7: =IF(AI$3-3>0,AI$3-3,0) -> 5 | AK7: 4. | AM7: =IF(AL$3-3>0,AL$3-3,0) -> 0 | AN7: 4. | AP7: =IF(AO$3-3>0,AO$3-3,0) -> 0 | AQ7: 4. | AS7: =IF(AR$3-3>0,AR$3-3,0) -> 0 | AT7: 4. | AV7: =IF(AU$3-3>0,AU$3-3,0) -> 0 | AW7: 4. | AY7: =IF(AX$3-3>0,AX$3-3,0) -> 0 | AZ7: 4. | BB7: =IF(BA$3-3>0,BA$3-3,0) -> 0 | BC7: 4. | BE7: =IF(BD$3-3>0,BD$3-3,0) -> 0 | BF7: 4. | BH7: =IF(BG$3-3>0,BG$3-3,0) -> 0 | BI7: 4. | BK7: =IF(BJ$3-3>0,BJ$3-3,0) -> 0 | BL7: 4. | BN7: =IF(BM$3-3>0,BM$3-3,0) -> 0 | BO7: 4. | BQ7: =IF(BP$3-3>0,BP$3-3,0) -> 0 | BR7: 4. | BT7: =IF(BS$3-3>0,BS$3-3,0) -> 0 | BU7: 4. | BW7: =IF(BV$3-3>0,BV$3-3,0) -> 0 | BX7: 4. | BZ7: =IF(BY$3-3>0,BY$3-3,0) -> 0 | CA7: 4. | CC7: =IF(CB$3-3>0,CB$3-3,0) -> 0 | CD7: 4. | CF7: =IF(CE$3-3>0,CE$3-3,0) -> 0 | CG7: 4. | CI7: =IF(CH$3-3>0,CH$3-3,0) -> 0
A8: 5. | B8: Koudelka Jiří | C8: =IF(B$3-4>0,B$3-4,0) -> 7 | D8: 5. | F8: =IF(E$3-4>0,E$3-4,0) -> 0 | G8: 5. | I8: =IF(H$3-4>0,H$3-4,0) -> 0 | J8: 5. | L8: =IF(K$3-4>0,K$3-4,0) -> 0 | M8: 5. | O8: =IF(N$3-4>0,N$3-4,0) -> 0 | P8: 5. | R8: =IF(Q$3-4>0,Q$3-4,0) -> 0 | S8: 5. | U8: =IF(T$3-4>0,T$3-4,0) -> 0 | V8: 5. | X8: =IF(W$3-4>0,W$3-4,0) -> 0 | Y8: 5. | AA8: =IF(Z$3-4>0,Z$3-4,0) -> 0 | AB8: 5. | AD8: =IF(AC$3-4>0,AC$3-4,0) -> 0 | AE8: 5. | AG8: =IF(AF$3-4>0,AF$3-4,0) -> 0 | AH8: 5. | AI8: Holub Antonín | AJ8: =IF(AI$3-4>0,AI$3-4,0) -> 4 | AK8: 5. | AM8: =IF(AL$3-4>0,AL$3-4,0) -> 0 | AN8: 5. | AP8: =IF(AO$3-4>0,AO$3-4,0) -> 0 | AQ8: 5. | AS8: =IF(AR$3-4>0,AR$3-4,0) -> 0 | AT8: 5. | AV8: =IF(AU$3-4>0,AU$3-4,0) -> 0 | AW8: 5. | AY8: =IF(AX$3-4>0,AX$3-4,0) -> 0 | AZ8: 5. | BB8: =IF(BA$3-4>0,BA$3-4,0) -> 0 | BC8: 5. | BE8: =IF(BD$3-4>0,BD$3-4,0) -> 0 | BF8: 5. | BH8: =IF(BG$3-4>0,BG$3-4,0) -> 0 | BI8: 5. | BK8: =IF(BJ$3-4>0,BJ$3-4,0) -> 0 | BL8: 5. | BN8: =IF(BM$3-4>0,BM$3-4,0) -> 0 | BO8: 5. | BQ8: =IF(BP$3-4>0,BP$3-4,0) -> 0 | BR8: 5. | BT8: =IF(BS$3-4>0,BS$3-4,0) -> 0 | BU8: 5. | BW8: =IF(BV$3-4>0,BV$3-4,0) -> 0 | BX8: 5. | BZ8: =IF(BY$3-4>0,BY$3-4,0) -> 0 | CA8: 5. | CC8: =IF(CB$3-4>0,CB$3-4,0) -> 0 | CD8: 5. | CF8: =IF(CE$3-4>0,CE$3-4,0) -> 0 | CG8: 5. | CI8: =IF(CH$3-4>0,CH$3-4,0) -> 0
A9: 6. | B9: Holub Antonín | C9: =IF(B$3-5>0,B$3-5,0) -> 6 | D9: 6. | F9: =IF(E$3-5>0,E$3-5,0) -> 0 | G9: 6. | I9: =IF(H$3-5>0,H$3-5,0) -> 0 | J9: 6. | L9: =IF(K$3-5>0,K$3-5,0) -> 0 | M9: 6. | O9: =IF(N$3-5>0,N$3-5,0) -> 0 | P9: 6. | R9: =IF(Q$3-5>0,Q$3-5,0) -> 0 | S9: 6. | U9: =IF(T$3-5>0,T$3-5,0) -> 0 | V9: 6. | X9: =IF(W$3-5>0,W$3-5,0) -> 0 | Y9: 6. | AA9: =IF(Z$3-5>0,Z$3-5,0) -> 0 | AB9: 6. | AD9: =IF(AC$3-5>0,AC$3-5,0) -> 0 | AE9: 6. | AG9: =IF(AF$3-5>0,AF$3-5,0) -> 0 | AH9: 6. | AI9: Galandak Dušan | AJ9: =IF(AI$3-5>0,AI$3-5,0) -> 3 | AK9: 6. | AM9: =IF(AL$3-5>0,AL$3-5,0) -> 0 | AN9: 6. | AP9: =IF(AO$3-5>0,AO$3-5,0) -> 0 | AQ9: 6. | AS9: =IF(AR$3-5>0,AR$3-5,0) -> 0 | AT9: 6. | AV9: =IF(AU$3-5>0,AU$3-5,0) -> 0 | AW9: 6. | AY9: =IF(AX$3-5>0,AX$3-5,0) -> 0 | AZ9: 6. | BB9: =IF(BA$3-5>0,BA$3-5,0) -> 0 | BC9: 6. | BE9: =IF(BD$3-5>0,BD$3-5,0) -> 0 | BF9: 6. | BH9: =IF(BG$3-5>0,BG$3-5,0) -> 0 | BI9: 6. | BK9: =IF(BJ$3-5>0,BJ$3-5,0) -> 0 | BL9: 6. | BN9: =IF(BM$3-5>0,BM$3-5,0) -> 0 | BO9: 6. | BQ9: =IF(BP$3-5>0,BP$3-5,0) -> 0 | BR9: 6. | BT9: =IF(BS$3-5>0,BS$3-5,0) -> 0 | BU9: 6. | BW9: =IF(BV$3-5>0,BV$3-5,0) -> 0 | BX9: 6. | BZ9: =IF(BY$3-5>0,BY$3-5,0) -> 0 | CA9: 6. | CC9: =IF(CB$3-5>0,CB$3-5,0) -> 0 | CD9: 6. | CF9: =IF(CE$3-5>0,CE$3-5,0) -> 0 | CG9: 6. | CI9: =IF(CH$3-5>0,CH$3-5,0) -> 0
A10: 7. | B10: Hnát Miroslav | C10: =IF(B$3-6>0,B$3-6,0) -> 5 | D10: 7. | F10: =IF(E$3-6>0,E$3-6,0) -> 0 | G10: 7. | I10: =IF(H$3-6>0,H$3-6,0) -> 0 | J10: 7. | L10: =IF(K$3-6>0,K$3-6,0) -> 0 | M10: 7. | O10: =IF(N$3-6>0,N$3-6,0) -> 0 | P10: 7. | R10: =IF(Q$3-6>0,Q$3-6,0) -> 0 | S10: 7. | U10: =IF(T$3-6>0,T$3-6,0) -> 0 | V10: 7. | X10: =IF(W$3-6>0,W$3-6,0) -> 0 | Y10: 7. | AA10: =IF(Z$3-6>0,Z$3-6,0) -> 0 | AB10: 7. | AD10: =IF(AC$3-6>0,AC$3-6,0) -> 0 | AE10: 7. | AG10: =IF(AF$3-6>0,AF$3-6,0) -> 0 | AH10: 7. | AI10: Krejbich Lukáš | AJ10: =IF(AI$3-6>0,AI$3-6,0) -> 2 | AK10: 7. | AM10: =IF(AL$3-6>0,AL$3-6,0) -> 0 | AN10: 7. | AP10: =IF(AO$3-6>0,AO$3-6,0) -> 0 | AQ10: 7. | AS10: =IF(AR$3-6>0,AR$3-6,0) -> 0 | AT10: 7. | AV10: =IF(AU$3-6>0,AU$3-6,0) -> 0 | AW10: 7. | AY10: =IF(AX$3-6>0,AX$3-6,0) -> 0 | AZ10: 7. | BB10: =IF(BA$3-6>0,BA$3-6,0) -> 0 | BC10: 7. | BE10: =IF(BD$3-6>0,BD$3-6,0) -> 0 | BF10: 7. | BH10: =IF(BG$3-6>0,BG$3-6,0) -> 0 | BI10: 7. | BK10: =IF(BJ$3-6>0,BJ$3-6,0) -> 0 | BL10: 7. | BN10: =IF(BM$3-6>0,BM$3-6,0) -> 0 | BO10: 7. | BQ10: =IF(BP$3-6>0,BP$3-6,0) -> 0 | BR10: 7. | BT10: =IF(BS$3-6>0,BS$3-6,0) -> 0 | BU10: 7. | BW10: =IF(BV$3-6>0,BV$3-6,0) -> 0 | BX10: 7. | BZ10: =IF(BY$3-6>0,BY$3-6,0) -> 0 | CA10: 7. | CC10: =IF(CB$3-6>0,CB$3-6,0) -> 0 | CD10: 7. | CF10: =IF(CE$3-6>0,CE$3-6,0) -> 0 | CG10: 7. | CI10: =IF(CH$3-6>0,CH$3-6,0) -> 0
A11: 8. | B11: Chmelík Ladislav | C11: =IF(B$3-7>0,B$3-7,0) -> 4 | D11: 8. | F11: =IF(E$3-7>0,E$3-7,0) -> 0 | G11: 8. | I11: =IF(H$3-7>0,H$3-7,0) -> 0 | J11: 8. | L11: =IF(K$3-7>0,K$3-7,0) -> 0 | M11: 8. | O11: =IF(N$3-7>0,N$3-7,0) -> 0 | P11: 8. | R11: =IF(Q$3-7>0,Q$3-7,0) -> 0 | S11: 8. | U11: =IF(T$3-7>0,T$3-7,0) -> 0 | V11: 8. | X11: =IF(W$3-7>0,W$3-7,0) -> 0 | Y11: 8. | AA11: =IF(Z$3-7>0,Z$3-7,0) -> 0 | AB11: 8. | AD11: =IF(AC$3-7>0,AC$3-7,0) -> 0 | AE11: 8. | AG11: =IF(AF$3-7>0,AF$3-7,0) -> 0 | AH11: 8. | AI11: Rastočný Josef st. | AJ11: =IF(AI$3-7>0,AI$3-7,0) -> 1 | AK11: 8. | AM11: =IF(AL$3-7>0,AL$3-7,0) -> 0 | AN11: 8. | AP11: =IF(AO$3-7>0,AO$3-7,0) -> 0 | AQ11: 8. | AS11: =IF(AR$3-7>0,AR$3-7,0) -> 0 | AT11: 8. | AV11: =IF(AU$3-7>0,AU$3-7,0) -> 0 | AW11: 8. | AY11: =IF(AX$3-7>0,AX$3-7,0) -> 0 | AZ11: 8. | BB11: =IF(BA$3-7>0,BA$3-7,0) -> 0 | BC11: 8. | BE11: =IF(BD$3-7>0,BD$3-7,0) -> 0 | BF11: 8. | BH11: =IF(BG$3-7>0,BG$3-7,0) -> 0 | BI11: 8. | BK11: =IF(BJ$3-7>0,BJ$3-7,0) -> 0 | BL11: 8. | BN11: =IF(BM$3-7>0,BM$3-7,0) -> 0 | BO11: 8. | BQ11: =IF(BP$3-7>0,BP$3-7,0) -> 0 | BR11: 8. | BT11: =IF(BS$3-7>0,BS$3-7,0) -> 0 | BU11: 8. | BW11: =IF(BV$3-7>0,BV$3-7,0) -> 0 | BX11: 8. | BZ11: =IF(BY$3-7>0,BY$3-7,0) -> 0 | CA11: 8. | CC11: =IF(CB$3-7>0,CB$3-7,0) -> 0 | CD11: 8. | CF11: =IF(CE$3-7>0,CE$3-7,0) -> 0 | CG11: 8. | CI11: =IF(CH$3-7>0,CH$3-7,0) -> 0
A12: 9. | B12: Kubeček Michal | C12: =IF(B$3-8>0,B$3-8,0) -> 3 | D12: 9. | F12: =IF(E$3-8>0,E$3-8,0) -> 0 | G12: 9. | I12: =IF(H$3-8>0,H$3-8,0) -> 0 | J12: 9. | L12: =IF(K$3-8>0,K$3-8,0) -> 0 | M12: 9. | O12: =IF(N$3-8>0,N$3-8,0) -> 0 | P12: 9. | R12: =IF(Q$3-8>0,Q$3-8,0) -> 0 | S12: 9. | U12: =IF(T$3-8>0,T$3-8,0) -> 0 | V12: 9. | X12: =IF(W$3-8>0,W$3-8,0) -> 0 | Y12: 9. | AA12: =IF(Z$3-8>0,Z$3-8,0) -> 0 | AB12: 9. | AD12: =IF(AC$3-8>0,AC$3-8,0) -> 0 | AE12: 9. | AG12: =IF(AF$3-8>0,AF$3-8,0) -> 0 | AH12: 9. | AJ12: =IF(AI$3-8>0,AI$3-8,0) -> 0 | AK12: 9. | AM12: =IF(AL$3-8>0,AL$3-8,0) -> 0 | AN12: 9. | AP12: =IF(AO$3-8>0,AO$3-8,0) -> 0 | AQ12: 9. | AS12: =IF(AR$3-8>0,AR$3-8,0) -> 0 | AT12: 9. | AV12: =IF(AU$3-8>0,AU$3-8,0) -> 0 | AW12: 9. | AY12: =IF(AX$3-8>0,AX$3-8,0) -> 0 | AZ12: 9. | BB12: =IF(BA$3-8>0,BA$3-8,0) -> 0 | BC12: 9. | BE12: =IF(BD$3-8>0,BD$3-8,0) -> 0 | BF12: 9. | BH12: =IF(BG$3-8>0,BG$3-8,0) -> 0 | BI12: 9. | BK12: =IF(BJ$3-8>0,BJ$3-8,0) -> 0 | BL12: 9. | BN12: =IF(BM$3-8>0,BM$3-8,0) -> 0 | BO12: 9. | BQ12: =IF(BP$3-8>0,BP$3-8,0) -> 0 | BR12: 9. | BT12: =IF(BS$3-8>0,BS$3-8,0) -> 0 | BU12: 9. | BW12: =IF(BV$3-8>0,BV$3-8,0) -> 0 | BX12: 9. | BZ12: =IF(BY$3-8>0,BY$3-8,0) -> 0 | CA12: 9. | CC12: =IF(CB$3-8>0,CB$3-8,0) -> 0 | CD12: 9. | CF12: =IF(CE$3-8>0,CE$3-8,0) -> 0 | CG12: 9. | CI12: =IF(CH$3-8>0,CH$3-8,0) -> 0
A13: 10. | B13: Krejbich Lukáš | C13: =IF(B$3-9>0,B$3-9,0) -> 2 | D13: 10. | F13: =IF(E$3-9>0,E$3-9,0) -> 0 | G13: 10. | I13: =IF(H$3-9>0,H$3-9,0) -> 0 | J13: 10. | L13: =IF(K$3-9>0,K$3-9,0) -> 0 | M13: 10. | O13: =IF(N$3-9>0,N$3-9,0) -> 0 | P13: 10. | R13: =IF(Q$3-9>0,Q$3-9,0) -> 0 | S13: 10. | U13: =IF(T$3-9>0,T$3-9,0) -> 0 | V13: 10. | X13: =IF(W$3-9>0,W$3-9,0) -> 0 | Y13: 10. | AA13: =IF(Z$3-9>0,Z$3-9,0) -> 0 | AB13: 10. | AD13: =IF(AC$3-9>0,AC$3-9,0) -> 0 | AE13: 10. | AG13: =IF(AF$3-9>0,AF$3-9,0) -> 0 | AH13: 10. | AJ13: =IF(AI$3-9>0,AI$3-9,0) -> 0 | AK13: 10. | AM13: =IF(AL$3-9>0,AL$3-9,0) -> 0 | AN13: 10. | AP13: =IF(AO$3-9>0,AO$3-9,0) -> 0 | AQ13: 10. | AS13: =IF(AR$3-9>0,AR$3-9,0) -> 0 | AT13: 10. | AV13: =IF(AU$3-9>0,AU$3-9,0) -> 0 | AW13: 10. | AY13: =IF(AX$3-9>0,AX$3-9,0) -> 0 | AZ13: 10. | BB13: =IF(BA$3-9>0,BA$3-9,0) -> 0 | BC13: 10. | BE13: =IF(BD$3-9>0,BD$3-9,0) -> 0 | BF13: 10. | BH13: =IF(BG$3-9>0,BG$3-9,0) -> 0 | BI13: 10. | BK13: =IF(BJ$3-9>0,BJ$3-9,0) -> 0 | BL13: 10. | BN13: =IF(BM$3-9>0,BM$3-9,0) -> 0 | BO13: 10. | BQ13: =IF(BP$3-9>0,BP$3-9,0) -> 0 | BR13: 10. | BT13: =IF(BS$3-9>0,BS$3-9,0) -> 0 | BU13: 10. | BW13: =IF(BV$3-9>0,BV$3-9,0) -> 0 | BX13: 10. | BZ13: =IF(BY$3-9>0,BY$3-9,0) -> 0 | CA13: 10. | CC13: =IF(CB$3-9>0,CB$3-9,0) -> 0 | CD13: 10. | CF13: =IF(CE$3-9>0,CE$3-9,0) -> 0 | CG13: 10. | CI13: =IF(CH$3-9>0,CH$3-9,0) -> 0
A14: 11. | B14: Plichta Tomáš | C14: =IF(B$3-10>0,B$3-10,0) -> 1 | D14: 11. | F14: =IF(E$3-10>0,E$3-10,0) -> 0 | G14: 11. | I14: =IF(H$3-10>0,H$3-10,0) -> 0 | J14: 11. | L14: =IF(K$3-10>0,K$3-10,0) -> 0 | M14: 11. | O14: =IF(N$3-10>0,N$3-10,0) -> 0 | P14: 11. | R14: =IF(Q$3-10>0,Q$3-10,0) -> 0 | S14: 11. | U14: =IF(T$3-10>0,T$3-10,0) -> 0 | V14: 11. | X14: =IF(W$3-10>0,W$3-10,0) -> 0 | Y14: 11. | AA14: =IF(Z$3-10>0,Z$3-10,0) -> 0 | AB14: 11. | AD14: =IF(AC$3-10>0,AC$3-10,0) -> 0 | AE14: 11. | AG14: =IF(AF$3-10>0,AF$3-10,0) -> 0 | AH14: 11. | AJ14: =IF(AI$3-10>0,AI$3-10,0) -> 0 | AK14: 11. | AM14: =IF(AL$3-10>0,AL$3-10,0) -> 0 | AN14: 11. | AP14: =IF(AO$3-10>0,AO$3-10,0) -> 0 | AQ14: 11. | AS14: =IF(AR$3-10>0,AR$3-10,0) -> 0 | AT14: 11. | AV14: =IF(AU$3-10>0,AU$3-10,0) -> 0 | AW14: 11. | AY14: =IF(AX$3-10>0,AX$3-10,0) -> 0 | AZ14: 11. | BB14: =IF(BA$3-10>0,BA$3-10,0) -> 0 | BC14: 11. | BE14: =IF(BD$3-10>0,BD$3-10,0) -> 0 | BF14: 11. | BH14: =IF(BG$3-10>0,BG$3-10,0) -> 0 | BI14: 11. | BK14: =IF(BJ$3-10>0,BJ$3-10,0) -> 0 | BL14: 11. | BN14: =IF(BM$3-10>0,BM$3-10,0) -> 0 | BO14: 11. | BQ14: =IF(BP$3-10>0,BP$3-10,0) -> 0 | BR14: 11. | BT14: =IF(BS$3-10>0,BS$3-10,0) -> 0 | BU14: 11. | BW14: =IF(BV$3-10>0,BV$3-10,0) -> 0 | BX14: 11. | BZ14: =IF(BY$3-10>0,BY$3-10,0) -> 0 | CA14: 11. | CC14: =IF(CB$3-10>0,CB$3-10,0) -> 0 | CD14: 11. | CF14: =IF(CE$3-10>0,CE$3-10,0) -> 0 | CG14: 11. | CI14: =IF(CH$3-10>0,CH$3-10,0) -> 0
A15: 12. | C15: =IF(B$3-11>0,B$3-11,0) -> 0 | D15: 12. | F15: =IF(E$3-11>0,E$3-11,0) -> 0 | G15: 12. | I15: =IF(H$3-11>0,H$3-11,0) -> 0 | J15: 12. | L15: =IF(K$3-11>0,K$3-11,0) -> 0 | M15: 12. | O15: =IF(N$3-11>0,N$3-11,0) -> 0 | P15: 12. | R15: =IF(Q$3-11>0,Q$3-11,0) -> 0 | S15: 12. | U15: =IF(T$3-11>0,T$3-11,0) -> 0 | V15: 12. | X15: =IF(W$3-11>0,W$3-11,0) -> 0 | Y15: 12. | AA15: =IF(Z$3-11>0,Z$3-11,0) -> 0 | AB15: 12. | AD15: =IF(AC$3-11>0,AC$3-11,0) -> 0 | AE15: 12. | AG15: =IF(AF$3-11>0,AF$3-11,0) -> 0 | AH15: 12. | AJ15: =IF(AI$3-11>0,AI$3-11,0) -> 0 | AK15: 12. | AM15: =IF(AL$3-11>0,AL$3-11,0) -> 0 | AN15: 12. | AP15: =IF(AO$3-11>0,AO$3-11,0) -> 0 | AQ15: 12. | AS15: =IF(AR$3-11>0,AR$3-11,0) -> 0 | AT15: 12. | AV15: =IF(AU$3-11>0,AU$3-11,0) -> 0 | AW15: 12. | AY15: =IF(AX$3-11>0,AX$3-11,0) -> 0 | AZ15: 12. | BB15: =IF(BA$3-11>0,BA$3-11,0) -> 0 | BC15: 12. | BE15: =IF(BD$3-11>0,BD$3-11,0) -> 0 | BF15: 12. | BH15: =IF(BG$3-11>0,BG$3-11,0) -> 0 | BI15: 12. | BK15: =IF(BJ$3-11>0,BJ$3-11,0) -> 0 | BL15: 12. | BN15: =IF(BM$3-11>0,BM$3-11,0) -> 0 | BO15: 12. | BQ15: =IF(BP$3-11>0,BP$3-11,0) -> 0 | BR15: 12. | BT15: =IF(BS$3-11>0,BS$3-11,0) -> 0 | BU15: 12. | BW15: =IF(BV$3-11>0,BV$3-11,0) -> 0 | BX15: 12. | BZ15: =IF(BY$3-11>0,BY$3-11,0) -> 0 | CA15: 12. | CC15: =IF(CB$3-11>0,CB$3-11,0) -> 0 | CD15: 12. | CF15: =IF(CE$3-11>0,CE$3-11,0) -> 0 | CG15: 12. | CI15: =IF(CH$3-11>0,CH$3-11,0) -> 0
A16: 13. | C16: =IF(B$3-12>0,B$3-12,0) -> 0 | D16: 13. | F16: =IF(E$3-12>0,E$3-12,0) -> 0 | G16: 13. | I16: =IF(H$3-12>0,H$3-12,0) -> 0 | J16: 13. | L16: =IF(K$3-12>0,K$3-12,0) -> 0 | M16: 13. | O16: =IF(N$3-12>0,N$3-12,0) -> 0 | P16: 13. | R16: =IF(Q$3-12>0,Q$3-12,0) -> 0 | S16: 13. | U16: =IF(T$3-12>0,T$3-12,0) -> 0 | V16: 13. | X16: =IF(W$3-12>0,W$3-12,0) -> 0 | Y16: 13. | AA16: =IF(Z$3-12>0,Z$3-12,0) -> 0 | AB16: 13. | AD16: =IF(AC$3-12>0,AC$3-12,0) -> 0 | AE16: 13. | AG16: =IF(AF$3-12>0,AF$3-12,0) -> 0 | AH16: 13. | AJ16: =IF(AI$3-12>0,AI$3-12,0) -> 0 | AK16: 13. | AM16: =IF(AL$3-12>0,AL$3-12,0) -> 0 | AN16: 13. | AP16: =IF(AO$3-12>0,AO$3-12,0) -> 0 | AQ16: 13. | AS16: =IF(AR$3-12>0,AR$3-12,0) -> 0 | AT16: 13. | AV16: =IF(AU$3-12>0,AU$3-12,0) -> 0 | AW16: 13. | AY16: =IF(AX$3-12>0,AX$3-12,0) -> 0 | AZ16: 13. | BB16: =IF(BA$3-12>0,BA$3-12,0) -> 0 | BC16: 13. | BE16: =IF(BD$3-12>0,BD$3-12,0) -> 0 | BF16: 13. | BH16: =IF(BG$3-12>0,BG$3-12,0) -> 0 | BI16: 13. | BK16: =IF(BJ$3-12>0,BJ$3-12,0) -> 0 | BL16: 13. | BN16: =IF(BM$3-12>0,BM$3-12,0) -> 0 | BO16: 13. | BQ16: =IF(BP$3-12>0,BP$3-12,0) -> 0 | BR16: 13. | BT16: =IF(BS$3-12>0,BS$3-12,0) -> 0 | BU16: 13. | BW16: =IF(BV$3-12>0,BV$3-12,0) -> 0 | BX16: 13. | BZ16: =IF(BY$3-12>0,BY$3-12,0) -> 0 | CA16: 13. | CC16: =IF(CB$3-12>0,CB$3-12,0) -> 0 | CD16: 13. | CF16: =IF(CE$3-12>0,CE$3-12,0) -> 0 | CG16: 13. | CI16: =IF(CH$3-12>0,CH$3-12,0) -> 0
A17: 14. | C17: =IF(B$3-13>0,B$3-13,0) -> 0 | D17: 14. | F17: =IF(E$3-13>0,E$3-13,0) -> 0 | G17: 14. | I17: =IF(H$3-13>0,H$3-13,0) -> 0 | J17: 14. | L17: =IF(K$3-13>0,K$3-13,0) -> 0 | M17: 14. | O17: =IF(N$3-13>0,N$3-13,0) -> 0 | P17: 14. | R17: =IF(Q$3-13>0,Q$3-13,0) -> 0 | S17: 14. | U17: =IF(T$3-13>0,T$3-13,0) -> 0 | V17: 14. | X17: =IF(W$3-13>0,W$3-13,0) -> 0 | Y17: 14. | AA17: =IF(Z$3-13>0,Z$3-13,0) -> 0 | AB17: 14. | AD17: =IF(AC$3-13>0,AC$3-13,0) -> 0 | AE17: 14. | AG17: =IF(AF$3-13>0,AF$3-13,0) -> 0 | AH17: 14. | AJ17: =IF(AI$3-13>0,AI$3-13,0) -> 0 | AK17: 14. | AM17: =IF(AL$3-13>0,AL$3-13,0) -> 0 | AN17: 14. | AP17: =IF(AO$3-13>0,AO$3-13,0) -> 0 | AQ17: 14. | AS17: =IF(AR$3-13>0,AR$3-13,0) -> 0 | AT17: 14. | AV17: =IF(AU$3-13>0,AU$3-13,0) -> 0 | AW17: 14. | AY17: =IF(AX$3-13>0,AX$3-13,0) -> 0 | AZ17: 14. | BB17: =IF(BA$3-13>0,BA$3-13,0) -> 0 | BC17: 14. | BE17: =IF(BD$3-13>0,BD$3-13,0) -> 0 | BF17: 14. | BH17: =IF(BG$3-13>0,BG$3-13,0) -> 0 | BI17: 14. | BK17: =IF(BJ$3-13>0,BJ$3-13,0) -> 0 | BL17: 14. | BN17: =IF(BM$3-13>0,BM$3-13,0) -> 0 | BO17: 14. | BQ17: =IF(BP$3-13>0,BP$3-13,0) -> 0 | BR17: 14. | BT17: =IF(BS$3-13>0,BS$3-13,0) -> 0 | BU17: 14. | BW17: =IF(BV$3-13>0,BV$3-13,0) -> 0 | BX17: 14. | BZ17: =IF(BY$3-13>0,BY$3-13,0) -> 0 | CA17: 14. | CC17: =IF(CB$3-13>0,CB$3-13,0) -> 0 | CD17: 14. | CF17: =IF(CE$3-13>0,CE$3-13,0) -> 0 | CG17: 14. | CI17: =IF(CH$3-13>0,CH$3-13,0) -> 0
A18: 15. | C18: =IF(B$3-14>0,B$3-14,0) -> 0 | D18: 15. | F18: =IF(E$3-14>0,E$3-14,0) -> 0 | G18: 15. | I18: =IF(H$3-14>0,H$3-14,0) -> 0 | J18: 15. | L18: =IF(K$3-14>0,K$3-14,0) -> 0 | M18: 15. | O18: =IF(N$3-14>0,N$3-14,0) -> 0 | P18: 15. | R18: =IF(Q$3-14>0,Q$3-14,0) -> 0 | S18: 15. | U18: =IF(T$3-14>0,T$3-14,0) -> 0 | V18: 15. | X18: =IF(W$3-14>0,W$3-14,0) -> 0 | Y18: 15. | AA18: =IF(Z$3-14>0,Z$3-14,0) -> 0 | AB18: 15. | AD18: =IF(AC$3-14>0,AC$3-14,0) -> 0 | AE18: 15. | AG18: =IF(AF$3-14>0,AF$3-14,0) -> 0 | AH18: 15. | AJ18: =IF(AI$3-14>0,AI$3-14,0) -> 0 | AK18: 15. | AM18: =IF(AL$3-14>0,AL$3-14,0) -> 0 | AN18: 15. | AP18: =IF(AO$3-14>0,AO$3-14,0) -> 0 | AQ18: 15. | AS18: =IF(AR$3-14>0,AR$3-14,0) -> 0 | AT18: 15. | AV18: =IF(AU$3-14>0,AU$3-14,0) -> 0 | AW18: 15. | AY18: =IF(AX$3-14>0,AX$3-14,0) -> 0 | AZ18: 15. | BB18: =IF(BA$3-14>0,BA$3-14,0) -> 0 | BC18: 15. | BE18: =IF(BD$3-14>0,BD$3-14,0) -> 0 | BF18: 15. | BH18: =IF(BG$3-14>0,BG$3-14,0) -> 0 | BI18: 15. | BK18: =IF(BJ$3-14>0,BJ$3-14,0) -> 0 | BL18: 15. | BN18: =IF(BM$3-14>0,BM$3-14,0) -> 0 | BO18: 15. | BQ18: =IF(BP$3-14>0,BP$3-14,0) -> 0 | BR18: 15. | BT18: =IF(BS$3-14>0,BS$3-14,0) -> 0 | BU18: 15. | BW18: =IF(BV$3-14>0,BV$3-14,0) -> 0 | BX18: 15. | BZ18: =IF(BY$3-14>0,BY$3-14,0) -> 0 | CA18: 15. | CC18: =IF(CB$3-14>0,CB$3-14,0) -> 0 | CD18: 15. | CF18: =IF(CE$3-14>0,CE$3-14,0) -> 0 | CG18: 15. | CI18: =IF(CH$3-14>0,CH$3-14,0) -> 0
A19: 16. | C19: =IF(B$3-15>0,B$3-15,0) -> 0 | D19: 16. | F19: =IF(E$3-15>0,E$3-15,0) -> 0 | G19: 16. | I19: =IF(H$3-15>0,H$3-15,0) -> 0 | J19: 16. | L19: =IF(K$3-15>0,K$3-15,0) -> 0 | M19: 16. | O19: =IF(N$3-15>0,N$3-15,0) -> 0 | P19: 16. | R19: =IF(Q$3-15>0,Q$3-15,0) -> 0 | S19: 16. | U19: =IF(T$3-15>0,T$3-15,0) -> 0 | V19: 16. | X19: =IF(W$3-15>0,W$3-15,0) -> 0 | Y19: 16. | AA19: =IF(Z$3-15>0,Z$3-15,0) -> 0 | AB19: 16. | AD19: =IF(AC$3-15>0,AC$3-15,0) -> 0 | AE19: 16. | AG19: =IF(AF$3-15>0,AF$3-15,0) -> 0 | AH19: 16. | AJ19: =IF(AI$3-15>0,AI$3-15,0) -> 0 | AK19: 16. | AM19: =IF(AL$3-15>0,AL$3-15,0) -> 0 | AN19: 16. | AP19: =IF(AO$3-15>0,AO$3-15,0) -> 0 | AQ19: 16. | AS19: =IF(AR$3-15>0,AR$3-15,0) -> 0 | AT19: 16. | AV19: =IF(AU$3-15>0,AU$3-15,0) -> 0 | AW19: 16. | AY19: =IF(AX$3-15>0,AX$3-15,0) -> 0 | AZ19: 16. | BB19: =IF(BA$3-15>0,BA$3-15,0) -> 0 | BC19: 16. | BE19: =IF(BD$3-15>0,BD$3-15,0) -> 0 | BF19: 16. | BH19: =IF(BG$3-15>0,BG$3-15,0) -> 0 | BI19: 16. | BK19: =IF(BJ$3-15>0,BJ$3-15,0) -> 0 | BL19: 16. | BN19: =IF(BM$3-15>0,BM$3-15,0) -> 0 | BO19: 16. | BQ19: =IF(BP$3-15>0,BP$3-15,0) -> 0 | BR19: 16. | BT19: =IF(BS$3-15>0,BS$3-15,0) -> 0 | BU19: 16. | BW19: =IF(BV$3-15>0,BV$3-15,0) -> 0 | BX19: 16. | BZ19: =IF(BY$3-15>0,BY$3-15,0) -> 0 | CA19: 16. | CC19: =IF(CB$3-15>0,CB$3-15,0) -> 0 | CD19: 16. | CF19: =IF(CE$3-15>0,CE$3-15,0) -> 0 | CG19: 16. | CI19: =IF(CH$3-15>0,CH$3-15,0) -> 0
A20: 17. | C20: =IF(B$3-16>0,B$3-16,0) -> 0 | D20: 17. | F20: =IF(E$3-16>0,E$3-16,0) -> 0 | G20: 17. | I20: =IF(H$3-16>0,H$3-16,0) -> 0 | J20: 17. | L20: =IF(K$3-16>0,K$3-16,0) -> 0 | M20: 17. | O20: =IF(N$3-16>0,N$3-16,0) -> 0 | P20: 17. | R20: =IF(Q$3-16>0,Q$3-16,0) -> 0 | S20: 17. | U20: =IF(T$3-16>0,T$3-16,0) -> 0 | V20: 17. | X20: =IF(W$3-16>0,W$3-16,0) -> 0 | Y20: 17. | AA20: =IF(Z$3-16>0,Z$3-16,0) -> 0 | AB20: 17. | AD20: =IF(AC$3-16>0,AC$3-16,0) -> 0 | AE20: 17. | AG20: =IF(AF$3-16>0,AF$3-16,0) -> 0 | AH20: 17. | AJ20: =IF(AI$3-16>0,AI$3-16,0) -> 0 | AK20: 17. | AM20: =IF(AL$3-16>0,AL$3-16,0) -> 0 | AN20: 17. | AP20: =IF(AO$3-16>0,AO$3-16,0) -> 0 | AQ20: 17. | AS20: =IF(AR$3-16>0,AR$3-16,0) -> 0 | AT20: 17. | AV20: =IF(AU$3-16>0,AU$3-16,0) -> 0 | AW20: 17. | AY20: =IF(AX$3-16>0,AX$3-16,0) -> 0 | AZ20: 17. | BB20: =IF(BA$3-16>0,BA$3-16,0) -> 0 | BC20: 17. | BE20: =IF(BD$3-16>0,BD$3-16,0) -> 0 | BF20: 17. | BH20: =IF(BG$3-16>0,BG$3-16,0) -> 0 | BI20: 17. | BK20: =IF(BJ$3-16>0,BJ$3-16,0) -> 0 | BL20: 17. | BN20: =IF(BM$3-16>0,BM$3-16,0) -> 0 | BO20: 17. | BQ20: =IF(BP$3-16>0,BP$3-16,0) -> 0 | BR20: 17. | BT20: =IF(BS$3-16>0,BS$3-16,0) -> 0 | BU20: 17. | BW20: =IF(BV$3-16>0,BV$3-16,0) -> 0 | BX20: 17. | BZ20: =IF(BY$3-16>0,BY$3-16,0) -> 0 | CA20: 17. | CC20: =IF(CB$3-16>0,CB$3-16,0) -> 0 | CD20: 17. | CF20: =IF(CE$3-16>0,CE$3-16,0) -> 0 | CG20: 17. | CI20: =IF(CH$3-16>0,CH$3-16,0) -> 0
A21: 18. | C21: =IF(B$3-17>0,B$3-17,0) -> 0 | D21: 18. | F21: =IF(E$3-17>0,E$3-17,0) -> 0 | G21: 18. | I21: =IF(H$3-17>0,H$3-17,0) -> 0 | J21: 18. | L21: =IF(K$3-17>0,K$3-17,0) -> 0 | M21: 18. | O21: =IF(N$3-17>0,N$3-17,0) -> 0 | P21: 18. | R21: =IF(Q$3-17>0,Q$3-17,0) -> 0 | S21: 18. | U21: =IF(T$3-17>0,T$3-17,0) -> 0 | V21: 18. | X21: =IF(W$3-17>0,W$3-17,0) -> 0 | Y21: 18. | AA21: =IF(Z$3-17>0,Z$3-17,0) -> 0 | AB21: 18. | AD21: =IF(AC$3-17>0,AC$3-17,0) -> 0 | AE21: 18. | AG21: =IF(AF$3-17>0,AF$3-17,0) -> 0 | AH21: 18. | AJ21: =IF(AI$3-17>0,AI$3-17,0) -> 0 | AK21: 18. | AM21: =IF(AL$3-17>0,AL$3-17,0) -> 0 | AN21: 18. | AP21: =IF(AO$3-17>0,AO$3-17,0) -> 0 | AQ21: 18. | AS21: =IF(AR$3-17>0,AR$3-17,0) -> 0 | AT21: 18. | AV21: =IF(AU$3-17>0,AU$3-17,0) -> 0 | AW21: 18. | AY21: =IF(AX$3-17>0,AX$3-17,0) -> 0 | AZ21: 18. | BB21: =IF(BA$3-17>0,BA$3-17,0) -> 0 | BC21: 18. | BE21: =IF(BD$3-17>0,BD$3-17,0) -> 0 | BF21: 18. | BH21: =IF(BG$3-17>0,BG$3-17,0) -> 0 | BI21: 18. | BK21: =IF(BJ$3-17>0,BJ$3-17,0) -> 0 | BL21: 18. | BN21: =IF(BM$3-17>0,BM$3-17,0) -> 0 | BO21: 18. | BQ21: =IF(BP$3-17>0,BP$3-17,0) -> 0 | BR21: 18. | BT21: =IF(BS$3-17>0,BS$3-17,0) -> 0 | BU21: 18. | BW21: =IF(BV$3-17>0,BV$3-17,0) -> 0 | BX21: 18. | BZ21: =IF(BY$3-17>0,BY$3-17,0) -> 0 | CA21: 18. | CC21: =IF(CB$3-17>0,CB$3-17,0) -> 0 | CD21: 18. | CF21: =IF(CE$3-17>0,CE$3-17,0) -> 0 | CG21: 18. | CI21: =IF(CH$3-17>0,CH$3-17,0) -> 0
A22: 19. | C22: =IF(B$3-18>0,B$3-18,0) -> 0 | D22: 19. | F22: =IF(E$3-18>0,E$3-18,0) -> 0 | G22: 19. | I22: =IF(H$3-18>0,H$3-18,0) -> 0 | J22: 19. | L22: =IF(K$3-18>0,K$3-18,0) -> 0 | M22: 19. | O22: =IF(N$3-18>0,N$3-18,0) -> 0 | P22: 19. | R22: =IF(Q$3-18>0,Q$3-18,0) -> 0 | S22: 19. | U22: =IF(T$3-18>0,T$3-18,0) -> 0 | V22: 19. | X22: =IF(W$3-18>0,W$3-18,0) -> 0 | Y22: 19. | AA22: =IF(Z$3-18>0,Z$3-18,0) -> 0 | AB22: 19. | AD22: =IF(AC$3-18>0,AC$3-18,0) -> 0 | AE22: 19. | AG22: =IF(AF$3-18>0,AF$3-18,0) -> 0 | AH22: 19. | AJ22: =IF(AI$3-18>0,AI$3-18,0) -> 0 | AK22: 19. | AM22: =IF(AL$3-18>0,AL$3-18,0) -> 0 | AN22: 19. | AP22: =IF(AO$3-18>0,AO$3-18,0) -> 0 | AQ22: 19. | AS22: =IF(AR$3-18>0,AR$3-18,0) -> 0 | AT22: 19. | AV22: =IF(AU$3-18>0,AU$3-18,0) -> 0 | AW22: 19. | AY22: =IF(AX$3-18>0,AX$3-18,0) -> 0 | AZ22: 19. | BB22: =IF(BA$3-18>0,BA$3-18,0) -> 0 | BC22: 19. | BE22: =IF(BD$3-18>0,BD$3-18,0) -> 0 | BF22: 19. | BH22: =IF(BG$3-18>0,BG$3-18,0) -> 0 | BI22: 19. | BK22: =IF(BJ$3-18>0,BJ$3-18,0) -> 0 | BL22: 19. | BN22: =IF(BM$3-18>0,BM$3-18,0) -> 0 | BO22: 19. | BQ22: =IF(BP$3-18>0,BP$3-18,0) -> 0 | BR22: 19. | BT22: =IF(BS$3-18>0,BS$3-18,0) -> 0 | BU22: 19. | BW22: =IF(BV$3-18>0,BV$3-18,0) -> 0 | BX22: 19. | BZ22: =IF(BY$3-18>0,BY$3-18,0) -> 0 | CA22: 19. | CC22: =IF(CB$3-18>0,CB$3-18,0) -> 0 | CD22: 19. | CF22: =IF(CE$3-18>0,CE$3-18,0) -> 0 | CG22: 19. | CI22: =IF(CH$3-18>0,CH$3-18,0) -> 0
A23: 20. | C23: =IF(B$3-19>0,B$3-19,0) -> 0 | D23: 20. | F23: =IF(E$3-19>0,E$3-19,0) -> 0 | G23: 20. | I23: =IF(H$3-19>0,H$3-19,0) -> 0 | J23: 20. | L23: =IF(K$3-19>0,K$3-19,0) -> 0 | M23: 20. | O23: =IF(N$3-19>0,N$3-19,0) -> 0 | P23: 20. | R23: =IF(Q$3-19>0,Q$3-19,0) -> 0 | S23: 20. | U23: =IF(T$3-19>0,T$3-19,0) -> 0 | V23: 20. | X23: =IF(W$3-19>0,W$3-19,0) -> 0 | Y23: 20. | AA23: =IF(Z$3-19>0,Z$3-19,0) -> 0 | AB23: 20. | AD23: =IF(AC$3-19>0,AC$3-19,0) -> 0 | AE23: 20. | AG23: =IF(AF$3-19>0,AF$3-19,0) -> 0 | AH23: 20. | AJ23: =IF(AI$3-19>0,AI$3-19,0) -> 0 | AK23: 20. | AM23: =IF(AL$3-19>0,AL$3-19,0) -> 0 | AN23: 20. | AP23: =IF(AO$3-19>0,AO$3-19,0) -> 0 | AQ23: 20. | AS23: =IF(AR$3-19>0,AR$3-19,0) -> 0 | AT23: 20. | AV23: =IF(AU$3-19>0,AU$3-19,0) -> 0 | AW23: 20. | AY23: =IF(AX$3-19>0,AX$3-19,0) -> 0 | AZ23: 20. | BB23: =IF(BA$3-19>0,BA$3-19,0) -> 0 | BC23: 20. | BE23: =IF(BD$3-19>0,BD$3-19,0) -> 0 | BF23: 20. | BH23: =IF(BG$3-19>0,BG$3-19,0) -> 0 | BI23: 20. | BK23: =IF(BJ$3-19>0,BJ$3-19,0) -> 0 | BL23: 20. | BN23: =IF(BM$3-19>0,BM$3-19,0) -> 0 | BO23: 20. | BQ23: =IF(BP$3-19>0,BP$3-19,0) -> 0 | BR23: 20. | BT23: =IF(BS$3-19>0,BS$3-19,0) -> 0 | BU23: 20. | BW23: =IF(BV$3-19>0,BV$3-19,0) -> 0 | BX23: 20. | BZ23: =IF(BY$3-19>0,BY$3-19,0) -> 0 | CA23: 20. | CC23: =IF(CB$3-19>0,CB$3-19,0) -> 0 | CD23: 20. | CF23: =IF(CE$3-19>0,CE$3-19,0) -> 0 | CG23: 20. | CI23: =IF(CH$3-19>0,CH$3-19,0) -> 0
